BEGIN:VCALENDAR
VERSION:2.0
PRODID:-//Literaturszene Köln e.V. - ECPv6.15.20//NONSGML v1.0//EN
CALSCALE:GREGORIAN
METHOD:PUBLISH
X-ORIGINAL-URL:https://literaturszene-koeln.de
X-WR-CALDESC:Veranstaltungen für Literaturszene Köln e.V.
REFRESH-INTERVAL;VALUE=DURATION:PT1H
X-Robots-Tag:noindex
X-PUBLISHED-TTL:PT1H
BEGIN:VTIMEZONE
TZID:Europe/Berlin
BEGIN:DAYLIGHT
TZOFFSETFROM:+0100
TZOFFSETTO:+0200
TZNAME:CEST
DTSTART:20190331T010000
END:DAYLIGHT
BEGIN:STANDARD
TZOFFSETFROM:+0200
TZOFFSETTO:+0100
TZNAME:CET
DTSTART:20191027T010000
END:STANDARD
BEGIN:DAYLIGHT
TZOFFSETFROM:+0100
TZOFFSETTO:+0200
TZNAME:CEST
DTSTART:20200329T010000
END:DAYLIGHT
BEGIN:STANDARD
TZOFFSETFROM:+0200
TZOFFSETTO:+0100
TZNAME:CET
DTSTART:20201025T010000
END:STANDARD
BEGIN:DAYLIGHT
TZOFFSETFROM:+0100
TZOFFSETTO:+0200
TZNAME:CEST
DTSTART:20210328T010000
END:DAYLIGHT
BEGIN:STANDARD
TZOFFSETFROM:+0200
TZOFFSETTO:+0100
TZNAME:CET
DTSTART:20211031T010000
END:STANDARD
BEGIN:DAYLIGHT
TZOFFSETFROM:+0100
TZOFFSETTO:+0200
TZNAME:CEST
DTSTART:20220327T010000
END:DAYLIGHT
BEGIN:STANDARD
TZOFFSETFROM:+0200
TZOFFSETTO:+0100
TZNAME:CET
DTSTART:20221030T010000
END:STANDARD
BEGIN:DAYLIGHT
TZOFFSETFROM:+0100
TZOFFSETTO:+0200
TZNAME:CEST
DTSTART:20230326T010000
END:DAYLIGHT
BEGIN:STANDARD
TZOFFSETFROM:+0200
TZOFFSETTO:+0100
TZNAME:CET
DTSTART:20231029T010000
END:STANDARD
BEGIN:DAYLIGHT
TZOFFSETFROM:+0100
TZOFFSETTO:+0200
TZNAME:CEST
DTSTART:20240331T010000
END:DAYLIGHT
BEGIN:STANDARD
TZOFFSETFROM:+0200
TZOFFSETTO:+0100
TZNAME:CET
DTSTART:20241027T010000
END:STANDARD
END:VTIMEZONE
BEGIN:VEVENT
DTSTART;TZID=Europe/Berlin:20231026T190000
DTEND;TZID=Europe/Berlin:20231026T203000
DTSTAMP:20260422T175027
CREATED:20231023T173217Z
LAST-MODIFIED:20231023T173217Z
UID:20627-1698346800-1698352200@literaturszene-koeln.de
SUMMARY:Worte gesetzt auf Leben und Tod. Abraham Sutzkever - ein Dichterleben in Jiddisch (Lesung)
DESCRIPTION:Lesung mit Gedichten und Prosa Sutzkevers. Der wunderbare Bernt Hahn wird die Texte lesen. Die jiddischen Texte liest Janina Wurbs. (Kleine Änderung bei der Musik! Sie werden Annette und Thomas Siebert machen.)
URL:https://literaturszene-koeln.de/termin/worte-gesetzt-auf-leben-und-tod-abraham-sutzkever-ein-dichterleben-in-jiddisch-lesung/
LOCATION:Zentralbibliothek\, Josef-Haubrich-Hof 1\, Köln\, 50676\, Deutschland
CATEGORIES:Gespräche,Lesung mit Musik
ATTACH;FMTTYPE=image/jpeg:https://literaturszene-koeln.de/wp-content/uploads/2023/10/0.jpg
END:VEVENT
BEGIN:VEVENT
DTSTART;TZID=Europe/Berlin:20230611T150000
DTEND;TZID=Europe/Berlin:20230611T163000
DTSTAMP:20260422T175027
CREATED:20230511T203726Z
LAST-MODIFIED:20230526T215141Z
UID:19823-1686495600-1686501000@literaturszene-koeln.de
SUMMARY:Junges Buch für die Stadt
DESCRIPTION:Anmeldung über Stadtbibliothek Köln: https://stadt-koeln.easy2book.de/?s=junges \nDas Bilderbuch Endlich wieder zelten (Beltz & Gelberg) von Philip Waechter ist das »Junge Buch für die Stadt« 2023. Bei der Familienveranstaltung in der Zentralbibliothek stellt Philip Waechter zusammen mit Britta Weyers das Buch vor. Das Tagebuch in Comic-Form erzählt humorvoll von Tim und seiner Familie\, die sowohl die schönen Seiten als auch die Tücken eines Campingurlaubs in Frankreich erleben. Die perfekte Geschichte für die ganze Familie und den Start in die Sommerferien! \nMit freundlicher Unterstützung von Beltz & Gelberg \nEine Aktion in Kooperation mit dem Kölner Stadt-Anzeiger und der Stadtbibliothek Köln \nFoto: (c) Moni Port
URL:https://literaturszene-koeln.de/termin/junges-buch-fuer-die-stadt/
LOCATION:Zentralbibliothek\, Josef-Haubrich-Hof 1\, Köln\, 50676\, Deutschland
CATEGORIES:Gespräche,Lesung
ATTACH;FMTTYPE=image/jpeg:https://literaturszene-koeln.de/wp-content/uploads/2023/05/11-06-2023_Philip-Waechter_c_Moni-Port-EiWuje.tmp_.jpg
END:VEVENT
BEGIN:VEVENT
DTSTART;TZID=Europe/Berlin:20220513T160000
DTEND;TZID=Europe/Berlin:20220513T173000
DTSTAMP:20260422T175027
CREATED:20220426T164808Z
LAST-MODIFIED:20220511T180249Z
UID:18015-1652457600-1652463000@literaturszene-koeln.de
SUMMARY:„Was schenkst Du Deinem Papa\, Willi Wiberg“ anlässlich des 50. Geburtstags der Bilderbuchreihe Willi Wiberg – Bilderbuchkino für Kinder ab 3 Jahren
DESCRIPTION:Morgen hat Willi Wibergs Papa Geburtstag und Willi Wiberg weiß immer noch nicht\, was er ihm schenken soll. Willis Papa wünscht sich nämlich – nein\, keinen Schlips und auch keinen Aschenbecher\, Willis Papa wünscht sich nur eins: ein liebes Kind. Willi Wiberg findet das ziemlich doof. Ein liebes Kind\, das ist doch kein richtiges Geschenk! Jedenfalls keins\, das man ein- und auspacken kann! Oder etwa doch?   \nEintritt frei! Ort: Zentralbibliothek\, Josef-Haubrich-Hof 1\, 50676 Köln\, Kontakt: Pamela Baber\, E-Mail: Baber@stbib-koeln.dewww.kibuwo-koeln.de 
URL:https://literaturszene-koeln.de/termin/was-schenkst-du-deinem-papa-willi-wiberg-anlaesslich-des-50-geburtstags-der-bilderbuchreihe-willi-wiberg-bilderbuchkino-fuer-kinder-ab-3-jahren/
LOCATION:Zentralbibliothek\, Josef-Haubrich-Hof 1\, Köln\, 50676\, Deutschland
CATEGORIES:Lesung
ATTACH;FMTTYPE=image/jpeg:https://literaturszene-koeln.de/wp-content/uploads/2022/04/Cover-Wlli-Wiberg_350h-b0ulIR.tmp_.jpg
END:VEVENT
BEGIN:VEVENT
DTSTART;TZID=Europe/Berlin:20211125T200000
DTEND;TZID=Europe/Berlin:20211125T213000
DTSTAMP:20260422T175027
CREATED:20211112T193408Z
LAST-MODIFIED:20211125T200239Z
UID:17430-1637870400-1637875800@literaturszene-koeln.de
SUMMARY:Heinrich-Böll-Preisträger 2021: José F. A. Oliver
DESCRIPTION:Der Lyriker und Essayist José F. A. Oliver erhält den Heinrich-Böll-Preis 2021. Am Vorabend der offiziellen Preisverleihung im Historischen Rathaus spricht José F. A. Oliver mit Beate Tröger in der Kölner Zentralbibliothek über das aufklärerische Moment in seiner Literatur\, die Auseinandersetzung mit Migration\, Fragen der Integration\, über Sprache als trennendes und verbindendes Element. \nVeranstaltungspartner: Kulturamt der Stadt Köln\, Stadtbibliothek Köln \n  \nFoto: (c) privat
URL:https://literaturszene-koeln.de/termin/heinrich-boell-preistraeger-2021-jose-f-a-oliver/
LOCATION:Zentralbibliothek\, Josef-Haubrich-Hof 1\, Köln\, 50676\, Deutschland
ATTACH;FMTTYPE=image/jpeg:https://literaturszene-koeln.de/wp-content/uploads/2021/11/25-11-2021_Jose-FA-Oliver_c_privat.jpeg-scaled-gPcbgs.tmp_.jpg
END:VEVENT
BEGIN:VEVENT
DTSTART;TZID=Europe/Berlin:20200924T190000
DTEND;TZID=Europe/Berlin:20200924T203000
DTSTAMP:20260422T175027
CREATED:20200817T144401Z
LAST-MODIFIED:20200922T173554Z
UID:15611-1600974000-1600979400@literaturszene-koeln.de
SUMMARY:Die Corona-Tagebücher
DESCRIPTION:Bert Brune und Joachim Rönneper im Gespräch mit Gabriele Ewenz \n\nZwei Kölner Autoren – zwei Tagebücher. Fast zeitgleich entstanden\, zwischen März und Mai 2020\, sind Aufzeichnungen und Notate von Bert Brune und Joachim Rönneper\, die Eindrücke\, Erlebnisse und Fakten einer  menschheitsgeschichtlichen Katastrophe im 21. Jahrhundert\, der Pandemie SARS-CoV-2\, dokumentieren und kommentieren. \n\nPersönliches und Poetisches\, Entsetzliches und Schreckliches finden sich in den täglichen Aufzeichnungen von Brune und Rönneper. Doch was unterscheidet diese Aufzeichnungen voneinander und worin liegen Gemeinsamkeiten? Gibt es unterschiedliche Herangehensweisen und aus welcher Perspektive werden Gesehenes und Erlebtes literarisch verarbeitet? Diese Fragen sollen im Gespräch mit den Autoren erörtert werden. \n\nBert Brune\, geb. 1943 in Büren\, studierte in Köln Germanistik\, Geschichte und Theaterwissenschaft\, er arbeitete als Gymnasiallehrer und ab 1979 als freier Schriftsteller; zahlreiche Veröffentlichungen von Romanen und  Gedichtbänden. \n\nJoachim Rönneper\, geb. 1958 in Düsseldorf\, studierte Germanistik und kath. Theologie in Münster und war Lehrbeauftragter an der Kunstakademie Münster. Er lebt als Schriftsteller\, Ausstellungskurator und Herausgeber von Anthologien in Köln. \n\nGabriele Ewenz\, Dr. phil.\, studierte Allgemeine und Vergleichende\nLiteraturwissenschaft\, Theaterwissenschaft und Kunstgeschichte; Leiterin des Heinrich-Böll-Archivs und des LiK-Archivs der Stadtbibliothek Köln.
URL:https://literaturszene-koeln.de/termin/die-corona-tagebuecher/
LOCATION:Zentralbibliothek\, Josef-Haubrich-Hof 1\, Köln\, 50676\, Deutschland
CATEGORIES:Autorenlesung,Buchpräsentation,Gespräche,Lesung
END:VEVENT
END:VCALENDAR