BEGIN:VCALENDAR
VERSION:2.0
PRODID:-//Literaturszene Köln e.V. - ECPv6.15.20//NONSGML v1.0//EN
CALSCALE:GREGORIAN
METHOD:PUBLISH
X-WR-CALNAME:Literaturszene Köln e.V.
X-ORIGINAL-URL:https://literaturszene-koeln.de
X-WR-CALDESC:Veranstaltungen für Literaturszene Köln e.V.
REFRESH-INTERVAL;VALUE=DURATION:PT1H
X-Robots-Tag:noindex
X-PUBLISHED-TTL:PT1H
BEGIN:VTIMEZONE
TZID:Europe/Berlin
BEGIN:DAYLIGHT
TZOFFSETFROM:+0100
TZOFFSETTO:+0200
TZNAME:CEST
DTSTART:20210328T010000
END:DAYLIGHT
BEGIN:STANDARD
TZOFFSETFROM:+0200
TZOFFSETTO:+0100
TZNAME:CET
DTSTART:20211031T010000
END:STANDARD
BEGIN:DAYLIGHT
TZOFFSETFROM:+0100
TZOFFSETTO:+0200
TZNAME:CEST
DTSTART:20220327T010000
END:DAYLIGHT
BEGIN:STANDARD
TZOFFSETFROM:+0200
TZOFFSETTO:+0100
TZNAME:CET
DTSTART:20221030T010000
END:STANDARD
BEGIN:DAYLIGHT
TZOFFSETFROM:+0100
TZOFFSETTO:+0200
TZNAME:CEST
DTSTART:20230326T010000
END:DAYLIGHT
BEGIN:STANDARD
TZOFFSETFROM:+0200
TZOFFSETTO:+0100
TZNAME:CET
DTSTART:20231029T010000
END:STANDARD
END:VTIMEZONE
BEGIN:VEVENT
DTSTART;TZID=Europe/Berlin:20220517T180000
DTEND;TZID=Europe/Berlin:20220517T193000
DTSTAMP:20260423T020524
CREATED:20220427T165449Z
LAST-MODIFIED:20220511T180453Z
UID:18026-1652810400-1652815800@literaturszene-koeln.de
SUMMARY:Frisch gepresst: KHM – KURZE 04
DESCRIPTION:Vorstellung der 4. Ausgabe der Anthologie des Literarischen Schreibens an der KHM in Kooperation mit dem Literaturbüro NRW\n\n\nDie KURZE ist eine seit 2018 an der Kölner Kunsthochschule für Medien erscheinende und von Studierenden herausgegebene Anthologie des Literarischen Schreibens. Ihr Schwerpunkt liegt vor allem auf den Kurzformen – Gedichte\, Kurzgeschichten und Essays –\, es finden sich aber auch Romananfänge oder Comics. Unter der Moderation von Michael Serrer\, dem Leiter des Literaturbüros NRW\, präsentieren die Studierenden Blitzlichter\, Schnipsel aus laufenden kreativen Prozessen\, die nicht nur Spaß\, sondern auch sehr neugierig machen auf alles\, was von den jungen Autor:innen und Künstler:innen noch kommen mag.
URL:https://literaturszene-koeln.de/termin/frisch-gepresst-khm-kurze-04/
LOCATION:Zentralbibliothek im KAP1\, Konrad-Adenauer-Platz 1\, Düsseldorf\, 40210\, Deutschland
CATEGORIES:Lesung
END:VEVENT
END:VCALENDAR