BEGIN:VCALENDAR
VERSION:2.0
PRODID:-//Literaturszene Köln e.V. - ECPv6.15.20//NONSGML v1.0//EN
CALSCALE:GREGORIAN
METHOD:PUBLISH
X-WR-CALNAME:Literaturszene Köln e.V.
X-ORIGINAL-URL:https://literaturszene-koeln.de
X-WR-CALDESC:Veranstaltungen für Literaturszene Köln e.V.
REFRESH-INTERVAL;VALUE=DURATION:PT1H
X-Robots-Tag:noindex
X-PUBLISHED-TTL:PT1H
BEGIN:VTIMEZONE
TZID:Europe/Berlin
BEGIN:DAYLIGHT
TZOFFSETFROM:+0100
TZOFFSETTO:+0200
TZNAME:CEST
DTSTART:20200329T010000
END:DAYLIGHT
BEGIN:STANDARD
TZOFFSETFROM:+0200
TZOFFSETTO:+0100
TZNAME:CET
DTSTART:20201025T010000
END:STANDARD
BEGIN:DAYLIGHT
TZOFFSETFROM:+0100
TZOFFSETTO:+0200
TZNAME:CEST
DTSTART:20210328T010000
END:DAYLIGHT
BEGIN:STANDARD
TZOFFSETFROM:+0200
TZOFFSETTO:+0100
TZNAME:CET
DTSTART:20211031T010000
END:STANDARD
BEGIN:DAYLIGHT
TZOFFSETFROM:+0100
TZOFFSETTO:+0200
TZNAME:CEST
DTSTART:20220327T010000
END:DAYLIGHT
BEGIN:STANDARD
TZOFFSETFROM:+0200
TZOFFSETTO:+0100
TZNAME:CET
DTSTART:20221030T010000
END:STANDARD
END:VTIMEZONE
BEGIN:VEVENT
DTSTART;TZID=Europe/Berlin:20210630T193000
DTEND;TZID=Europe/Berlin:20210630T210000
DTSTAMP:20260422T190258
CREATED:20210623T181748Z
LAST-MODIFIED:20210630T190207Z
UID:16862-1625081400-1625086800@literaturszene-koeln.de
SUMMARY:LÄNDERFOKUS Kamerun: Wer schreibt über das (post) koloniale Kamerun?
DESCRIPTION:Im Juni setzt stimmen afrikas seine mehrteilige Reihe unter dem Titel LÄNDERFOKUS in Kooperation mit der Kölner Sonnenblumen Community Development Group e.V. fort. In der Reihe geben Expert*innen und Schriftsteller*innen mit ihren literarischen Texten Aufschluss über Geschichte und Gegenwart ihrer Herkunftsländer. Am 30. Juni geht es per LIVESTREAM um Kamerun und die deutsche Kolonialgeschichte. \nSonnenblumen Community Development Group e.V. invites to: An African came to Germany for Colonial Debts.\nReading and discussion with Cameroonian author\, Dr. Priscillia Manjoh\, about her novel “Snare” and the indelible marks of colonialism on Sub-Saharan Africans with moderator Cesaire Beyel (computer scientist; entrepreneur). Laura Tinzoh (author) will read excerpts of the book.\n30th. June 2021\, 7:30 pm – LIVESTREAM über: SCDG TV Channel – YouTube \nhttps://youtu.be/iRJniQbXMg4 \n\nWeitere Infos auf: www.stimmenafrikas.de \nEin Projekt von: stimmen afrikas/ Allerweltshaus Köln e.V. und Sonnenblumen Development Community Group e.V. \nIn Kooperation mit: die wohngemeinschaft \nGefördert von: Stiftung Umwelt und Entwicklung NRW \n 
URL:https://literaturszene-koeln.de/termin/laenderfokus-kamerun-wer-schreibt-ueber-das-post-koloniale-kamerun-2/
LOCATION:YouTube
CATEGORIES:Gespräche,Lesung
ORGANIZER;CN="stimmen afrikas":MAILTO:pr.stimmenafrikas@allerweltshaus.de
END:VEVENT
END:VCALENDAR