BEGIN:VCALENDAR
VERSION:2.0
PRODID:-//Literaturszene Köln e.V. - ECPv6.15.20//NONSGML v1.0//EN
CALSCALE:GREGORIAN
METHOD:PUBLISH
X-ORIGINAL-URL:https://literaturszene-koeln.de
X-WR-CALDESC:Veranstaltungen für Literaturszene Köln e.V.
REFRESH-INTERVAL;VALUE=DURATION:PT1H
X-Robots-Tag:noindex
X-PUBLISHED-TTL:PT1H
BEGIN:VTIMEZONE
TZID:Europe/Berlin
BEGIN:DAYLIGHT
TZOFFSETFROM:+0100
TZOFFSETTO:+0200
TZNAME:CEST
DTSTART:20230326T010000
END:DAYLIGHT
BEGIN:STANDARD
TZOFFSETFROM:+0200
TZOFFSETTO:+0100
TZNAME:CET
DTSTART:20231029T010000
END:STANDARD
BEGIN:DAYLIGHT
TZOFFSETFROM:+0100
TZOFFSETTO:+0200
TZNAME:CEST
DTSTART:20240331T010000
END:DAYLIGHT
BEGIN:STANDARD
TZOFFSETFROM:+0200
TZOFFSETTO:+0100
TZNAME:CET
DTSTART:20241027T010000
END:STANDARD
BEGIN:DAYLIGHT
TZOFFSETFROM:+0100
TZOFFSETTO:+0200
TZNAME:CEST
DTSTART:20250330T010000
END:DAYLIGHT
BEGIN:STANDARD
TZOFFSETFROM:+0200
TZOFFSETTO:+0100
TZNAME:CET
DTSTART:20251026T010000
END:STANDARD
END:VTIMEZONE
BEGIN:VEVENT
DTSTART;TZID=Europe/Berlin:20240822T190000
DTEND;TZID=Europe/Berlin:20240822T203000
DTSTAMP:20260425T145008
CREATED:20240726T123247Z
LAST-MODIFIED:20240726T123247Z
UID:25064-1724353200-1724358600@literaturszene-koeln.de
SUMMARY:Ein Siegel aus Rubin. Jüdische Kulturdialoge in Wort und Klang
DESCRIPTION:Am Donnerstag\, den 22. August 2024\, um 19 Uhr lädt MiQua zu einem Abend der jüdischen Musik und Literatur ins Wallraf-Richartz-Museum & Fondation Corboud ein. Das Konzert findet im Rahmen des SHALOM-MUSIK.KOELN Festivals statt. \nZusammen mit der in Wiesbaden lebenden\, israelischen Sängerin Shai Terry begibt sich das Maiburg Ensemble auf eine Entdeckungsreise durch die Welt der engen Verflechtungen jüdischer und nichtjüdischer Kultur im Rheinland und darüber hinaus auch in Europa und Israel. In eigens geschriebenen Arrangements werden die vielfältigen Facetten jüdischer Musiktraditionen aufgezeigt\, die zum Reichtum des musikalischen Welterbes beitragen – von Klezmer bis Klassik. \nDie in Russland geborene\, deutsch-jüdische Schriftstellerin Lena Gorelik liest dazu Texte aus ihrem Buch «Wer wir sind»\, in denen die Frage jüdischer Verwurzelung und Identität in Deutschland sowie die Bedeutung von Sprache für die individuelle Selbstfindung im Fokus stehen. \nDas Konzert findet im Stiftersaal des Wallraf-Richartz-Museum & Fondation Corboud statt. Der Eintritt ist kostenfrei. Anmeldungen an: miqua@lvr.de. Weitere Infos finden Sie auf dem  MiQua-Blog. \nFoto: Maiburg-Quartett (v.l.: Fethi Ak\, Anette Maiburg\, Pascal Schweren\, Caspar van Meel)\, (c) Orion Dahlmann
URL:https://literaturszene-koeln.de/termin/ein-siegel-aus-rubin-juedische-kulturdialoge-in-wort-und-klang/
LOCATION:Wallraf-Richartz-Museum & Fondation Corboud\, Obenmarspforten 40\, Köln\, 50667
CATEGORIES:Lesung mit Musik
ATTACH;FMTTYPE=image/webp:https://literaturszene-koeln.de/wp-content/uploads/2024/07/maiburg-quartett-quer.webp
ORGANIZER;CN="MiQua. LVR-J%C3%BCdisches Museum im Arch%C3%A4ologischen Quartier K%C3%B6ln":MAILTO:post@lvr.de
END:VEVENT
END:VCALENDAR