BEGIN:VCALENDAR
VERSION:2.0
PRODID:-//Literaturszene Köln e.V. - ECPv6.15.20//NONSGML v1.0//EN
CALSCALE:GREGORIAN
METHOD:PUBLISH
X-WR-CALNAME:Literaturszene Köln e.V.
X-ORIGINAL-URL:https://literaturszene-koeln.de
X-WR-CALDESC:Veranstaltungen für Literaturszene Köln e.V.
REFRESH-INTERVAL;VALUE=DURATION:PT1H
X-Robots-Tag:noindex
X-PUBLISHED-TTL:PT1H
BEGIN:VTIMEZONE
TZID:Europe/Berlin
BEGIN:DAYLIGHT
TZOFFSETFROM:+0100
TZOFFSETTO:+0200
TZNAME:CEST
DTSTART:20210328T010000
END:DAYLIGHT
BEGIN:STANDARD
TZOFFSETFROM:+0200
TZOFFSETTO:+0100
TZNAME:CET
DTSTART:20211031T010000
END:STANDARD
BEGIN:DAYLIGHT
TZOFFSETFROM:+0100
TZOFFSETTO:+0200
TZNAME:CEST
DTSTART:20220327T010000
END:DAYLIGHT
BEGIN:STANDARD
TZOFFSETFROM:+0200
TZOFFSETTO:+0100
TZNAME:CET
DTSTART:20221030T010000
END:STANDARD
BEGIN:DAYLIGHT
TZOFFSETFROM:+0100
TZOFFSETTO:+0200
TZNAME:CEST
DTSTART:20230326T010000
END:DAYLIGHT
BEGIN:STANDARD
TZOFFSETFROM:+0200
TZOFFSETTO:+0100
TZNAME:CET
DTSTART:20231029T010000
END:STANDARD
END:VTIMEZONE
BEGIN:VEVENT
DTSTART;TZID=Europe/Berlin:20221229T193000
DTEND;TZID=Europe/Berlin:20221229T210000
DTSTAMP:20260420T185940
CREATED:20221222T154716Z
LAST-MODIFIED:20221229T154703Z
UID:19298-1672342200-1672347600@literaturszene-koeln.de
SUMMARY:KLiteratur meets GYM: what’s love got to do damit?
DESCRIPTION:Das GYM –Heft für Literatur als Kraftsport – bringt Autor*innen und Redakteur*innen mit und liefert auch gleich den Anlass\, sich ohne Angst vor großen Gefühlen und Peinlichkeiten ganz der LOVE zu widmen. Genau zur richtig\, kalnte und dunklen Zeit sprechen wir mit den Macher*innen des GYMs über ihre aktuelle Ausgabe zum Thema Liebe und ihr Zeitschriftenmachen. Mit Nora Schramm\, Marie Sturm und Tobias Schulenburg kommen gleich 3 Kölner Autor*innen und zeigen Texte über\, für\, gegen\, sicher aber mit jeder Menge Liebe. Moderiert wird der Abend vom Mitherausgeber der Kölner Literaturzeitschrift\, Bo Franke. \nNora Schramm\, studierte Kultur- und Literaturwissenschaften in Gießen und San José und lebt jetzt in Köln\, studiert dort im Master Theorien und Praktiken professionellen Schreibens. Mit ihrem aktuellen Romanprojekt war sie Stipendiatin des Landes NRW\, der Jürgen-Ponto-Stiftung\, sowie der Stadt Baden-Baden. 2021 nahm sie mit einer Kurzgeschichten-Sammlung am 1:1 Mentoringprogramm des Literaturbüro NRW teil\, 2022 war sie Preisträgerin beim TEXTSTREICH-Wettbewerb für neue Lyrik. Ihre Texte wurden in verschiedenen Literaturzeitschriften veröffentlicht. \nMarie Sturm\, lebt und arbeitet in Köln und Berlin. Studierte freie Kunst an der Kunstakademie Düsseldorf\, zurzeit studiert sie postgradiert Literarisches Schreiben an der Kunsthochschule für Medien Köln. Sie ist Kuratorin im Gold+Beton am Ebertplatz in Köln und war Mitherausgeberin der Literaturzeitschrift KURZE. Für den Instagramkanal vier.ruhr entwickelte und schrieb sie die Videokolumne „Die Flaneuse von Mülheim“. Zurzeit arbeitet sie an ihrem ersten Roman. \nTobias Schulenburg\, zeichnet und schreibt\, lebt in Köln. Von 2008 – 12 studierte er Automobildesign\, seit 2011 arbeitet er on-off in diversen Nebenjobs\, 2012/13 und 2017/18 bezog er Hartz IV. 2015 gab er das Rauchen auf\, 2018 fing er ein Kunststudium an. 2020 erschien sein erster Gedichtband es sich schön machen bei der parasitenpresse. 2022 nahm er an den Residenzprogrammen von stadt.land.text\, dem Literarischen Kolloquium Berlin und dem Center for Literature Burg Hülshoff teil. 2023 wird er eine Produktion der Theaterwerkstatt Bethel als Autor begleiten. \nDu und Ihr und Sie sind herzlichst dazu eingeladen\, das Jahr mit uns am 29.12. liebevoll ausklingen zu lassen.
URL:https://literaturszene-koeln.de/termin/kliteratur-meets-gym-whats-love-got-to-do-damit/
LOCATION:Traumathek\, Engelbertstr. 45\, Köln
CATEGORIES:Gespräche,Lesung
ATTACH;FMTTYPE=image/jpeg:https://literaturszene-koeln.de/wp-content/uploads/2022/12/KLIT_Quadratisch_1080x1080_20221210_mb_A-DdFyrl.tmp_.jpg
END:VEVENT
END:VCALENDAR