BEGIN:VCALENDAR
VERSION:2.0
PRODID:-//Literaturszene Köln e.V. - ECPv6.15.20//NONSGML v1.0//EN
CALSCALE:GREGORIAN
METHOD:PUBLISH
X-ORIGINAL-URL:https://literaturszene-koeln.de
X-WR-CALDESC:Veranstaltungen für Literaturszene Köln e.V.
REFRESH-INTERVAL;VALUE=DURATION:PT1H
X-Robots-Tag:noindex
X-PUBLISHED-TTL:PT1H
BEGIN:VTIMEZONE
TZID:Europe/Berlin
BEGIN:DAYLIGHT
TZOFFSETFROM:+0100
TZOFFSETTO:+0200
TZNAME:CEST
DTSTART:20230326T010000
END:DAYLIGHT
BEGIN:STANDARD
TZOFFSETFROM:+0200
TZOFFSETTO:+0100
TZNAME:CET
DTSTART:20231029T010000
END:STANDARD
BEGIN:DAYLIGHT
TZOFFSETFROM:+0100
TZOFFSETTO:+0200
TZNAME:CEST
DTSTART:20240331T010000
END:DAYLIGHT
BEGIN:STANDARD
TZOFFSETFROM:+0200
TZOFFSETTO:+0100
TZNAME:CET
DTSTART:20241027T010000
END:STANDARD
BEGIN:DAYLIGHT
TZOFFSETFROM:+0100
TZOFFSETTO:+0200
TZNAME:CEST
DTSTART:20250330T010000
END:DAYLIGHT
BEGIN:STANDARD
TZOFFSETFROM:+0200
TZOFFSETTO:+0100
TZNAME:CET
DTSTART:20251026T010000
END:STANDARD
BEGIN:DAYLIGHT
TZOFFSETFROM:+0100
TZOFFSETTO:+0200
TZNAME:CEST
DTSTART:20260329T010000
END:DAYLIGHT
BEGIN:STANDARD
TZOFFSETFROM:+0200
TZOFFSETTO:+0100
TZNAME:CET
DTSTART:20261025T010000
END:STANDARD
END:VTIMEZONE
BEGIN:VEVENT
DTSTART;TZID=Europe/Berlin:20251126T190000
DTEND;TZID=Europe/Berlin:20251126T203000
DTSTAMP:20260425T132225
CREATED:20251123T095948Z
LAST-MODIFIED:20251123T095948Z
UID:29123-1764183600-1764189000@literaturszene-koeln.de
SUMMARY:Liebe auf den letzten Blick – Ausstellung & Gespräch
DESCRIPTION:Unter dem Titel „Liebe auf den letzten Blick“ eröffnet zum Abschluss der ersten Episode der Literaturresidenz Seyir Quartier am 26.11. eine Ausstellung\, in der die Autorin Zelal Dicle Baz‘ persönliche Erzählung auf Yusuf Baz‘ Fotografien trifft. Es ist ein Versuch\, einen letzten Blick auf das zu werfen\, was verloren gegangen ist – und auf eine Liebe\, die zu spät kommt. \nHiermit laden wir Euch Herzlich zum Eröffnungsgespräch der Ausstellung ein\, bei dem Zelal auch auf Luisa Ringel treffen wird\, der Stipendiatin der zweiten Episode der Residenz Seyir Quartier. Gemeinsam geben sie einen Ausblick auf ihre Zusammenarbeit in den kommenden Wochen. Moderation: Fatoş Tuna. \nDie Ausstellung ist noch bis zum 29.11. innerhalb der Öffnungszeiten der Bibliothek zu sehen. \nInfo: Die Texte werden auf Deutsch und Türkisch präsentiert. Das Gespräch findet auf Englisch statt. \nDie Literaturresidenz Seyir Quartier ist ein gemeinsames Projekt von istanbulberlin & Quartier am Hafen.
URL:https://literaturszene-koeln.de/termin/liebe-auf-den-letzten-blick-ausstellung-gespraech/
LOCATION:Theodor Wonja Michael Library\, Victoriastraße 6-8\, Köln\, 50668
CATEGORIES:Ausstellung,Gespräche
ATTACH;FMTTYPE=image/jpeg:https://literaturszene-koeln.de/wp-content/uploads/2025/11/liebe_auf_den_letzten_blick.jpg
END:VEVENT
BEGIN:VEVENT
DTSTART;TZID=Europe/Berlin:20240627T193000
DTEND;TZID=Europe/Berlin:20240627T203000
DTSTAMP:20260425T132225
CREATED:20240527T193507Z
LAST-MODIFIED:20240527T193507Z
UID:24365-1719516600-1719520200@literaturszene-koeln.de
SUMMARY:Meet the Artist - Theodor Wonja Michael Library meets Fatin Abbas for an exchange about her writing\, working and living in Germany.
DESCRIPTION:Fatin Abbas is an international writer and journalist. Born in Khartoum\, Sudan\, and raised in New York City\, she gained her BA in English from the University of Cambridge\, her PhD in Comparative Literature from Harvard University\, and her MFA in Creative Writing from Hunter College\, the City University of New York\, where she was awarded both the Bernard Cohen Short Story Prize and the Miriam Weinberg Richter Award for her writing. She has published essays and reports in The Nation\, Le Monde diplomatique and Die Zeit\, among others\, and short prose in the magazines Granta and Freeman’s. She has taught fiction writing at MIT and the Pratt Institute in New York and comparative literature at Bard College Berlin. Dave Eggers commented on Ghost Season\, her first novel: “Absolutely fascinating … an extremely important novel.” Fatin Abbas currently lives in Berlin. \nThe event is open to all friends of the TWM Library – donations welcome! \nThe exchange will be conducted in English \nWir bitten um Anmeldung über stimmenafrikas@allerweltshaus.de \nIn Kooperation mit Theodor Wonja Michael Bibliothek \n\n\n\nGefördert von: Bundeszentrale für Politische Bildung/bpb\, Kunststiftung NRW\, Stadt Köln
URL:https://literaturszene-koeln.de/termin/meet-the-artist-theodor-wonja-michael-library-meets-fatin-abbas-for-an-exchange-about-her-writing-working-and-living-in-germany/
LOCATION:Theodor Wonja Michael Library\, Victoriastraße 6-8\, Köln\, 50668
CATEGORIES:Gespräche
ORGANIZER;CN="stimmen afrikas":MAILTO:pr.stimmenafrikas@allerweltshaus.de
END:VEVENT
END:VCALENDAR