BEGIN:VCALENDAR
VERSION:2.0
PRODID:-//Literaturszene Köln e.V. - ECPv6.15.20//NONSGML v1.0//EN
CALSCALE:GREGORIAN
METHOD:PUBLISH
X-WR-CALNAME:Literaturszene Köln e.V.
X-ORIGINAL-URL:https://literaturszene-koeln.de
X-WR-CALDESC:Veranstaltungen für Literaturszene Köln e.V.
REFRESH-INTERVAL;VALUE=DURATION:PT1H
X-Robots-Tag:noindex
X-PUBLISHED-TTL:PT1H
BEGIN:VTIMEZONE
TZID:Europe/Berlin
BEGIN:DAYLIGHT
TZOFFSETFROM:+0100
TZOFFSETTO:+0200
TZNAME:CEST
DTSTART:20240331T010000
END:DAYLIGHT
BEGIN:STANDARD
TZOFFSETFROM:+0200
TZOFFSETTO:+0100
TZNAME:CET
DTSTART:20241027T010000
END:STANDARD
BEGIN:DAYLIGHT
TZOFFSETFROM:+0100
TZOFFSETTO:+0200
TZNAME:CEST
DTSTART:20250330T010000
END:DAYLIGHT
BEGIN:STANDARD
TZOFFSETFROM:+0200
TZOFFSETTO:+0100
TZNAME:CET
DTSTART:20251026T010000
END:STANDARD
BEGIN:DAYLIGHT
TZOFFSETFROM:+0100
TZOFFSETTO:+0200
TZNAME:CEST
DTSTART:20260329T010000
END:DAYLIGHT
BEGIN:STANDARD
TZOFFSETFROM:+0200
TZOFFSETTO:+0100
TZNAME:CET
DTSTART:20261025T010000
END:STANDARD
BEGIN:DAYLIGHT
TZOFFSETFROM:+0100
TZOFFSETTO:+0200
TZNAME:CEST
DTSTART:20270328T010000
END:DAYLIGHT
BEGIN:STANDARD
TZOFFSETFROM:+0200
TZOFFSETTO:+0100
TZNAME:CET
DTSTART:20271031T010000
END:STANDARD
END:VTIMEZONE
BEGIN:VEVENT
DTSTART;TZID=Europe/Berlin:20260329T190000
DTEND;TZID=Europe/Berlin:20260329T210000
DTSTAMP:20260420T125431
CREATED:20251220T145046Z
LAST-MODIFIED:20251220T145046Z
UID:29258-1774810800-1774818000@literaturszene-koeln.de
SUMMARY:Interaktives Live-Hörspiel „Der Zauberer von Oz“
DESCRIPTION:Ein zauber(er)haftes Hör-Erlebnis – und alle machen mit \nWas passiert\, wenn Theater\, Lesung und Hörspiel miteinander verschmelzen? Dann entsteht ein faszinierendes und einzigartiges Bühnenereignis: ein interaktives Live-Hörspiel! \nMit ihren vielseitigen Stimmen erweckt das Ensemble von Live-Hörspiel Köln den Klassiker „Der Zauberer von Oz“ innovativ und kreativ zu neuem Leben. Mit Spannung\, Witz und Ironie zieht die zeitlose Geschichte über Sein und Schein Menschen jeden Alters in ihren Bann. \nDas Publikum erwartet eine Märchenstunde für Erwachsene und Teens der besonderen Art: Denn es wird auch selbst Teil der Klangkulisse. Vom eigenen Sitzplatz aus kann es sich nach Lust und Laune etwa als Bienenschwarm durch den Theatersaal summen oder akustisch zu einer Horde fliegender Affen mutieren. \nDie Geräusche der Geschichte entstehen zudem live aus allerlei Alltagsgegenständen\, die nur selten im Rampenlicht stehen: Dann wird eine Abdeckplane schon mal zum Tornado\, eine Nagelbürste zu einem akustischen Multifunktionswunder. \nAll das macht das interaktive Live-Hörspiel zu einem echten Highlight\, das lange in Erinnerung bleibt. \nDas Ensemble \nDie drei Wahl-Kölnerinnen Claudia Behr\, Carolin Dörmbach\, Melanie Wierum verbindet die Leidenschaft für Bühne\, Theater und Musik. Sie haben bereits mit viel Kreativität\, Humor und Herzblut das interaktive Live-Hörspiel „Die Brüder Löwenherz“ und „Die unendliche Geschichte“ entwickelt und erfolgreich auf die Bühne gebracht. \nKontakt: \nMelanie Wierum\n0176 / 471 77 976\nkontakt@livehoerspiel.koeln \nFoto: Das Ensemble von Live-Hörspiel Köln (v.l. Carolin Dörmbach\, Melanie Wierum\, Claudia Behr)\, (c) Live-Hörspiel Köln.
URL:https://literaturszene-koeln.de/termin/interaktives-live-hoerspiel-der-zauberer-von-oz-2/
LOCATION:Theater 509 im Bürgerhaus Stollwerck\, Dreikönigenstr. 23\, Köln\, 50678
CATEGORIES:Hörspiel
ATTACH;FMTTYPE=image/jpeg:https://literaturszene-koeln.de/wp-content/uploads/2025/12/Oz-Live-Hoerspiel.jpg
END:VEVENT
BEGIN:VEVENT
DTSTART;TZID=Europe/Berlin:20250913T200000
DTEND;TZID=Europe/Berlin:20250913T220000
DTSTAMP:20260420T125431
CREATED:20250708T182702Z
LAST-MODIFIED:20250708T182702Z
UID:28157-1757793600-1757800800@literaturszene-koeln.de
SUMMARY:Interaktives Live-Hörspiel „Der Zauberer von Oz“
DESCRIPTION:Theaterstücke\, Lesungen und Hörspiele kennen alle. Doch was passiert\, wenn man diese drei Kunstformen miteinander verschmilzt? Es entsteht ein faszinierendes und einzigartiges Bühnenereignis: ein interaktives Live-Hörspiel! \nMit Kreativität und Spielfreude erweckt das Ensemble von Live-Hörspiel Köln den Klassiker „Der Zauberer von Oz“ in einer innovativen Form zu neuem Leben. \nInteraktives Live-Hörspiel „Der Zauberer von Oz“ \nDrei Schauspielerinnen\, eine Bühne und eine unvergessliche Geschichte – das Ensemble von Live-Hörspiel Köln bringt mit viel Kreativität und Spielfreude das zeitlose Abenteuer „Der Zauberer von Oz“ in einer innovativen Form auf die Bühne. \nEin unvergessliches Erlebnis – Mitmachen erwünscht \nDas Besondere an diesem Theaterabend: Claudia Behr\, Carolin Dörmbach und Melanie Wierum schlüpfen nicht nur in die Rollen der Figuren\, sondern erzeugen auch live alle Geräusche der Geschichte – und zwar mit Alltagsgegenständen\, die man so vielleicht nie mit einem Theatersaal in Verbindung bringen würde: : Dann wird eine Abdeckplane schon mal zum Tornado oder eine Nagelbürste zu einem akustischen Multifunktionswunder. Und sogar das Publikum selbst wird Teil der akustischen Kulisse. Es ist nicht nur dabei\, sondern mittendrin. Vom eigenen Sitzplatz aus kann es sich nach Lust und Laune gemeinsam etwa als Bienenschwarm durch den Theatersaal summen oder mit seinen Stimmen eine Horde fliegender Affen entstehen lassen.Dieser interaktive Ansatz macht das Live-Hörspiel zu einem echten Highlight\, das lange in Erinnerung bleibt. \nDie Handlung: Ein Klassiker neu inszeniert \nEin plötzlicher Wirbelsturm katapultiert Dorothy in das geheimnisvolle Land Oz\, wo sie versucht\, den Weg nach Hause zu finden. Dabei trifft sie auf eine Vogelscheuche ohne Hirn\, einen Blechmann ohne Herz und einen Löwen ohne Mut. Gemeinsam stellen sie sich zahlreichen Gefahren und Abenteuern und entdecken dabei\, dass nichts so ist\, wie es scheint. In der Inszenierung des Ensembles verschmelzen die Elemente von Theater\, Hörspiel und Interaktion zu einem einmaligen Erlebnis. Die fantasievollen Figuren des Romans von L. Frank Baum erwachen durch die vielfältigen Stimmen der Schauspielerinnen zum Leben. Die zeitlose Geschichte wird mit Witz\, Spannung und aktuellen Bezügen erzählt. \nDas Ensemble \nDie drei Wahl-Kölnerinnen Claudia Behr\, Carolin Dörmbach\, Melanie Wierum verbindet die Leidenschaft für Bühne\, Theater und Musik. Sie haben bereits mit viel Kreativität\, Humor und Herzblut das interaktive Live-Hörspiel „Die Brüder Löwenherz“ und „Die unendliche Geschichte“ entwickelt und erfolgreich auf die Bühne gebracht. \nFoto: Das Ensemble von Live-Hörspiel Köln (v.l. Carolin Dörmbach\, Melanie Wierum\, Claudia Behr)\, Bildrechte: Live-Hörspiel Köln.
URL:https://literaturszene-koeln.de/termin/interaktives-live-hoerspiel-der-zauberer-von-oz/2025-09-13/
LOCATION:Theater 509 im Bürgerhaus Stollwerck\, Dreikönigenstr. 23\, Köln\, 50678
CATEGORIES:Hörspiel
ATTACH;FMTTYPE=image/jpeg:https://literaturszene-koeln.de/wp-content/uploads/2025/07/live-hoerspiel.jpg
END:VEVENT
BEGIN:VEVENT
DTSTART;TZID=Europe/Berlin:20250912T200000
DTEND;TZID=Europe/Berlin:20250912T220000
DTSTAMP:20260420T125431
CREATED:20250708T182702Z
LAST-MODIFIED:20250708T182702Z
UID:28154-1757707200-1757714400@literaturszene-koeln.de
SUMMARY:Interaktives Live-Hörspiel „Der Zauberer von Oz“
DESCRIPTION:Theaterstücke\, Lesungen und Hörspiele kennen alle. Doch was passiert\, wenn man diese drei Kunstformen miteinander verschmilzt? Es entsteht ein faszinierendes und einzigartiges Bühnenereignis: ein interaktives Live-Hörspiel! \nMit Kreativität und Spielfreude erweckt das Ensemble von Live-Hörspiel Köln den Klassiker „Der Zauberer von Oz“ in einer innovativen Form zu neuem Leben. \nInteraktives Live-Hörspiel „Der Zauberer von Oz“ \nDrei Schauspielerinnen\, eine Bühne und eine unvergessliche Geschichte – das Ensemble von Live-Hörspiel Köln bringt mit viel Kreativität und Spielfreude das zeitlose Abenteuer „Der Zauberer von Oz“ in einer innovativen Form auf die Bühne. \nEin unvergessliches Erlebnis – Mitmachen erwünscht \nDas Besondere an diesem Theaterabend: Claudia Behr\, Carolin Dörmbach und Melanie Wierum schlüpfen nicht nur in die Rollen der Figuren\, sondern erzeugen auch live alle Geräusche der Geschichte – und zwar mit Alltagsgegenständen\, die man so vielleicht nie mit einem Theatersaal in Verbindung bringen würde: : Dann wird eine Abdeckplane schon mal zum Tornado oder eine Nagelbürste zu einem akustischen Multifunktionswunder. Und sogar das Publikum selbst wird Teil der akustischen Kulisse. Es ist nicht nur dabei\, sondern mittendrin. Vom eigenen Sitzplatz aus kann es sich nach Lust und Laune gemeinsam etwa als Bienenschwarm durch den Theatersaal summen oder mit seinen Stimmen eine Horde fliegender Affen entstehen lassen.Dieser interaktive Ansatz macht das Live-Hörspiel zu einem echten Highlight\, das lange in Erinnerung bleibt. \nDie Handlung: Ein Klassiker neu inszeniert \nEin plötzlicher Wirbelsturm katapultiert Dorothy in das geheimnisvolle Land Oz\, wo sie versucht\, den Weg nach Hause zu finden. Dabei trifft sie auf eine Vogelscheuche ohne Hirn\, einen Blechmann ohne Herz und einen Löwen ohne Mut. Gemeinsam stellen sie sich zahlreichen Gefahren und Abenteuern und entdecken dabei\, dass nichts so ist\, wie es scheint. In der Inszenierung des Ensembles verschmelzen die Elemente von Theater\, Hörspiel und Interaktion zu einem einmaligen Erlebnis. Die fantasievollen Figuren des Romans von L. Frank Baum erwachen durch die vielfältigen Stimmen der Schauspielerinnen zum Leben. Die zeitlose Geschichte wird mit Witz\, Spannung und aktuellen Bezügen erzählt. \nDas Ensemble \nDie drei Wahl-Kölnerinnen Claudia Behr\, Carolin Dörmbach\, Melanie Wierum verbindet die Leidenschaft für Bühne\, Theater und Musik. Sie haben bereits mit viel Kreativität\, Humor und Herzblut das interaktive Live-Hörspiel „Die Brüder Löwenherz“ und „Die unendliche Geschichte“ entwickelt und erfolgreich auf die Bühne gebracht. \nFoto: Das Ensemble von Live-Hörspiel Köln (v.l. Carolin Dörmbach\, Melanie Wierum\, Claudia Behr)\, Bildrechte: Live-Hörspiel Köln.
URL:https://literaturszene-koeln.de/termin/interaktives-live-hoerspiel-der-zauberer-von-oz/2025-09-12/
LOCATION:Theater 509 im Bürgerhaus Stollwerck\, Dreikönigenstr. 23\, Köln\, 50678
CATEGORIES:Hörspiel
ATTACH;FMTTYPE=image/jpeg:https://literaturszene-koeln.de/wp-content/uploads/2025/07/live-hoerspiel.jpg
END:VEVENT
END:VCALENDAR