BEGIN:VCALENDAR
VERSION:2.0
PRODID:-//Literaturszene Köln e.V. - ECPv6.15.20//NONSGML v1.0//EN
CALSCALE:GREGORIAN
METHOD:PUBLISH
X-ORIGINAL-URL:https://literaturszene-koeln.de
X-WR-CALDESC:Veranstaltungen für Literaturszene Köln e.V.
REFRESH-INTERVAL;VALUE=DURATION:PT1H
X-Robots-Tag:noindex
X-PUBLISHED-TTL:PT1H
BEGIN:VTIMEZONE
TZID:Europe/Berlin
BEGIN:DAYLIGHT
TZOFFSETFROM:+0100
TZOFFSETTO:+0200
TZNAME:CEST
DTSTART:20220327T010000
END:DAYLIGHT
BEGIN:STANDARD
TZOFFSETFROM:+0200
TZOFFSETTO:+0100
TZNAME:CET
DTSTART:20221030T010000
END:STANDARD
BEGIN:DAYLIGHT
TZOFFSETFROM:+0100
TZOFFSETTO:+0200
TZNAME:CEST
DTSTART:20230326T010000
END:DAYLIGHT
BEGIN:STANDARD
TZOFFSETFROM:+0200
TZOFFSETTO:+0100
TZNAME:CET
DTSTART:20231029T010000
END:STANDARD
BEGIN:DAYLIGHT
TZOFFSETFROM:+0100
TZOFFSETTO:+0200
TZNAME:CEST
DTSTART:20240331T010000
END:DAYLIGHT
BEGIN:STANDARD
TZOFFSETFROM:+0200
TZOFFSETTO:+0100
TZNAME:CET
DTSTART:20241027T010000
END:STANDARD
END:VTIMEZONE
BEGIN:VEVENT
DTSTART;TZID=Europe/Berlin:20230930T160000
DTEND;TZID=Europe/Berlin:20230930T173000
DTSTAMP:20260421T133749
CREATED:20230911T110707Z
LAST-MODIFIED:20230911T110707Z
UID:20341-1696089600-1696095000@literaturszene-koeln.de
SUMMARY:Buchpräsentation „Oskar Schlemmer und der Tanz“
DESCRIPTION:Prof. Dr. Frank-Manuel Peter\, Leiter des Deutschen Tanzarchivs Köln und Verfasser des Buches sowie der stellvertretende Leiter Thomas Thorausch im Gespräch mit Ivan Liška\, ehemaliger Direktor des Bayerischen Staatsballetts \nDas 1922 in Stuttgart uraufgeführte „Triadische Ballett“ zählt heute zu den bekanntesten Werken von Oskar Schlemmer: Kubistische Figuren\, Kugelhände\, Spiralen und Scheibenröcke – Fotografien und Zeichnungen der avantgardistischen Kostüme sind weltberühmt. \nAnders als die dreidimensionalen Kostümfigurinen sind die Dokumente zu Oskar Schlemmers Arbeiten für den Tanz – wie Fotos\, Briefwechsel\, Programmzettel\, Kritiken sowie Aufsätze Schlemmers – einer größeren Öffentlichkeit bisher kaum bekannt. Frank-Manuel Peter\, Leiter des Deutschen Tanzarchivs Köln\, stellt diese Dokumente und selbst der Forschung bislang nicht bekannte historische Quellen aus der Kölner Sammlung in ihrem zeit- und tanzgeschichtlichen Kontext vor: „August Schlemmer und der Tanz“\, die an diesem Nachmittag der Öffentlichkeit präsentierte 640-seitige und mit 301 Abbildungen reich illustrierte Publikation\, ist ein für die bildende Kunst wie für den Tanz im 20. Jahrhundert gleichermaßen bedeutende Dokumentensammlung. Dr. Martin Hoernes\, Generalsekretär der Ernst von Siemens Kunststiftung\, die seit mehr als 30 Jahren Neuerwerbungen für Kulturinstitutionen fördert und die Erforschung und Erschließung von Sammlungsbeständen wie auch diesen unterstützt\, sagt: „‚Oskar Schlemmer und der Tanz‘ macht einen bedeutsamen Fundus historischer Quellen im Kölner Tanzarchiv durch wissenschaftliche Bearbeitung öffentlich zugänglich\, was uns mit großer Freude erfüllt.“ \n1977 kam das „Triadische Ballett“ in einer aufwendigen Rekonstruktion von Gerhard Bohner zur neu komponierten Musik von Hans-Joachim Hespos in der West-Berliner Akademie der Künste erneut zur Aufführung. Nach dem Tode des Choreographen Gerhard Bohner übernahmen Ivan Liška und seine Frau Colleen Scott – einst Solisten in Bohners Fassung – das „Triadische Ballett“ und setzten dessen Erfolgsgeschichte fort. \nSpannend zu werden verspricht das Gespräch mit dem Tänzer und Choreographen Ivan Liška\, der sich kürzlich über die fortwährende Aktualität des „Triadischen Balletts“ wie folgt äußerte: „Oskar Schlemmer war sehr an der ‚Maschine Mensch‘ interessiert und suchte den Mechanismus des Körpers zu erspüren. Zugleich hat sein Ballett für mich auch viel Berührendes\, Menschliches und Humorvolles. Als Reaktion auf die Katastrophe des Ersten Weltkrieges fragten sich seinerzeit die Menschen: Ist die Maschine die Zukunft? Ist das nicht die gleiche Frage\, die uns nach wie vor beschäftigt?“
URL:https://literaturszene-koeln.de/termin/buchpraesentation-oskar-schlemmer-und-der-tanz/
LOCATION:Tanzmuseum des Deutschen Tanzarchivs Köln\, Im Mediapark 7 (3.OG)\, Köln\, 50670
CATEGORIES:Buchpräsentation
ATTACH;FMTTYPE=image/jpeg:https://literaturszene-koeln.de/wp-content/uploads/2023/09/Oskar-Schlemmer-und-der-Tanz_Cover_350h.jpg
END:VEVENT
END:VCALENDAR