BEGIN:VCALENDAR
VERSION:2.0
PRODID:-//Literaturszene Köln e.V. - ECPv6.15.20//NONSGML v1.0//EN
CALSCALE:GREGORIAN
METHOD:PUBLISH
X-WR-CALNAME:Literaturszene Köln e.V.
X-ORIGINAL-URL:https://literaturszene-koeln.de
X-WR-CALDESC:Veranstaltungen für Literaturszene Köln e.V.
REFRESH-INTERVAL;VALUE=DURATION:PT1H
X-Robots-Tag:noindex
X-PUBLISHED-TTL:PT1H
BEGIN:VTIMEZONE
TZID:Europe/Berlin
BEGIN:DAYLIGHT
TZOFFSETFROM:+0100
TZOFFSETTO:+0200
TZNAME:CEST
DTSTART:20190331T010000
END:DAYLIGHT
BEGIN:STANDARD
TZOFFSETFROM:+0200
TZOFFSETTO:+0100
TZNAME:CET
DTSTART:20191027T010000
END:STANDARD
BEGIN:DAYLIGHT
TZOFFSETFROM:+0100
TZOFFSETTO:+0200
TZNAME:CEST
DTSTART:20200329T010000
END:DAYLIGHT
BEGIN:STANDARD
TZOFFSETFROM:+0200
TZOFFSETTO:+0100
TZNAME:CET
DTSTART:20201025T010000
END:STANDARD
BEGIN:DAYLIGHT
TZOFFSETFROM:+0100
TZOFFSETTO:+0200
TZNAME:CEST
DTSTART:20210328T010000
END:DAYLIGHT
BEGIN:STANDARD
TZOFFSETFROM:+0200
TZOFFSETTO:+0100
TZNAME:CET
DTSTART:20211031T010000
END:STANDARD
BEGIN:DAYLIGHT
TZOFFSETFROM:+0100
TZOFFSETTO:+0200
TZNAME:CEST
DTSTART:20220327T010000
END:DAYLIGHT
BEGIN:STANDARD
TZOFFSETFROM:+0200
TZOFFSETTO:+0100
TZNAME:CET
DTSTART:20221030T010000
END:STANDARD
BEGIN:DAYLIGHT
TZOFFSETFROM:+0100
TZOFFSETTO:+0200
TZNAME:CEST
DTSTART:20230326T010000
END:DAYLIGHT
BEGIN:STANDARD
TZOFFSETFROM:+0200
TZOFFSETTO:+0100
TZNAME:CET
DTSTART:20231029T010000
END:STANDARD
BEGIN:DAYLIGHT
TZOFFSETFROM:+0100
TZOFFSETTO:+0200
TZNAME:CEST
DTSTART:20240331T010000
END:DAYLIGHT
BEGIN:STANDARD
TZOFFSETFROM:+0200
TZOFFSETTO:+0100
TZNAME:CET
DTSTART:20241027T010000
END:STANDARD
BEGIN:DAYLIGHT
TZOFFSETFROM:+0100
TZOFFSETTO:+0200
TZNAME:CEST
DTSTART:20250330T010000
END:DAYLIGHT
BEGIN:STANDARD
TZOFFSETFROM:+0200
TZOFFSETTO:+0100
TZNAME:CET
DTSTART:20251026T010000
END:STANDARD
BEGIN:DAYLIGHT
TZOFFSETFROM:+0100
TZOFFSETTO:+0200
TZNAME:CEST
DTSTART:20260329T010000
END:DAYLIGHT
BEGIN:STANDARD
TZOFFSETFROM:+0200
TZOFFSETTO:+0100
TZNAME:CET
DTSTART:20261025T010000
END:STANDARD
END:VTIMEZONE
BEGIN:VEVENT
DTSTART;TZID=Europe/Berlin:20251115T193000
DTEND;TZID=Europe/Berlin:20251115T210000
DTSTAMP:20260423T134730
CREATED:20251026T174631Z
LAST-MODIFIED:20251026T174631Z
UID:28947-1763235000-1763240400@literaturszene-koeln.de
SUMMARY:»Buch für die Stadt« 2025 – Claudia Schumacher: Liebe ist gewaltig
DESCRIPTION:Liebe ist gewaltig (dtv) von Claudia Schumacher ist das »Buch für die Stadt« 2025! \nDer Roman wagt einen schonungslosen Blick hinter die Fassade einer bürgerlichen\, scheinbar perfekten Bilderbuchfamilie. Doch in der Kleinstadtvilla tun sich Abgründe auf: Der Vater ist ein brutaler Tyrann\, der seine Frau und die vier Kinder regelmäßig verprügelt. Über drei Jahrzehnte hinweg begleiten wir Juli\, die jüngste Tochter\, die mit aller Macht versucht\, die Deutungshoheit über ihr Leben zu erlangen: Sie will das Schweigen brechen\, doch wie kann man sich befreien\, wenn man weder den Eltern noch den eigenen Erinnerungen traut?\nEin sprachgewaltiger\, psychologisch tiefgründiger Roman über häusliche Gewalt\, Verletzungen – und die Möglichkeit von Heilung. Anne Burgmer moderiert den Abend im Schauspielhaus. \nDas »Buch für die Stadt« ist eine gemeinsame Literaturaktion von Literaturhaus Köln und »Kölner Stadt-Anzeiger«. Die Jury bildeten Bettina Fischer (Literaturhaus Köln)\, Hildegund Laaff (Lengfeld’sche Buchhandlung)\, Martin Oehlen (Literaturblog »Bücher-Atlas«) und Anne Burgmer (»Kölner Stadt-Anzeiger«). Die Sonderausgabe des Romans erscheint bei dtv. \nMit freundlicher Unterstützung von JTI. \nFoto: (c) Jewgeni Roppel
URL:https://literaturszene-koeln.de/termin/buch-fuer-die-stadt-2025-claudia-schumacher-liebe-ist-gewaltig/
LOCATION:Schauspiel Köln im Depot 1\, Schanzenstraße 6-20\, Köln\, Deutschland
CATEGORIES:Gespräche,Lesung
ATTACH;FMTTYPE=image/jpeg:https://literaturszene-koeln.de/wp-content/uploads/2025/10/15-11-2025_Claudia-Schumacher_c_Jewgeni-Roppel.jpg
END:VEVENT
BEGIN:VEVENT
DTSTART;TZID=Europe/Berlin:20241110T113000
DTEND;TZID=Europe/Berlin:20241110T130000
DTSTAMP:20260423T134730
CREATED:20241020T111841Z
LAST-MODIFIED:20241020T111841Z
UID:26170-1731238200-1731243600@literaturszene-koeln.de
SUMMARY:»Buch für die Stadt« 2024: Fatma Aydemir: Dschinns 
DESCRIPTION:Dschinns (dtv) von Fatma Aydemir ist das »Buch für die Stadt« 2024! \nVielschichtig und mit großer Intensität erzählt Fatma Aydemir von sechs grundverschiedenen Menschen\, von Familienlügen\, Heimatlosigkeit und Migrationserfahrung\, von der unstillbaren Sehnsucht\, verstanden zu werden. \nDreißig Jahre lang hat Hüseyin Yılmaz in Deutschland gearbeitet\, nun erfüllt er sich im Ruhestand endlich den Traum einer Wohnung in Istanbul. Doch am Tag des Einzugs stirbt er an einem Herzinfarkt. Seine Familie reist zur Beerdigung\, alle haben sie ihr ganz eigenes Gepäck aus Geheimnissen\, Wünschen und Wunden dabei. Anne Burgmer moderiert die Matinee im Schauspielhaus. \nDas »Buch für die Stadt« ist eine gemeinsame Literaturaktion von Literaturhaus Köln und »Kölner Stadt-Anzeiger«. Die Jury bildeten Bettina Fischer (Literaturhaus Köln)\, Hildegund Laaff (Lengfeld’sche Buchhandlung)\, Martin Oehlen (Literaturblog »Bücher-Atlas«) und Anne Burgmer (»Kölner Stadt-Anzeiger«). Die Sonderausgabe des Romans ist bei dtv erschienen. \nMit freundlicher Unterstützung von JTI \nFoto: (c) Sibylle Fendt
URL:https://literaturszene-koeln.de/termin/buch-fuer-die-stadt-2024-fatma-aydemir-dschinns/
LOCATION:Schauspiel Köln im Depot 1\, Schanzenstraße 6-20\, Köln\, Deutschland
CATEGORIES:Buchpräsentation,Gespräche
ATTACH;FMTTYPE=image/jpeg:https://literaturszene-koeln.de/wp-content/uploads/2024/10/10-11-2024_Fatma-Aydemir_c_Sibylle-Fendt-2021.jpg
END:VEVENT
BEGIN:VEVENT
DTSTART;TZID=Europe/Berlin:20240224T193000
DTEND;TZID=Europe/Berlin:20240224T210000
DTSTAMP:20260423T134730
CREATED:20240115T115740Z
LAST-MODIFIED:20240216T114737Z
UID:22287-1708803000-1708808400@literaturszene-koeln.de
SUMMARY:[AUSVERKAUFT] Literarischer Salon: Orhan Pamuk
DESCRIPTION:Wann immer Orhan Pamuk einen Preis erhält\, ob den Friedenspreis des Deutschen Buchhandels oder den Nobelpreis für Literatur\, immer wird er als Brückenbauer zwischen Kulturen gepriesen. Sein neues Buch Erinnerungen an ferne Berge (Hanser) ist ein Tagebuch aus literarischen Skizzen und gezeichneten Erzählungen. Und weil fast zeitglich das Begleitbuch zu seiner großen Ausstellung Der Trost der Dinge (Hanser) in der Gemäldegalerie Dresden erscheint\, geht es Guy Helminger und Navid Kermani um den gesamten Kosmos des Pamuk‘schen Werks. \nVeranstaltungspartner: Schauspiel Köln\, Konrad-Adenauer-Stiftung\, Kulturamt der Stadt Köln\, Buchhandlung Klaus Bittner\, KulturForum TürkeiDeutschland \nFoto: (c) Hakan Ezilmez
URL:https://literaturszene-koeln.de/termin/literarischer-salon-orhan-pamuk/
LOCATION:Schauspiel Köln im Depot 1\, Schanzenstraße 6-20\, Köln\, Deutschland
CATEGORIES:Gespräche,Lesung
ATTACH;FMTTYPE=image/jpeg:https://literaturszene-koeln.de/wp-content/uploads/2024/01/24-02-2024_Orhan-Pamuk_c-Hakan-Ezilmez.jpg
END:VEVENT
BEGIN:VEVENT
DTSTART;TZID=Europe/Berlin:20240131T173000
DTEND;TZID=Europe/Berlin:20240131T220000
DTSTAMP:20260423T134730
CREATED:20240103T123132Z
LAST-MODIFIED:20240103T123132Z
UID:22014-1706722200-1706738400@literaturszene-koeln.de
SUMMARY:Spurensuche: "Die verlorene Ehre der Katharina Blum"
DESCRIPTION:Interaktiver Einblick in Heinrich Bölls Erzählung mit anschließendem Theaterbesuch\nGemeinsam mit dem Schauspiel Köln wollen wir etwas tiefer in Heinrich Bölls Erzählung „Die verlorene Ehre der Katharina Blum“ eintauchen. \nBei einer interaktiven Einführung sind alle Interessierten in unsere Zentralbibliothek eingeladen\, um mit dem Theaterpädagogen David Vogel Aufbau und Struktur des Theaterstücks näher kennenzulernen sowie einen Zugang zur Handlung\, den Charakteren und deren Beziehungen zu finden. \nAußerdem erhalten Sie eine exklusive 30-minütige Führung durch das Heinrich-Böll-Archiv. Ein besonderer Höhepunkt ist hier das museal präsentierte Arbeitszimmer Heinrich Bölls. \nDer gemeinsame Vorstellungsbesuch im Schauspiel Köln im Anschluss rundet den Abend ab. \nDie Veranstaltung ist eine Kooperation der Stadtbibliothek Köln mit dem Schauspiel Köln. \nDarum geht es in „Die verlorene Ehre der Katharina Blum“\n1974: Eine junge Frau verlässt ihre Wohnung\, um zu einem privaten Tanzvergnügen zu gehen. Vier Tage später stellt sie sich der Polizei und gibt an\, einen Journalisten erschossen zu haben. Reue empfindet sie nicht. Was ist Katharina Blum in den vergangenen vier Tagen widerfahren? Was hat zu dieser dramatischen Entwicklung geführt? \nIn Form von Protokollen\, Berichten und Zeug*innenaussagen rekonstruiert Heinrich Böll in seiner berühmt gewordenen Erzählung die beispielhafte Geschichte einer Eskalation von Gewalt. Katharina Blum gerät in den Fokus der Boulevardpresse\, weil sie sich impulsiv in einen gesuchten Terror-Verdächtigen verliebt und ihm zur Flucht verhilft. Schutzlos sieht sie sich einer Kampagne ausgesetzt\, die vor nichts Halt macht und alternative Fakten als allgemein gültige Tatsachen verkauft. \nMit „Die verlorene Ehre der Katharina Blum“ zeichnet Heinrich Böll das Bild einer zutiefst patriarchalen Gesellschaft\, in der Populismus und Sexismus destruktiv zusammenwirken. Fünfzig Jahre nach dem Erscheinen der Erzählung bringt Regisseur Bastian Kraft den Text mit einem rein weiblichen Ensemble auf die Bühne des Depot 1.
URL:https://literaturszene-koeln.de/termin/spurensuche-die-verlorene-ehre-der-katharina-blum/
LOCATION:Stadtbibliothek Köln\, Josef-Haubrich-Hof 1\, Köln\, 50676\, Deutschland
CATEGORIES:Vorführung,Workshop
END:VEVENT
BEGIN:VEVENT
DTSTART;TZID=Europe/Berlin:20231214T193000
DTEND;TZID=Europe/Berlin:20231214T210000
DTSTAMP:20260423T134730
CREATED:20231127T111356Z
LAST-MODIFIED:20231127T111356Z
UID:21440-1702582200-1702587600@literaturszene-koeln.de
SUMMARY:Literarischer Salon: Tsitsi Dangarembga
DESCRIPTION:Friedenspreisträgerin Tsitsi Dangarembga zu Gast bei Guy Helminger und Navid Kermani im Literarischen Salon. Geboren 1959 in Zimbabwe\, setzt sie sich stets leidenschaftlich für Demokratie\, Emanzipation und Menschenrechte ein. Mit ihrer Tambudzai-Trilogie Aufbrechen\, Verleugnen\, Überleben (Orlanda Buchverlag) hat sie ein Monument der afrikanischen Literatur geschaffen. Ihr aktueller Essay Schwarz und Frau (Quadriga) ist das Buch der Stunde im postkolonialen Diskurs. \nLesung: Anja Laïs. Übersetzung: Kristian Lutze. \nVeranstaltungspartner: Schauspiel Köln\, Heinrich-Böll-Stiftung\, Kulturamt der Stadt Köln\, Buchhandlung Klaus Bittner\, stimmen afrikas / Allerweltshaus Köln e.V. \nFoto: (c) Hannah Mentz
URL:https://literaturszene-koeln.de/termin/literarischer-salon-tsitsi-dangarembga/
LOCATION:Schauspiel Köln im Depot 1\, Schanzenstraße 6-20\, Köln\, Deutschland
CATEGORIES:Gespräche,Lesung
ATTACH;FMTTYPE=image/jpeg:https://literaturszene-koeln.de/wp-content/uploads/2023/11/14-12-2023_Tsitsi-Dangarembga_c_Hannah-Mentz.jpg
END:VEVENT
BEGIN:VEVENT
DTSTART;TZID=Europe/Berlin:20231119T110000
DTEND;TZID=Europe/Berlin:20231119T123000
DTSTAMP:20260423T134730
CREATED:20231017T101030Z
LAST-MODIFIED:20231017T101030Z
UID:20561-1700391600-1700397000@literaturszene-koeln.de
SUMMARY:»Buch für die Stadt« – Volker Kutscher: Der nasse Fisch
DESCRIPTION:Der nasse Fisch (Piper) von Volker Kutscher ist das »Buch für die Stadt« 2023! \nDer Kriminalroman lässt das Berlin des Jahres 1929 gegenwärtig werden. Gereon Rath\, gerade von Köln nach Berlin gekommen und abgestellt bei der Sitte\, erlebt eine Weltstadt im Rausch. Nach dem Fund einer unidentifizierten Leiche schaltet sich der junge ehrgeizige Kommissar ungefragt in die stagnierenden Ermittlungen der Mordkommission ein – und stößt in ein Wespennest. Mit diesem Roman beginnt eine sensationelle Serie\, in der Volker Kutscher Kriminalkommissar Gereon Rath und Charlotte Ritter durch das Berlin der späten 20er- und frühen 30er-Jahre und mitten in die politischen und gesellschaftlichen Umbrüche der Zeit schickt. Anne Burgmer moderiert die Matinee im Schauspielhaus. \nDas »Buch für die Stadt« ist eine gemeinsame Literaturaktion von Literaturhaus Köln und »Kölner Stadt-Anzeiger«. Die Jury bildeten Bettina Fischer (Literaturhaus Köln)\, Hildegund Laaff (Lengfeld’sche Buchhandlung)\, Martin Oehlen (Literaturblog »Bücher-Atlas«) und Anne Burgmer (»Kölner Stadt-Anzeiger«). Die Sonderausgabe des Romans ist bei Piper erschienen. \nMit freundlicher Unterstützung von JTI \nFoto: (c) Andreas Chudowski
URL:https://literaturszene-koeln.de/termin/buch-fuer-die-stadt-volker-kutscher-der-nasse-fisch/
LOCATION:Schauspiel Köln im Depot 1\, Schanzenstraße 6-20\, Köln\, Deutschland
CATEGORIES:Gespräche,Lesung
ATTACH;FMTTYPE=image/jpeg:https://literaturszene-koeln.de/wp-content/uploads/2023/10/19-11-2023_Volker-Kutscher_c_Andreas-Chudowski.jpg
END:VEVENT
BEGIN:VEVENT
DTSTART;TZID=Europe/Berlin:20221113T113000
DTEND;TZID=Europe/Berlin:20221113T130000
DTSTAMP:20260423T134730
CREATED:20221017T183732Z
LAST-MODIFIED:20221113T214804Z
UID:19008-1668339000-1668344400@literaturszene-koeln.de
SUMMARY:»Buch für die Stadt« Nava Ebrahimi: Sechzehn Wörter
DESCRIPTION:Nava Ebrahimis kluger wie poetischer Roman Sechzehn Wörter (btb) ist das »Buch für die Stadt« 2022! \nAls ihre iranische Großmutter stirbt\, fliegt Mona mit ihrer Mutter in den Iran\, in die ferne Heimat\, zu den Verwandten\, die ihr fremd geworden sind. Der Rückflug in ihr Kölner Leben zwischen Coworking und Clubszene ist schon gebucht. Doch dann gerät ihr Aufenthalt zu einem Roadtrip und zu einer Spurensuche. Sechzehn Wörter bilden dabei den Schlüssel zu Monas Vergangenheit\, zum Leben ihrer Mutter und Großmutter\, zu Familiengeheimnissen und den Wurzeln ihrer Familie. Mit Anne Burgmer spricht Nava Ebrahimi darüber\, wie aus Wörtern Geschichten werden und aus Geschichten Identität. \nDas »Buch für die Stadt« ist eine gemeinsame Literaturaktion von Literaturhaus Köln und »Kölner Stadt-Anzeiger«. Die Jury bildeten Bettina Fischer (Literaturhaus Köln)\, Hildegund Laaff (Lengfeld’sche Buchhandlung)\, Martin Oehlen (Literaturblog »Bücher-Atlas«) und Anne Burgmer (»Kölner Stadt-Anzeiger«). Die Sonderausgabe des Romans ist im btb Verlag erschienen. \nMit freundlicher Unterstützung von JTI \nFoto: (c) Peter Rigaud\, Shotview
URL:https://literaturszene-koeln.de/termin/buch-fuer-die-stadt-nava-ebrahimi-sechzehn-woerter/
LOCATION:Schauspiel Köln im Depot 1\, Schanzenstraße 6-20\, Köln\, Deutschland
CATEGORIES:Gespräche,Lesung
ATTACH;FMTTYPE=image/jpeg:https://literaturszene-koeln.de/wp-content/uploads/2022/10/13-11-2022_Nava-Ebrahimi_c_Peter-Rigaud-Shotview-vfd1zR.tmp_.jpg
END:VEVENT
BEGIN:VEVENT
DTSTART;TZID=Europe/Berlin:20220205T193000
DTEND;TZID=Europe/Berlin:20220205T210000
DTSTAMP:20260423T134730
CREATED:20220121T221731Z
LAST-MODIFIED:20220205T225446Z
UID:17639-1644089400-1644094800@literaturszene-koeln.de
SUMMARY:Navid Kermani: Jeder soll von da\, wo er ist\, einen Schritt näher kommen. Fragen nach Gott
DESCRIPTION:Ein Vater erzählt seiner Tochter von Gott und dem Tod\, von der Liebe und der Unendlichkeit\, von seiner eigenen Religion. Navid Kermanis sehr persönliches Buch Jeder soll von da\, wo er ist\, einen Schritt näher kommen. Fragen nach Gott (Hanser) schöpft aus einem tiefen Wissen aus zwei Kulturen und vereint in seiner Offenheit den Glauben und das Zweifeln an Gott. Navid Kermani präsentiert sein neues Buch im musikalischen Dialog mit Pi-hsien Chen und Manos Tsangaris. \nDas Problem mit der Religion ist nicht\, dass sie so kompliziert ist. Das Problem ist\, dass sie so einfach ist. Wir denken nach und nach und nach und begreifen überhaupt nicht oder vergessen währenddessen\, dass es um das ganz Offensichtliche geht. \nAm Anfang von Navid Kermanis Buch über Religion und Glauben steht ein Versprechen: »Als er im Krankenhaus lag\, sollte ich Opa eines Nachts versprechen\, dich den Islam zu lehren\, wenn er nicht mehr da ist\, unseren Islam\, den Islam\, mit dem ich aufgewachsen bin\, den Islam\, den auch er als Kind in Isfahan erlebt hatte\, den Islam unserer Vorfahren.« Und so beginnt ein Vater\, seiner Tochter Abend für Abend zu erzählen – nicht nur vom Islam\, sondern ganz grundlegend von der Idee Gottes\, die die Gläubigen aller Religionen vereint. \nUnendlichkeit\, Liebe und Tod: Nach all dem fragt ihn die zwölfjährige Tochter\, in deren »Staunen über all die Dinge\, Erscheinungen und Geschehnisse auf der Welt« der Erzähler den Ursprung der Religionen erkennt. Und bedeutsame Antworten findet er noch im scheinbar flüchtigsten Blick aus dem Fenster\, denn das Wichtigste über Gott erfahre man nicht in den Heiligen Schriften\, sondern jeden Tag aufs Neue dort draußen\, in der Welt. \nPhilosophisch und zugleich literarisch\, mit großem Wissen um die Kulturen und mit sprachlicher Raffinesse stellt Navid Kermani die großen Fragen nach Gott und der Metaphysik – und findet überraschende Antworten. Jeder soll von da\, wo er ist\, einen Schritt näher kommen. Fragen nach Gott ist ein wahrer Erkenntnisgewinn und ein bewegendes Buch\, das auch uns staunen lässt. \nVeranstaltungspartner: Schauspiel Köln\, Hanser Verlag \n  \nFoto: (c) Heike Bogenberger
URL:https://literaturszene-koeln.de/termin/navid-kermani-jeder-soll-von-da-wo-er-ist-einen-schritt-naeher-kommen-fragen-nach-gott/
LOCATION:Schauspiel Köln im Depot 1\, Schanzenstraße 6-20\, Köln\, Deutschland
CATEGORIES:Gespräche,Lesung mit Musik
ATTACH;FMTTYPE=image/jpeg:https://literaturszene-koeln.de/wp-content/uploads/2022/01/05-02-2021_Navid-Kermani_c_Heike-Bogenberger_compressed-Vr2V49.tmp_.jpg
END:VEVENT
BEGIN:VEVENT
DTSTART;TZID=Europe/Berlin:20211026T200000
DTEND;TZID=Europe/Berlin:20211026T213000
DTSTAMP:20260423T134730
CREATED:20210925T204948Z
LAST-MODIFIED:20211026T190437Z
UID:17216-1635278400-1635283800@literaturszene-koeln.de
SUMMARY:Hunger nach Geschichten. Friedenspreis des Deutschen Buchhandels: Tsitsi Dangarembga
DESCRIPTION:Auf Einladung des Literaturhaus Köln kommt die Schriftstellerin und Filmemacherin Tsitsi Dangarembga aus Simbabwe nach Köln. Als weithin hörbare Stimme Afrikas in der Gegenwartsliteratur erhält sie in diesem Jahr den Friedenspreis des Deutschen Buchhandels. Ihr einzigartiges Erzählen zeigt soziale und moralische Konflikte auf\, die weit über den regionalen Bezug hinausgehen und Resonanzräume für globale Gerechtigkeitsfragen eröffnen. \nTsitsi Dangarembga erhält den Friedenspreis des Deutschen Buchhandels 2021. In der Begründung der Jury des Friedenspreises heißt es: »Die Schriftstellerin und Filmemacherin aus Simbabwe verbindet in ihrem künstlerischen Werk ein einzigartiges Erzählen mit einem universellen Blick und ist deshalb nicht nur eine der wichtigsten Künstlerinnen ihres Landes\, sondern auch eine weithin hörbare Stimme Afrikas in der Gegenwartsliteratur.« \nMit ihrem Roman This Mournable Body war Tsitsi Dangarembga 2020 für den Booker Prize nominiert. Es ist der dritte Teil einer Romantrilogie\, der am Beispiel einer heranwachsenden Frau namens Tambuzai den Kampf um das Recht auf ein menschenwürdiges Leben und weibliche Selbstbestimmung in Simbabwe beschreibt.  \n1989 begann Tsitsi Dangarembga ihr Studium an der Deutschen Film- und Fernsehakademie in Berlin. Sie schrieb das Drehbuch für den Film Neria\, der zu den meistgesehenen Filmen Simbabwes gehört. Sowohl in ihrem künstlerischen Schaffen als auch durch ihr politisches Engagement kämpft sie »mutig und lautstark« (Ilija Trojanow im DLF) für Frauen- und Freiheitsrechte sowie politische Veränderungen in Simbabwe.  \nDie Verleihung des Friedenspreises findet am Sonntag\, 24. Oktober 2021\, in der Frankfurter Paulskirche statt und wird live um 11 Uhr im ZDF übertragen.  \nDeutsche Lesung: Azizé Flittner \nDie Veranstaltung wird live auf WDR3 übertragen. \nVeranstaltungspartner: Literaturhaus Köln\, WDR3\, REWE Group\, Börsenverein des Deutschen Buchhandels\, Schauspiel Köln \n\nFoto: © Hannah Mentz
URL:https://literaturszene-koeln.de/termin/hunger-nach-geschichten-friedenspreis-des-deutschen-buchhandels-tsitsi-dangarembga/
LOCATION:Schauspiel Köln im Depot 1\, Schanzenstraße 6-20\, Köln\, Deutschland
CATEGORIES:Gespräche,Lesung
END:VEVENT
BEGIN:VEVENT
DTSTART;TZID=Europe/Berlin:20211003T113000
DTEND;TZID=Europe/Berlin:20211003T130000
DTSTAMP:20260423T134730
CREATED:20210916T202341Z
LAST-MODIFIED:20211003T204902Z
UID:17173-1633260600-1633266000@literaturszene-koeln.de
SUMMARY:»Buch für die Stadt«: Jackie Thomae
DESCRIPTION:Jackie Thomaes Roman Brüder (btb) ist das »Buch für die Stadt« 2021! \nBrüder erzählt von zwei Männern\, geboren im gleichen Jahr in der DDR\, Kinder desselben Vaters\, der ihnen nur seine dunkle Haut hinterlassen hat. Die Fragen\, die sich ihnen stellen\, sind dieselben. Ihre Leben könnten nicht unterschiedlicher sein: Mick\, Lebemann und liebenswerter Chaot\, der auf der Überholspur durch das Berlin der 90er surft. Gabriel\, Familienvater und prominenter Stararchitekt in London\, plötzlich bloßgestellt und angeklagt. \nEin großer deutscher Gesellschaftsroman\, der von Herkunft und Identität erzählt\, von Freundschaft und der Lücke\, die abwesende Eltern hinterlassen. Ein Roman über DDR\, Nachwendezeit und Nullerjahre\, mit den großen Themen unserer Zeit im Visier und der Frage\, wie wir werden\, wer wir sind. »Man gleitet in diesen Roman wie in einen Wortwechsel an der Bar« (SZ). \nAnne Burgmer moderiert die Auftakt-Matinee\, die die Aktionswoche vom 3. bis 9. Oktober eröffnet. \nVeranstaltungspartner: Kölner Stadt-Anzeiger\, Schauspiel Köln\, btb \nMit freundlicher Unterstützung von JTI \n  \nFoto: © Urban Zintel
URL:https://literaturszene-koeln.de/termin/buch-fuer-die-stadt-jackie-thomae/
LOCATION:Schauspiel Köln im Depot 1\, Schanzenstraße 6-20\, Köln\, Deutschland
CATEGORIES:Gespräche,Lesung
ATTACH;FMTTYPE=image/jpeg:https://literaturszene-koeln.de/wp-content/uploads/2021/09/03-10-2021_Jackie-Thomae_c_Urban-Zintel-scaled-mXG0vy.tmp_.jpg
END:VEVENT
BEGIN:VEVENT
DTSTART;TZID=Europe/Berlin:20210826T193000
DTEND;TZID=Europe/Berlin:20210826T210000
DTSTAMP:20260423T134730
CREATED:20210811T200228Z
LAST-MODIFIED:20210826T201900Z
UID:16999-1630006200-1630011600@literaturszene-koeln.de
SUMMARY:Buchpremiere: “Der Mauersegler” von Jasmin Schreiber
DESCRIPTION:Der zweite Roman nach dem großen Bestseller „Marianengraben“ \nMenschen träumen vom Fliegen\, doch wovon träumt ein Mauersegler? Vielleicht vom Fallen – so wie wir an der Grenze zwischen Wachsein und Schlaf… Prometheus ist Arzt und auch er befindet sich im freien Fall: Nach dem Tod seines besten Freundes tritt er eine überstürzte Flucht vor Polizei\, Familie und sich selbst an. Bis er schließlich am dänischen Strand aufschlägt. »Der Mauersegler« erzählt von einem Mann\, der an seiner Schuld zu zerbrechen droht. Und von zwei Frauen\, die wenig Fragen stellen – wie alle Menschen\, die ihre eigenen Geheimnisse haben. \nDie Geschichte einer großen Freundschaft\, eines unerwarteten Todes und der Suche nach Vergebung. \nJasmin Schreiber stellt ihren neuen Roman vor.\nModeration: Mona Ameziane \n\nJASMIN SCHREIBER\, geboren 1988\, ist studierte Biologin und arbeitet als Schriftstellerin. Ihr Roman »Marianengraben« war eines der\nerfolgreichsten Debüts 2020\, 2021 folgte ihr humorvolles erzählerisches Sachbuch »Abschied von Hermine«. Im Wissenschaftspodcast Bugtales.fm erzählt sie von Nacktmullen\, Bärtierchen und Walexplosionen. Gemeinsam mit einer absurden Anzahl an Tieren lebt sie in Frankfurt am Main und macht das Internet auf Twitter und Instagram unter @LaVieVagabonde unsicher. \n\nFoto: (c) Jasmin Schreiber
URL:https://literaturszene-koeln.de/termin/buchpremiere-der-mauersegler-von-jasmin-schreiber/
LOCATION:Schauspiel Köln im Depot 1\, Schanzenstraße 6-20\, Köln\, Deutschland
CATEGORIES:Buchpräsentation
ATTACH;FMTTYPE=image/jpeg:https://literaturszene-koeln.de/wp-content/uploads/2021/08/Jasmin-Schreiber-c-Jasmin-Schreiber-REjSAo.tmp_.jpg
END:VEVENT
BEGIN:VEVENT
DTSTART;TZID=Europe/Berlin:20201115T110000
DTEND;TZID=Europe/Berlin:20201115T123000
DTSTAMP:20260423T134730
CREATED:20201026T151252Z
LAST-MODIFIED:20201112T180626Z
UID:16005-1605438000-1605443400@literaturszene-koeln.de
SUMMARY:*** »Buch für die Stadt« – Nadifa Mohamed: Der Garten der verlorenen Seelen
DESCRIPTION:*** Aufgrund der aktuellen Corona-Regeln kann die Veranstaltung leider nicht live vor Publikum stattfinden\, wird aber möglicherweise in den digitalen Raum verlegt. Neuigkeiten dazu finden Sie so bald wie möglich auf literaturhaus-koeln.de *** \nNadifa Mohameds “Der Garten der verlorenen Seelen” ist das »Buch für die Stadt« 2020! Die Lebensläufe dreier Frauen prallen Ende der 1980er-Jahre auf den harten Rhythmus somalischer Wirklichkeit. Joachim Frank moderiert das Gespräch. Aus der im C.H.Beck Verlag erschienenen Sonderausgabe liest Milena Karas\, Kristian Lutze übersetzt das Gespräch. Die Auftakt-Matinee eröffnet die Aktionswoche vom 15. bis 22. November. \nVeranstaltungspartner: Kölner Stadt-Anzeiger\, JTI\, C.H.Beck\, stimmen afrikas\, Schauspiel Köln
URL:https://literaturszene-koeln.de/termin/buch-fuer-die-stadt-nadifa-mohamed-der-garten-der-verlorenen-seelen/
LOCATION:Schauspiel Köln im Depot 1\, Schanzenstraße 6-20\, Köln\, Deutschland
CATEGORIES:Autorenlesung
ATTACH;FMTTYPE=image/jpeg:https://literaturszene-koeln.de/wp-content/uploads/2020/10/15-11-2020_Nadifa-Mohamed_c_Sabeen-Hussain-1hyHlk.tmp_.jpg
END:VEVENT
END:VCALENDAR