BEGIN:VCALENDAR
VERSION:2.0
PRODID:-//Literaturszene Köln e.V. - ECPv6.15.20//NONSGML v1.0//EN
CALSCALE:GREGORIAN
METHOD:PUBLISH
X-WR-CALNAME:Literaturszene Köln e.V.
X-ORIGINAL-URL:https://literaturszene-koeln.de
X-WR-CALDESC:Veranstaltungen für Literaturszene Köln e.V.
REFRESH-INTERVAL;VALUE=DURATION:PT1H
X-Robots-Tag:noindex
X-PUBLISHED-TTL:PT1H
BEGIN:VTIMEZONE
TZID:Europe/Berlin
BEGIN:DAYLIGHT
TZOFFSETFROM:+0100
TZOFFSETTO:+0200
TZNAME:CEST
DTSTART:20230326T010000
END:DAYLIGHT
BEGIN:STANDARD
TZOFFSETFROM:+0200
TZOFFSETTO:+0100
TZNAME:CET
DTSTART:20231029T010000
END:STANDARD
BEGIN:DAYLIGHT
TZOFFSETFROM:+0100
TZOFFSETTO:+0200
TZNAME:CEST
DTSTART:20240331T010000
END:DAYLIGHT
BEGIN:STANDARD
TZOFFSETFROM:+0200
TZOFFSETTO:+0100
TZNAME:CET
DTSTART:20241027T010000
END:STANDARD
BEGIN:DAYLIGHT
TZOFFSETFROM:+0100
TZOFFSETTO:+0200
TZNAME:CEST
DTSTART:20250330T010000
END:DAYLIGHT
BEGIN:STANDARD
TZOFFSETFROM:+0200
TZOFFSETTO:+0100
TZNAME:CET
DTSTART:20251026T010000
END:STANDARD
END:VTIMEZONE
BEGIN:VEVENT
DTSTART;TZID=Europe/Berlin:20240825T160000
DTEND;TZID=Europe/Berlin:20240825T200000
DTSTAMP:20260425T132139
CREATED:20240820T122338Z
LAST-MODIFIED:20240820T122338Z
UID:25499-1724601600-1724616000@literaturszene-koeln.de
SUMMARY:[OHNE PRONOMEN] Summer-Edition. Queer-feministische Lesung & Talk
DESCRIPTION:am 25.8. um 16:00 Uhr laden wir Euch zur Sommer-Edition der queer-feministischen Lese- und Gesprächsreihe [OHNE PRONOMEN] in die wunderbare Pflanzstelle Kalk ein.\n\nWas das heißt? Heiße Texte\, kühle Drinks und (hoffentlich) nackte Zehen im Gras des Gartens der Pflanzstelle. \nDazu gibt es das Sommerbier „Wittchen“ von den fantastischen Brewsistas aus Kalk.\nFür alkoholfreie Getränke wird auch gesorgt\, außerdem dürft Ihr gerne Decken mitbringen\, um es Euch im schönsten Garten der Schälsick so richtig gemütlich zu machen.\n\nWir hören Texte von Ulrike Anna Bleier\, Theresa Gutmann & Irma Mečecić. Mit ihnen sprechen wir über die Inhalte\, ihr Schreiben und ihre Positionen als FLINTA* Writer.\nUnd dann freuen wir uns\, einfach noch mit Euch abzuhängen\, auf gute Gespräche\, einen entspannten Sonntag Nachmittag und leckeres Craft Bier.\n\n[OHNE PRONOMEN] ist eine Lesungs- und Gesprächsreihe für queer-feministische\, intersektionale Inhalte. Neue und bisher noch weniger bekannte Stimmen kommen hier zu Wort – ohne Gattungsbeschränkung.
URL:https://literaturszene-koeln.de/termin/ohne-pronomen-summer-edition-queer-feministische-lesung-talk/
LOCATION:Pflanzstelle\, Neuerburgstr. 21-23\, Köln
CATEGORIES:Gespräche,Lesung
ATTACH;FMTTYPE=image/jpeg:https://literaturszene-koeln.de/wp-content/uploads/2024/08/summer-edition-date.jpg
END:VEVENT
END:VCALENDAR