BEGIN:VCALENDAR
VERSION:2.0
PRODID:-//Literaturszene Köln e.V. - ECPv6.15.20//NONSGML v1.0//EN
CALSCALE:GREGORIAN
METHOD:PUBLISH
X-ORIGINAL-URL:https://literaturszene-koeln.de
X-WR-CALDESC:Veranstaltungen für Literaturszene Köln e.V.
REFRESH-INTERVAL;VALUE=DURATION:PT1H
X-Robots-Tag:noindex
X-PUBLISHED-TTL:PT1H
BEGIN:VTIMEZONE
TZID:Europe/Berlin
BEGIN:DAYLIGHT
TZOFFSETFROM:+0100
TZOFFSETTO:+0200
TZNAME:CEST
DTSTART:20200329T010000
END:DAYLIGHT
BEGIN:STANDARD
TZOFFSETFROM:+0200
TZOFFSETTO:+0100
TZNAME:CET
DTSTART:20201025T010000
END:STANDARD
BEGIN:DAYLIGHT
TZOFFSETFROM:+0100
TZOFFSETTO:+0200
TZNAME:CEST
DTSTART:20210328T010000
END:DAYLIGHT
BEGIN:STANDARD
TZOFFSETFROM:+0200
TZOFFSETTO:+0100
TZNAME:CET
DTSTART:20211031T010000
END:STANDARD
BEGIN:DAYLIGHT
TZOFFSETFROM:+0100
TZOFFSETTO:+0200
TZNAME:CEST
DTSTART:20220327T010000
END:DAYLIGHT
BEGIN:STANDARD
TZOFFSETFROM:+0200
TZOFFSETTO:+0100
TZNAME:CET
DTSTART:20221030T010000
END:STANDARD
BEGIN:DAYLIGHT
TZOFFSETFROM:+0100
TZOFFSETTO:+0200
TZNAME:CEST
DTSTART:20230326T010000
END:DAYLIGHT
BEGIN:STANDARD
TZOFFSETFROM:+0200
TZOFFSETTO:+0100
TZNAME:CET
DTSTART:20231029T010000
END:STANDARD
BEGIN:DAYLIGHT
TZOFFSETFROM:+0100
TZOFFSETTO:+0200
TZNAME:CEST
DTSTART:20240331T010000
END:DAYLIGHT
BEGIN:STANDARD
TZOFFSETFROM:+0200
TZOFFSETTO:+0100
TZNAME:CET
DTSTART:20241027T010000
END:STANDARD
BEGIN:DAYLIGHT
TZOFFSETFROM:+0100
TZOFFSETTO:+0200
TZNAME:CEST
DTSTART:20250330T010000
END:DAYLIGHT
BEGIN:STANDARD
TZOFFSETFROM:+0200
TZOFFSETTO:+0100
TZNAME:CET
DTSTART:20251026T010000
END:STANDARD
END:VTIMEZONE
BEGIN:VEVENT
DTSTART;VALUE=DATE:20240827
DTEND;VALUE=DATE:20240902
DTSTAMP:20260421T151833
CREATED:20240525T085249Z
LAST-MODIFIED:20240712T140147Z
UID:24332-1724716800-1725235199@literaturszene-koeln.de
SUMMARY:Europäisches Literaturfestival Köln-Kalk (eLk)
DESCRIPTION:Das Europäische Literaturfestival Köln-Kalk (eLk) ist frei\, live und draußen. Das mehrtägige Festival bietet jährlich und nun bereits zum 6. Mal ein zeitgemäßes Angebot aus Lesungen\, Gesprächen\, Workshops und Musik ganz im Sinne der Offenheit\, des Dialogs und der innovativen Kulturvermittlung. Das eLk 6 findet vom 27. August bis zum 01. September im rechtsrheinischen Köln-Kalk auf dem Ottmar-Pohl-Platz statt und lädt alle Menschen ein\, Literatur aus aller Welt zu erleben. Das Festival ist wie immer kostenlos\, mehrsprachig und hochkarätig besetzt mit fabelhaften Autor*innen\, die auf der Bühne ihre Texte lesen\, performen und über ihre Arbeit sprechen werden. \nDas Festival: \nIn diesem Jahr widmet sich das eLk dem Thema „Generationen“. Einem hochaktuellen und wichtigen Thema\, mit Blick auf demographische Strukturen und Generationenwandel\, auf generationelles Trauma und dessen Aufarbeitung. Zu den sechs geladenen Autor*innen gehören in diesem Jahr Livia Ştefan (Rumänien)\, Ana Pepelnik (Slowenien)\, Ubah Cristina Ali Farah (Italien)\, Faruk Šehić (Bosnien und Herzegowina)\, Gianna Olinda Cadonau (Schweiz) sowie Pelumi Adejumo (Niederlande). \nNeben den Lesungen bietet das eLk in diesem Jahr wieder ein buntes und spannendes Rahmen- und Vorprogramm. Die Festivalwoche beginnt am 27. August mit der Filmvorführung von Das leere Grab. Der Film erzählt das deutsch-tansanische Regieduo Agnes Lisa Wegner und Cece Mlay in ihrem Film von den Spuren und Traumata\, die die einstige deutsche Kolonialherrschaft in tansanischen Familien und Communities bis heute hinterlassen hat. Dann wird der polnische Autor und Musiker Grzegorz Kwiatkowski mit seiner erfolgreichen Indie-Rock-Band Trupa Trupa das Festival am 28. August mit einem ebenfalls kostenlosen Konzert und sich mit einer Lesung am Festival beteiligen. Auch das Wochenende bleibt musikalisch. Das Kölner Original Microphone Mafia zählt zu einem der ältesten aktiven Hiphop-Acts in Deutschland und tritt ebenfalls im Rahmen der Festivaltage auf. \nAußerdem sollen ein Workshopangebot und ein für alle offenes und kostenloses Frühstück am Sonntag die Besucher*innen zum Mitmachen und Dabeisein anregen. Auch Kinderbetreuung kann in Anspruch genommen werden. Co-Kurator Jonas Linnebank setzt auf den offenen Zugang zum innovativen Kulturkonzept. „Das eLk ist wie kein anderes Festival: Die Literatur versteckt sich nicht\, sondern sitzt mitten im öffentlichen Raum. Das ermöglicht einen Dialog zwischen Künstler*innen und Publikum ohne Barriere und Scheu“\, so Linnebank. \nIns Leben gerufen wurde das eLk vom Integrationshaus e.V.\, der Kölner Literaturzeitschrift KLiteratur\, dem Kunts e.V. und der Parasitenpresse nach einem Austausch mit Literaturakteur*innen aus Athen. Hinter der Organisation steht auch in diesem Jahr ein engagiertes Team und sorgt für ein breites und spannendes Programm. Gefördert wird das Festival u.a. vom Kulturamt der Stadt Köln sowie der Kunststiftung NRW.
URL:https://literaturszene-koeln.de/termin/europaeisches-literaturfestival-koeln-kalk-elk/
LOCATION:Ottmar-Pohl-Platz\, Ottmar-Pohl-Platz\, Köln-Kalk\, Deutschland
CATEGORIES:Festival
ATTACH;FMTTYPE=image/png:https://literaturszene-koeln.de/wp-content/uploads/2024/05/IMG_0033.png
END:VEVENT
BEGIN:VEVENT
DTSTART;VALUE=DATE:20220902
DTEND;VALUE=DATE:20220905
DTSTAMP:20260421T151833
CREATED:20220822T171919Z
LAST-MODIFIED:20220902T173253Z
UID:18616-1662076800-1662335999@literaturszene-koeln.de
SUMMARY:4. Europäisches Literaturfestival Köln-Kalk (ELK)
DESCRIPTION:Das Europäische Literaturfestival Köln-Kalk (ELK) geht ins vierte Jahr. Mit Jazra Khaleed\, Jelena Jeremejewa\, Shpëtim Selmani\, Ronya Othmann\, Krzysztof Siwczyk und Greta Ambrazaitė kommen sechs mehrfach ausgezeichnete Autor*innen nach Köln und bringen Literatur auf Griechisch\, Ukrainsch\, Albanisch\, Kurdisch\,  Polnisch und Litauisch auf die beiden ELK-Bühnen. \nDas ELK ist das Festival\, dass Europa zum Klingen bringt und wird dieses Jahr umso deutlicher ein Festival mit utopischem Ansatz: Für ein gemeinsames und offenes Europa\, für Austausch statt Abschottung. 2022 fragt es sich und seine Gäste dahern auch explizit nach dem “politischen Gedicht”. Was können Lyrik und Prosa zu dieser europäischen Utopie beisteuern? Ist das überhaupt ihre Aufgabe? Mit dem muslimischen Magazin für Kultur & Gesellschaft- Qamar\, dem queer-feministischen Literaturprojekt Die Stadtführer*in aus Köln und sieben ehemaligen ELK-Autor*innen aus 6 Ländern kommen weitere Gäste nach Kalk\, um die Frage nach Europa künstlerisch zu beantworten. Insofern bleibt das Festival vielstimmig\, offen utopisch und utopisch offen. \n3 Tage Literatur aus ganz Europa. Open Air und Eintritt frei. \nWeitere Infos und Programm:\nwww.elk-festival.com
URL:https://literaturszene-koeln.de/termin/4-europaeisches-literaturfestival-koeln-kalk-elk/
LOCATION:Ottmar-Pohl-Platz\, Ottmar-Pohl-Platz\, Köln-Kalk\, Deutschland
CATEGORIES:Festival
ATTACH;FMTTYPE=image/png:https://literaturszene-koeln.de/wp-content/uploads/2022/08/elk4_logo_neu-c7d59481-4y3ulv.tmp_.png
END:VEVENT
BEGIN:VEVENT
DTSTART;VALUE=DATE:20210903
DTEND;VALUE=DATE:20210906
DTSTAMP:20260421T151833
CREATED:20210811T200235Z
LAST-MODIFIED:20210903T201758Z
UID:17002-1630627200-1630886399@literaturszene-koeln.de
SUMMARY:elk³ – europäisches literaturfestival köln kalk
DESCRIPTION:Das Europäische Literaturfestival Köln-Kalk ist ein Gemeinschaftsprojekt von Integrationshaus e.V\, parasitenpresse\, der KLiteratur und dem KUNTS e.V. Die Idee zum Festival entstand aus dem Dichter*innen und Verlagsaustausch AC-Biblio zwischen Köln und Athen 2019. Seit dem wächst es im Zeichen der Resonanz und macht es sich jedes Jahr am 1. Septemberwochenende in Kalk gemütlich. \n\n\nDas Programm besteht aus mehrsprachigen Lesungen mit internationalen Autor*innen\, Gesprächen mit diversen Literaturzeitschriften\, Schreib- und Übersetzungsworkshops mit Autor*innen und Jugendlichen\, Livemusik\, Ausstellungen\, Infoständen diverser Initiativen und Party. Das alles setzt sich zu einem 3-tägigen Open-Air-Festival auf dem Kalker Ottmar-Pohl-Platz zusammen. \n\n\nDas ELK zeichnet sich durch seinen künstlerischen und sozialen Ansatz aus. Es steht für Offenheit\, Dialog und innovative Kunstvermittlung. Ohne Allüren und Eintritt ist das ELK ein Kulturfestival für alle und wird mit den Besucher*innen zu einem großen Wohnzimmer\, in dem die Literatur die europäische Idee von Gemeinsamkeit & Austausch hörbar\, sichtbar und spürbar macht.
URL:https://literaturszene-koeln.de/termin/elk%c2%b3-europaeisches-literaturfestival-koeln-kalk/
LOCATION:Ottmar-Pohl-Platz\, Ottmar-Pohl-Platz\, Köln-Kalk\, Deutschland
CATEGORIES:Festival
ATTACH;FMTTYPE=image/png:https://literaturszene-koeln.de/wp-content/uploads/2021/08/Bild_ELK-r0ZYuU.tmp_.png
END:VEVENT
END:VCALENDAR