BEGIN:VCALENDAR
VERSION:2.0
PRODID:-//Literaturszene Köln e.V. - ECPv6.15.20//NONSGML v1.0//EN
CALSCALE:GREGORIAN
METHOD:PUBLISH
X-WR-CALNAME:Literaturszene Köln e.V.
X-ORIGINAL-URL:https://literaturszene-koeln.de
X-WR-CALDESC:Veranstaltungen für Literaturszene Köln e.V.
REFRESH-INTERVAL;VALUE=DURATION:PT1H
X-Robots-Tag:noindex
X-PUBLISHED-TTL:PT1H
BEGIN:VTIMEZONE
TZID:Europe/Berlin
BEGIN:DAYLIGHT
TZOFFSETFROM:+0100
TZOFFSETTO:+0200
TZNAME:CEST
DTSTART:20230326T010000
END:DAYLIGHT
BEGIN:STANDARD
TZOFFSETFROM:+0200
TZOFFSETTO:+0100
TZNAME:CET
DTSTART:20231029T010000
END:STANDARD
BEGIN:DAYLIGHT
TZOFFSETFROM:+0100
TZOFFSETTO:+0200
TZNAME:CEST
DTSTART:20240331T010000
END:DAYLIGHT
BEGIN:STANDARD
TZOFFSETFROM:+0200
TZOFFSETTO:+0100
TZNAME:CET
DTSTART:20241027T010000
END:STANDARD
BEGIN:DAYLIGHT
TZOFFSETFROM:+0100
TZOFFSETTO:+0200
TZNAME:CEST
DTSTART:20250330T010000
END:DAYLIGHT
BEGIN:STANDARD
TZOFFSETFROM:+0200
TZOFFSETTO:+0100
TZNAME:CET
DTSTART:20251026T010000
END:STANDARD
END:VTIMEZONE
BEGIN:VEVENT
DTSTART;TZID=Europe/Berlin:20241209T190000
DTEND;TZID=Europe/Berlin:20241209T203000
DTSTAMP:20260423T163522
CREATED:20241201T101906Z
LAST-MODIFIED:20241201T101935Z
UID:26514-1733770800-1733776200@literaturszene-koeln.de
SUMMARY:Ein Abend mit Samy Challah und Sven Ilgner
DESCRIPTION:Ein Abend mit Autor/Schauspieler und Cartoonist Samy Challah und Autor Sven Ilgner. Samy Challah zeigt Cartoons und Texte und Sven Ilgner liest aus seinem Roman Tourist Menu.\n\nDank der Buchhandlung Falderstrasse aus Sürth gibt es an dem Abend die Möglichkeit\, direkt eine Ausgabe des Romans zu kaufen\, gerne auch signiert.
URL:https://literaturszene-koeln.de/termin/26514/
LOCATION:oté\, Eigelstein 122\, Köln
CATEGORIES:Lesung
ATTACH;FMTTYPE=image/jpeg:https://literaturszene-koeln.de/wp-content/uploads/2024/12/Lesung0912.jpeg
END:VEVENT
END:VCALENDAR