BEGIN:VCALENDAR
VERSION:2.0
PRODID:-//Literaturszene Köln e.V. - ECPv6.15.20//NONSGML v1.0//EN
CALSCALE:GREGORIAN
METHOD:PUBLISH
X-ORIGINAL-URL:https://literaturszene-koeln.de
X-WR-CALDESC:Veranstaltungen für Literaturszene Köln e.V.
REFRESH-INTERVAL;VALUE=DURATION:PT1H
X-Robots-Tag:noindex
X-PUBLISHED-TTL:PT1H
BEGIN:VTIMEZONE
TZID:Europe/Berlin
BEGIN:DAYLIGHT
TZOFFSETFROM:+0100
TZOFFSETTO:+0200
TZNAME:CEST
DTSTART:20230326T010000
END:DAYLIGHT
BEGIN:STANDARD
TZOFFSETFROM:+0200
TZOFFSETTO:+0100
TZNAME:CET
DTSTART:20231029T010000
END:STANDARD
BEGIN:DAYLIGHT
TZOFFSETFROM:+0100
TZOFFSETTO:+0200
TZNAME:CEST
DTSTART:20240331T010000
END:DAYLIGHT
BEGIN:STANDARD
TZOFFSETFROM:+0200
TZOFFSETTO:+0100
TZNAME:CET
DTSTART:20241027T010000
END:STANDARD
BEGIN:DAYLIGHT
TZOFFSETFROM:+0100
TZOFFSETTO:+0200
TZNAME:CEST
DTSTART:20250330T010000
END:DAYLIGHT
BEGIN:STANDARD
TZOFFSETFROM:+0200
TZOFFSETTO:+0100
TZNAME:CET
DTSTART:20251026T010000
END:STANDARD
END:VTIMEZONE
BEGIN:VEVENT
DTSTART;TZID=Europe/Berlin:20240227T190000
DTEND;TZID=Europe/Berlin:20240227T203000
DTSTAMP:20260423T165026
CREATED:20240205T145110Z
LAST-MODIFIED:20240205T145110Z
UID:22476-1709060400-1709065800@literaturszene-koeln.de
SUMMARY:"Highway to Hel" bei Nordika!
DESCRIPTION:Wir freuen uns sehr\, dass die Autorin und langjährige Isländisch-Dozentin Ulrike Serowy bei uns aus ihrem neuen Roman „Highway to Hel“ lesen wird\, der vor Kurzem bei der Edition Outbird in Gera erschienen ist. \nWorum wird es gehen? Der Klappentext verrät Folgendes: \nDer sympathische Bummelstudent Max hat einen makabren Nebenjob: Er sieht Toten beim Totsein zu. Eines Tages gerät er in eine besonders bizarre Lage: Eine junge Frau wacht in ihrem Sarg auf und Max ist der Einzige\, der ihr helfen kann. Von da an gilt es für die beiden\, ein paar lebenswichtige Fragen zu klären: Was hat Claire überhaupt in diesem Sarg zu suchen? Was ist dieser Vegvísir\, der andauernd auftaucht? Und warum sollte man im Jenseits immer eine Salami zur Hand haben? Auf der Jagd nach Antworten geraten die beiden immer wieder in skurrile Situationen und reisen von Köln über Berlin bis nach Island\, wo sie bis in die Totenwelt hinabsteigen müssen\, um Claire ganz zurück ins Leben zu holen. \nAnmeldung per Mail möglich info@nordika-koeln.de
URL:https://literaturszene-koeln.de/termin/highway-to-hel-bei-nordika/
LOCATION:Nordika\, Am Malzbüchel 6-8\, Köln\, 50667
CATEGORIES:Lesung
ATTACH;FMTTYPE=image/jpeg:https://literaturszene-koeln.de/wp-content/uploads/2024/02/Thumbnail-Ulrike-Serowy-Highway-to-Hel-Edition-Outbird-Interview-YouTube.jpg
END:VEVENT
END:VCALENDAR