BEGIN:VCALENDAR
VERSION:2.0
PRODID:-//Literaturszene Köln e.V. - ECPv6.15.20//NONSGML v1.0//EN
CALSCALE:GREGORIAN
METHOD:PUBLISH
X-ORIGINAL-URL:https://literaturszene-koeln.de
X-WR-CALDESC:Veranstaltungen für Literaturszene Köln e.V.
REFRESH-INTERVAL;VALUE=DURATION:PT1H
X-Robots-Tag:noindex
X-PUBLISHED-TTL:PT1H
BEGIN:VTIMEZONE
TZID:Europe/Berlin
BEGIN:DAYLIGHT
TZOFFSETFROM:+0100
TZOFFSETTO:+0200
TZNAME:CEST
DTSTART:20220327T010000
END:DAYLIGHT
BEGIN:STANDARD
TZOFFSETFROM:+0200
TZOFFSETTO:+0100
TZNAME:CET
DTSTART:20221030T010000
END:STANDARD
BEGIN:DAYLIGHT
TZOFFSETFROM:+0100
TZOFFSETTO:+0200
TZNAME:CEST
DTSTART:20230326T010000
END:DAYLIGHT
BEGIN:STANDARD
TZOFFSETFROM:+0200
TZOFFSETTO:+0100
TZNAME:CET
DTSTART:20231029T010000
END:STANDARD
BEGIN:DAYLIGHT
TZOFFSETFROM:+0100
TZOFFSETTO:+0200
TZNAME:CEST
DTSTART:20240331T010000
END:DAYLIGHT
BEGIN:STANDARD
TZOFFSETFROM:+0200
TZOFFSETTO:+0100
TZNAME:CET
DTSTART:20241027T010000
END:STANDARD
END:VTIMEZONE
BEGIN:VEVENT
DTSTART;TZID=Europe/Berlin:20231028T170000
DTEND;TZID=Europe/Berlin:20231028T183000
DTSTAMP:20260423T105810
CREATED:20231019T144152Z
LAST-MODIFIED:20231019T144152Z
UID:20587-1698512400-1698517800@literaturszene-koeln.de
SUMMARY:Manuel Chaves Nogales: ¡BLUT UND FEUER! Helden Bestien und Märtyrer im Spanischen Bürgerkrieg
DESCRIPTION:Introduzione e moderazione /Einführung und Moderation: \nTobias Eisermann (Petrarca Institut der Universität Köln) \nIn conversazione con l’editore e traduttore / Im Gespräch mit dem Verleger und Übersetzer Frank Henseleit \n  \nLetture da / Lesung aus: \nDeutschland im Zeichen des Hakenkreuzes\, Kupido 2022 \n¡Blut und Feuer! Helden\, Bestien und Märtyrer im Spanischen Bürgerkrieg\, Kupido 2022
URL:https://literaturszene-koeln.de/termin/manuel-chaves-nogales-blut-und-feuer-helden-bestien-und-maertyrer-im-spanischen-buergerkrieg/
LOCATION:Mondo Aperto Offene Welt e.V.\, Zugweg 22\, Köln\, 50677
CATEGORIES:Gespräche,Lesung
END:VEVENT
END:VCALENDAR