BEGIN:VCALENDAR
VERSION:2.0
PRODID:-//Literaturszene Köln e.V. - ECPv6.15.20//NONSGML v1.0//EN
CALSCALE:GREGORIAN
METHOD:PUBLISH
X-ORIGINAL-URL:https://literaturszene-koeln.de
X-WR-CALDESC:Veranstaltungen für Literaturszene Köln e.V.
REFRESH-INTERVAL;VALUE=DURATION:PT1H
X-Robots-Tag:noindex
X-PUBLISHED-TTL:PT1H
BEGIN:VTIMEZONE
TZID:Europe/Berlin
BEGIN:DAYLIGHT
TZOFFSETFROM:+0100
TZOFFSETTO:+0200
TZNAME:CEST
DTSTART:20210328T010000
END:DAYLIGHT
BEGIN:STANDARD
TZOFFSETFROM:+0200
TZOFFSETTO:+0100
TZNAME:CET
DTSTART:20211031T010000
END:STANDARD
BEGIN:DAYLIGHT
TZOFFSETFROM:+0100
TZOFFSETTO:+0200
TZNAME:CEST
DTSTART:20220327T010000
END:DAYLIGHT
BEGIN:STANDARD
TZOFFSETFROM:+0200
TZOFFSETTO:+0100
TZNAME:CET
DTSTART:20221030T010000
END:STANDARD
BEGIN:DAYLIGHT
TZOFFSETFROM:+0100
TZOFFSETTO:+0200
TZNAME:CEST
DTSTART:20230326T010000
END:DAYLIGHT
BEGIN:STANDARD
TZOFFSETFROM:+0200
TZOFFSETTO:+0100
TZNAME:CET
DTSTART:20231029T010000
END:STANDARD
BEGIN:DAYLIGHT
TZOFFSETFROM:+0100
TZOFFSETTO:+0200
TZNAME:CEST
DTSTART:20240331T010000
END:DAYLIGHT
BEGIN:STANDARD
TZOFFSETFROM:+0200
TZOFFSETTO:+0100
TZNAME:CET
DTSTART:20241027T010000
END:STANDARD
BEGIN:DAYLIGHT
TZOFFSETFROM:+0100
TZOFFSETTO:+0200
TZNAME:CEST
DTSTART:20250330T010000
END:DAYLIGHT
BEGIN:STANDARD
TZOFFSETFROM:+0200
TZOFFSETTO:+0100
TZNAME:CET
DTSTART:20251026T010000
END:STANDARD
END:VTIMEZONE
BEGIN:VEVENT
DTSTART;TZID=Europe/Berlin:20240617T200000
DTEND;TZID=Europe/Berlin:20240617T213000
DTSTAMP:20260421T152835
CREATED:20240530T045213Z
LAST-MODIFIED:20240530T045213Z
UID:24395-1718654400-1718659800@literaturszene-koeln.de
SUMMARY:Deniz Ohde liest aus „Ich stelle mich schlafend“
DESCRIPTION:Ich stelle mich schlafend erzählt von den dunklen Seiten einer Liebe – und die Geschichte einer Befreiung. Ein eindringlicher Roman über den Versuch einer Auslöschung und über die Frage\, ob es eine Berührung gibt\, die den Kern eines Menschen unwiederbringlich verändert.\nDas Haus\, in dem Yasemin bis vor kurzem gelebt hat\, steht nicht mehr. Von der Wohnung\, die sie zuletzt mit ihrem Freund Vito geteilt hat\, sind nur Erinnerungen übrig. Die Geschichte der beiden reicht bis in ihre Jugend zurück: Beide wachsen im selben Hochhauskomplex auf\, und Yasemin verliebt sich mit dreizehn in den drei Jahre älteren Nachbarn. Doch nach einem Sanatoriumsaufenthalt geht sie auf Distanz. Zu fremd ist ihr der eigene Körper\, zu groß die Scham wegen ihres Korsetts. Erst zwanzig Jahre später begegnen sie sich erneut. Yasemin hält dieses späte Aufflammen der Jugendliebe für Schicksal. Aber dann zeigt Vito sein Inneres\, das bedrohlich ist und leer. \nDeniz Ohde\, geboren 1988 in Frankfurt am Main\, studierte Germanistik in Leipzig\, wo sie heute auch lebt. Für ihren Debütroman Streulicht\, der 2020 auf der SPIEGEL-Bestsellerliste und auf der Shortlist des Deutschen Buchpreises stand\, wurde sie mit dem Literaturpreis der Jürgen Ponto-Stiftung und dem aspekte-Literaturpreis ausgezeichnet. \nFoto: (c) Börge Meyn\, SV
URL:https://literaturszene-koeln.de/termin/deniz-ohde-liest-aus-ich-stelle-mich-schlafend/
LOCATION:Maternus Buchhandel\, Severinstr. 76\, Köln\, 50678\, Deutschland
CATEGORIES:Autorenlesung
ATTACH;FMTTYPE=image/jpeg:https://literaturszene-koeln.de/wp-content/uploads/2024/05/Ohde_14cBoergeMeyn_SV.jpg
ORGANIZER;CN="Maternus Buchhandlung":MAILTO:kontakt@maternus-buchhandel.de
END:VEVENT
BEGIN:VEVENT
DTSTART;TZID=Europe/Berlin:20231026T200000
DTEND;TZID=Europe/Berlin:20231026T213000
DTSTAMP:20260421T152835
CREATED:20230922T095737Z
LAST-MODIFIED:20230922T095737Z
UID:20463-1698350400-1698355800@literaturszene-koeln.de
SUMMARY:Tijan Sila: Radio Sarajevo
DESCRIPTION:„Dies ist die Geschichte meiner Kindheit und meines Kriegs.“ Als im April 1992 der Krieg beginnt\, ist Tijan Sila nur zehn Jahre alt\, doch bis heute kann er sich an den Geruch von gezündetem Sprengstoff erinnern. Während Sarajevo in Flammen steht\, wird aus dem Jungen\, der er damals war\, ein junger Mann. Er streift durch die Ruinen der ausgebombten Stadt und sammelt Dinge\, die von den Geflohenen und Gestorbenen zurückgeblieben sind\, um sie auf dem Schwarzmarkt gegen Essen zu tauschen. Er lernt zu überleben\, und er akzeptiert die grausame neue Normalität\, doch zu welchem Preis? \nSeine Geschichte ist eine Geschichte des Unerwarteten. Sie erzählt davon\, wie Dichter zu Mördern werden und Mörder zu Helden. Sie erzählt von Menschen\, denen jede Menschlichkeit jäh genommen wurde\, und von den Spreißeln\, die der Krieg im Hirn jedes Überlebenden hinterlässt. \nTijan Sila\, geboren 1981 in Sarajevo\, kam 1994 als Kriegsflüchtling nach Deutschland. Er studierte Germanistik und Anglistik in Heidelberg. 2017 erschien sein erster Roman Tierchen Unlimited\, 2018 folgte Die Fahne der Wünsche\, 2021 Krach. Darüber hinaus veröffentlichte er Essays in der ZEIT\, der TAZ und dem FREITAG. Tijan Sila lebt in Kaiserslautern. \nFoto: (c) Christian Werner
URL:https://literaturszene-koeln.de/termin/tijan-sila-radio-sarajevo/
LOCATION:Maternus Buchhandel\, Severinstr. 76\, Köln\, 50678\, Deutschland
CATEGORIES:Lesung
ATTACH;FMTTYPE=image/jpeg:https://literaturszene-koeln.de/wp-content/uploads/2023/09/1TijanSila_by_ChristianWerner_HR_klein.jpg
ORGANIZER;CN="Maternus Buchhandlung":MAILTO:kontakt@maternus-buchhandel.de
END:VEVENT
BEGIN:VEVENT
DTSTART;TZID=Europe/Berlin:20221201T200000
DTEND;TZID=Europe/Berlin:20221201T213000
DTSTAMP:20260421T152835
CREATED:20220908T175424Z
LAST-MODIFIED:20221201T141831Z
UID:18705-1669924800-1669930200@literaturszene-koeln.de
SUMMARY:Feridun Zaimoglu liest aus „Bewältigung“ (Kiepenheuer & Witsch)
DESCRIPTION:Wo kippt Recherche in Obsession? Wann beginnt Kunst toxisch zu werden für ihren »Schöpfer«? Und gibt es Stoffe oder Themen\, die sich der literarischen Bewältigung entziehen\, weil sie zu giftig sind? Feridun Zaimoglu hat einen virtuosen Künstlerroman geschrieben über jemanden\, der sich vornimmt\, Adolf Hitler zum Protagonisten seines neuen Buches zu machen. \nZu Beginn scheint es eine normale Vorarbeit zu sein\, eine schwierige zwar\, aber keine unvertraute. Denn Schreiben bedeutet immer Anverwandlung\, eine Nähe zum Material ist absolut notwendig. Was aber\, wenn das Material sich nicht bewältigen lässt und beginnt\, ein zerstörerisches Eigenleben zu führen? Die Recherchereise des Autors an »Schauplätze« Hitlers\, führt ihn immer tiefer hinein in die Gedankenwelt seines Protagonisten. Die Bayreuther Festspiele\, München\, Obersalzberg: ein surrealer Fiebertraum. \nDoch es ist auch eine Reise zurück in der Zeit\, in seine Jugend in die Stadt Dachau Mitte der 1980er\, wo er zur Schule ging nicht weit von der Stelle\, wo die Nationalsozialisten 1933 das erste KZ errichteten. In Kiel\, an seiner Schreibmaschine\, versucht er seine Figur literarisch zu entfesseln und zugleich zu bannen. Und verliert Schritt für Schritt die Kontrolle über sein Projekt und mehr und mehr auch sich selbst. \nFeridun Zaimoglu\, geboren 1964 im anatolischen Bolu\, lebt seit seinem sechsten Lebensmonat in Deutschland. Er studierte Kunst und Humanmedizin in Kiel und schreibt für Die Welt\, die Frankfurter Rundschau\, Die Zeit und die FAZ. Für seine Romane erhielt er zahlreiche Auszeichnungen\, u.a. den Grimmelshausen-Preis (2007)\, den Jakob-Wassermann-Literaturpreis (2010)\, den Berliner Literaturpreis sowie die Ehrenprofessur des Landes Schleswig-Holstein (2016). Er lebt in Kiel. \nFoto: © picture alliance / Horst Galuschka/dpa | Horst Galuschka
URL:https://literaturszene-koeln.de/termin/feridun-zaimoglu-liest-aus-bewaeltigung-kiepenheuer-witsch/
LOCATION:Maternus Buchhandel\, Severinstr. 76\, Köln\, 50678\, Deutschland
CATEGORIES:Lesung
ATTACH;FMTTYPE=image/jpeg:https://literaturszene-koeln.de/wp-content/uploads/2022/09/Zaimoglu_H-2022_002k-NIZqIz.tmp_.jpg
ORGANIZER;CN="Maternus Buchhandlung":MAILTO:kontakt@maternus-buchhandel.de
END:VEVENT
BEGIN:VEVENT
DTSTART;TZID=Europe/Berlin:20221026T193000
DTEND;TZID=Europe/Berlin:20221026T210000
DTSTAMP:20260421T152835
CREATED:20220908T175400Z
LAST-MODIFIED:20221026T190705Z
UID:18699-1666812600-1666818000@literaturszene-koeln.de
SUMMARY:Norbert Scheuer liest aus „Mutabor“ (C.H. Beck)
DESCRIPTION:Die junge\, elternlose Nina Plisson weiß nicht\, was aus ihrer Mutter geworden ist und auch nicht\, wer ihr Vater war. Wissen andere in ihrer kleinen Heimatstadt Kall mehr? Was wird ihr vorenthalten?\nNachdem das vereinsamte und widerspenstige Mädchen lange Zeit große Schwierigkeiten hatte\, lesen und schreiben zu erlernen\, wird sie sich grundlegend verändern. Sie beginnt\, Erinnerungen aus ihrer frühen Kindheit aufzuschreiben\, vom Liebhaber ihrer verschollenen Mutter\, in der Gestalt eines schwarzen Storches\, von der Reise mit Großvaters Opel Kapitän ins sagenhafte Byzanz\, zum Palast der Störche\, und später dann\, von ihrer großen\, zunächst vergeblichen Liebe. Für Nina verwandelt sich das Urftland mehr und mehr in einen Ort voller Märchen und Mythen\, wie sie auf den Bierdeckeln von Evros\, dem griechischen Gastwirt\, stehen. Immer näher kommt sie einem Geheimnis\, das ihr all die Jahre beharrlich verschwiegen wurde. Einfühlsam und spannend erzählt Norbert Scheuer mit dem ihm eigenen poetischen Ton von der Suche nach der eigenen Geschichte\, nach Zugehörigkeit und Glück. \nNorbert Scheuer\, geboren 1951\, lebt als freier Schriftsteller in der Eifel. Er erhielt zahlreiche Literaturpreise und veröffentlichte zuletzt die Romane «Die Sprache der Vögel» (2015)\, der für den Preis der Leipziger Buchmesse nominiert war\, «Am Grund des Universums » (2017) und «Winterbienen» (2019)\, das zum Bestseller sowie in viele Sprachen übersetzt wurde. Er erhielt dafür den Wilhelm-Raabe-Preis 2019 und den Evangelischen Buchpreis 2020. \nFoto: (c) Fritz Peter Linden
URL:https://literaturszene-koeln.de/termin/norbert-scheuer-liest-aus-mutabor-c-h-beck/
LOCATION:Maternus Buchhandel\, Severinstr. 76\, Köln\, 50678\, Deutschland
CATEGORIES:Gespräche,Lesung
ATTACH;FMTTYPE=image/jpeg:https://literaturszene-koeln.de/wp-content/uploads/2022/09/POR_4ScheuerNorbert_honorarfrei_cFritzPeterLinden-scaled-SbIWdY.tmp_.jpg
ORGANIZER;CN="Maternus Buchhandlung":MAILTO:kontakt@maternus-buchhandel.de
END:VEVENT
END:VCALENDAR