BEGIN:VCALENDAR
VERSION:2.0
PRODID:-//Literaturszene Köln e.V. - ECPv6.15.20//NONSGML v1.0//EN
CALSCALE:GREGORIAN
METHOD:PUBLISH
X-ORIGINAL-URL:https://literaturszene-koeln.de
X-WR-CALDESC:Veranstaltungen für Literaturszene Köln e.V.
REFRESH-INTERVAL;VALUE=DURATION:PT1H
X-Robots-Tag:noindex
X-PUBLISHED-TTL:PT1H
BEGIN:VTIMEZONE
TZID:Europe/Berlin
BEGIN:DAYLIGHT
TZOFFSETFROM:+0100
TZOFFSETTO:+0200
TZNAME:CEST
DTSTART:20210328T010000
END:DAYLIGHT
BEGIN:STANDARD
TZOFFSETFROM:+0200
TZOFFSETTO:+0100
TZNAME:CET
DTSTART:20211031T010000
END:STANDARD
BEGIN:DAYLIGHT
TZOFFSETFROM:+0100
TZOFFSETTO:+0200
TZNAME:CEST
DTSTART:20220327T010000
END:DAYLIGHT
BEGIN:STANDARD
TZOFFSETFROM:+0200
TZOFFSETTO:+0100
TZNAME:CET
DTSTART:20221030T010000
END:STANDARD
BEGIN:DAYLIGHT
TZOFFSETFROM:+0100
TZOFFSETTO:+0200
TZNAME:CEST
DTSTART:20230326T010000
END:DAYLIGHT
BEGIN:STANDARD
TZOFFSETFROM:+0200
TZOFFSETTO:+0100
TZNAME:CET
DTSTART:20231029T010000
END:STANDARD
END:VTIMEZONE
BEGIN:VEVENT
DTSTART;TZID=Europe/Berlin:20220306T150000
DTEND;TZID=Europe/Berlin:20220306T170000
DTSTAMP:20260423T063334
CREATED:20220203T223234Z
LAST-MODIFIED:20220306T235020Z
UID:17681-1646578800-1646586000@literaturszene-koeln.de
SUMMARY:»Ich setzte den Fuß in die Luft\, und sie trug« (Hilde Domin) – Eine Stadtführung zu Schriftstellerinnen in Köln
DESCRIPTION:Treffpunkt: Marienplatz 4 (nahe St. Maria im Capitol) \nDauer: 2 Stunden   \nEintritt: 10\,-  \nStadtführerin: Ina Hoerner-Theodor   \nAnmeldung über info@literaturhaus-koeln.de \nLange Zeit schrieben Frauen im Verborgenen\, der Weg in die literarische Öffentlichkeit erfordert(e) Leidenschaft und Charakterstärke. Auf unserem Spaziergang vom Marienplatz bis zum Dom anlässlich des Internationalen Frauentages am 8. März begegnen wir 12 Autorinnen aus 200 Jahren – einer zeitgenössischen Dichterin\, einer feministischen 1848erin\, einer iranischen Exilantin u.a. – und hören O-Töne aus verschiedenen literarischen Genres.   \nLeseempfehlung zur Einstimmung: Nicole Seifert: FrauenLiteratur. Abgewertet\, vergessen\, wiederentdeckt (Kiepenheuer & Witsch) \nVeranstaltungspartner: Kölner Frauengeschichtsverein e.V.  \nCORONA-HINWEIS: \nFür diese Veranstaltung gilt die 2G-Regel: Die Teilnahme ist möglich bei Vorlage eines entsprechenden Nachweises über eine vollständige Impfung oder Genesung in Verbindung mit einem amtlichen Ausweisdokument.\nEs gelten die Pflicht zum Tragen einer medizinischen Maske sowie das Abstandsgebot.
URL:https://literaturszene-koeln.de/termin/ich-setzte-den-fuss-in-die-luft-und-sie-trug-hilde-domin-eine-stadtfuehrung-zu-schriftstellerinnen-in-koeln/
LOCATION:Marienplatz 4\, Marienplatz 4\, Köln\, 50676\, Deutschland
CATEGORIES:Stadtführung
END:VEVENT
END:VCALENDAR