BEGIN:VCALENDAR
VERSION:2.0
PRODID:-//Literaturszene Köln e.V. - ECPv6.15.20//NONSGML v1.0//EN
CALSCALE:GREGORIAN
METHOD:PUBLISH
X-WR-CALNAME:Literaturszene Köln e.V.
X-ORIGINAL-URL:https://literaturszene-koeln.de
X-WR-CALDESC:Veranstaltungen für Literaturszene Köln e.V.
REFRESH-INTERVAL;VALUE=DURATION:PT1H
X-Robots-Tag:noindex
X-PUBLISHED-TTL:PT1H
BEGIN:VTIMEZONE
TZID:Europe/Berlin
BEGIN:DAYLIGHT
TZOFFSETFROM:+0100
TZOFFSETTO:+0200
TZNAME:CEST
DTSTART:20250330T010000
END:DAYLIGHT
BEGIN:STANDARD
TZOFFSETFROM:+0200
TZOFFSETTO:+0100
TZNAME:CET
DTSTART:20251026T010000
END:STANDARD
BEGIN:DAYLIGHT
TZOFFSETFROM:+0100
TZOFFSETTO:+0200
TZNAME:CEST
DTSTART:20260329T010000
END:DAYLIGHT
BEGIN:STANDARD
TZOFFSETFROM:+0200
TZOFFSETTO:+0100
TZNAME:CET
DTSTART:20261025T010000
END:STANDARD
BEGIN:DAYLIGHT
TZOFFSETFROM:+0100
TZOFFSETTO:+0200
TZNAME:CEST
DTSTART:20270328T010000
END:DAYLIGHT
BEGIN:STANDARD
TZOFFSETFROM:+0200
TZOFFSETTO:+0100
TZNAME:CET
DTSTART:20271031T010000
END:STANDARD
END:VTIMEZONE
BEGIN:VEVENT
DTSTART;TZID=Europe/Berlin:20260423T193000
DTEND;TZID=Europe/Berlin:20260423T213000
DTSTAMP:20260422T145323
CREATED:20260409T112154Z
LAST-MODIFIED:20260409T112154Z
UID:29695-1776972600-1776979800@literaturszene-koeln.de
SUMMARY:Lilli Tollkien: Mit beiden Händen den Himmel stützen
DESCRIPTION:Lale wächst in den 80ern in einer Berliner Männer-Kommune auf\, in der Partys gefeiert und Revolutionen geplant werden. Sie darf wach bleiben\, solange sie will\, Süßigkeiten essen und ewig fernsehen. Doch sie sehnt sich nach Geborgenheit und Verlässlichkeit\, während ihre eigenen Grenzen immer wieder übertreten werden. Auf dem schmalen Grat zwischen Freiheit und Vernachlässigung sucht Lale ihren Weg\, taumelt an den Rändern und findet Jahre später Halt im Erzählen selbst. \nAuthentisch\, verletzlich\, von poetischer Spannkraft. \nAutorin: Lilli Tollkien\, 1980 in Berlin geboren\, begann verschiedene Ausbildungen und studierte unter anderem Regie und Musiktherapie in Berlin und Heidelberg. Sie arbeitete in sehr unterschiedlichen Berufen\, etwa als Suchtberaterin in der JVA\, als Jobcoach und Ausstatterin. Neben ihrem heutigen Beruf fotografiert sie und hat in Anthologien veröffentlicht. Sie lebt mit ihren Kindern in Leipzig. „Mit beiden Händen den Himmel stützen“ ist ihr erster Roman. \nFoto: (c) Christoph Busse
URL:https://literaturszene-koeln.de/termin/lilli-tollkien-mit-beiden-haenden-den-himmel-stuetzen/
LOCATION:manulit – Bücher\, die verändern\, Limburger Str. 37\, Köln\, 50672
CATEGORIES:Gespräche,Lesung
ATTACH;FMTTYPE=image/jpeg:https://literaturszene-koeln.de/wp-content/uploads/2026/04/Lilli-Tollkien.jpg
END:VEVENT
BEGIN:VEVENT
DTSTART;TZID=Europe/Berlin:20260429T193000
DTEND;TZID=Europe/Berlin:20260429T213000
DTSTAMP:20260422T145323
CREATED:20260409T112641Z
LAST-MODIFIED:20260409T112641Z
UID:29698-1777491000-1777498200@literaturszene-koeln.de
SUMMARY:Spielverderberin x Bestie: Marie Menke & Joana June lesen aus ihren Debütromanen
DESCRIPTION:Zwei Autorinnen\, zwei Romane über Freundschaft und ihre Abgründe\, eine Bühne! \nSPIELVERDERBERIN\nMarie Menke schreibt über eine obsessive Freundschaft zwischen Dorfjugend und Großstadtanonymität und über die Kraft\, die drei junge Frauen zusammenhält und gleichzeitig zu zerstören droht. Stimmungsvoll und bildreich entwirft die Autorin ein perfektes Zusammenspiel zwischen Zartem und Abgründigem. \nSophie und Lotte kennen sich seit Kindertagen\, sie stammen aus derselben Bauerschaft im Süthland. Erst in der Oberstufe stößt Romy dazu: Sie kommt aus der Stadt und ist freier und mutiger – aber auch unzuverlässiger. Die neue Dreierkonstellation ist getragen von gegenseitiger Faszination\, die bald Gefahr läuft zu kippen. \nBeim Versuch\, in ihren frühen Zwanzigern ihre Freundschaft nach Köln zu transportieren\, hadern die jungen Frauen. Als Romy plötzlich verschwindet\, reißen alte Wunden auf: Zwischen all den intensiven Momenten der Vergangenheit liegt auch eine harte Nacht vergraben\, an die eine der drei niemals erinnert werden darf. \nAutorin: Marie Menke\, 1997 im Sauerland geboren\, hat Politik\, Medien und Soziologie in Bonn\, Taipeh\, Köln und Paris studiert. Ihre Prosa wurde in Literaturzeitschriften veröffentlicht und unter anderem mit dem OffSpring Award der lit.Cologne ausgezeichnet. »Spielverderberin« ist ihr Debüt. \n  \nBESTIE\nJoana June charakterisiert eine Freundschaft zwischen Inszenierung und Selbstfindung – klug\, modern und emotional \nAls Influencerin Anouk eine neue Mitbewohnerin sucht\, sieht die unscheinbare Delia darin die perfekte Gelegenheit für einen Neuanfang. Sie zieht als Lilly ein und will endlich die werden\, die sie immer sein wollte: eine selbstbewusste Bühnenautorin. Anouk wiederum glaubt\, Lilly für ihre eigenen Zwecke nutzen zu können\, und lässt sie immer mehr in ihr Leben. Schnell entsteht zwischen den beiden eine Beziehung\, die beide dazu bringt\, ihre Vorstellungen von Erfolg und Selbstverwirklichung zu hinterfragen – und die vielleicht sogar zu einer echten Freundschaft werden kann. \nAutorin: Joana June\, 1996 in München geboren\, studierte Theorien und Praktiken professionellen Schreibens in Köln. Auf Social Media teilt sie Buchempfehlungen und ihren Schreibprozess mit einer engagierten Community. Ihre YouTube-Videos wurden mehr als 2\,6 Millionen Mal aufgerufen. BESTIE ist ihr Debütroman. \nFotos: © Annika Fußwinkel\, Carla Gnendiger
URL:https://literaturszene-koeln.de/termin/spielverderberin-x-bestie-marie-menke-joana-june-lesen-aus-ihren-debuetromanen/
LOCATION:manulit – Bücher\, die verändern\, Limburger Str. 37\, Köln\, 50672
CATEGORIES:Gespräche,Lesung
ATTACH;FMTTYPE=image/jpeg:https://literaturszene-koeln.de/wp-content/uploads/2026/04/Menke-June.jpg
END:VEVENT
BEGIN:VEVENT
DTSTART;TZID=Europe/Berlin:20260507T193000
DTEND;TZID=Europe/Berlin:20260507T213000
DTSTAMP:20260422T145323
CREATED:20260409T112914Z
LAST-MODIFIED:20260409T112914Z
UID:29701-1778182200-1778189400@literaturszene-koeln.de
SUMMARY:Verena Bogner: I am cringe\, but I am free
DESCRIPTION:»Coolness als Haltung ist hochgradig überschätzt und müssen wir dringend hinter uns lassen. Verena Bogner hat das längst begriffen.« Jovana Reisinger \nWas cool ist\, bestimmen immer die anderen – so auch im Leben der Erzählerin\, die von klein auf weiß\, was es heißt\, nicht schlank\, abgebrüht\, edgy genug zu sein. Aus Angst vor der Peinlichkeit des Lebens versteckt sie sich hinter den Erwartungen der anderen\, hinter denen ihres nutellahassenden Vaters\, ihres schnöseligen Boyfriends Fabian\, ihres viel zu coolen Arbeitgebers. Erst\, als Flora\, Josef und Rosalie (und eine ziemlich gute Therapeutin) in ihr Leben treten\, wird ihr Mut langsam größer als die Angst vor dem Cringe. Gemeinsam stellen sie sich die Frage: Was ist ein cringefreies Leben wert\, wenn man sich dabei selbst verliert? Mit den Menschen\, die sie nicht trotzdem\, sondern genau deshalb lieben\, traut sie sich\, nach einer Antwort zu suchen. Und findet sie irgendwo zwischen Pina Coladas\, No-Angels-Songs und einer wahnwitzigen Bergwanderung. \nAutorin: Verena Bogner schreibt als Journalistin unter anderem für Vogue\, Glamour\, Rolling Stone\, Standard und FM4. Als Teil von @galerie.arschgeweih\, dem größten deutschsprachigen Meme-Account mit Fokus auf deutsche Popkultur der 2000er\, widmet sie sich nicht zuletzt leidenschaftlich gerne den No Angels. Sie lebt in Wien. \nFoto: © Ingo Pertramer
URL:https://literaturszene-koeln.de/termin/verena-bogner-i-am-cringe-but-i-am-free/
LOCATION:manulit – Bücher\, die verändern\, Limburger Str. 37\, Köln\, 50672
CATEGORIES:Gespräche,Lesung
ATTACH;FMTTYPE=image/jpeg:https://literaturszene-koeln.de/wp-content/uploads/2026/04/bogner.jpg
END:VEVENT
BEGIN:VEVENT
DTSTART;TZID=Europe/Berlin:20260513T193000
DTEND;TZID=Europe/Berlin:20260513T213000
DTSTAMP:20260422T145323
CREATED:20260409T113140Z
LAST-MODIFIED:20260409T113140Z
UID:29704-1778700600-1778707800@literaturszene-koeln.de
SUMMARY:Eva Pramschüfer: Weißer Sommer
DESCRIPTION:Weißer Sommer: Eine moderne Liebesgeschichte\, ein Beziehungsroman über eine Liebe in den Zwanzigern \nEigentlich lieben Alma und Théo einander. Ihre erste Begegnung fühlte sich an wie der Anfang von etwas Großem\, die Zeit danach wie ein Versprechen. Und doch stehen sie jetzt zwischen zwei Wahrheiten: Sie lieben sich\, und dennoch liegt ihre Beziehung in Trümmern. \nWie erkennt man\, ob man gemeinsam glücklich sein kann – oder glücklicher allein wäre? Auf der Suche nach Antworten verbringen die beiden noch einen Sommer in dem Haus von Almas Eltern in Frankreich und schwören\, es erst zu verlassen\, wenn sie Gewissheit haben: festhalten oder loslassen. \nEva Pramschüfer erzählt voller Hingabe und stilistischer Feinheit von der ersten großen Liebe\, von der Kunst\, von dem\, was uns als Menschen trennt und verbindet. \nAutorin: Eva Pramschüfer\, geboren 1997\, arbeitet als Journalistin in München\, u.a. für die Süddeutsche Zeitung und Condé Nast. Ihre Liebe zur Literatur teilt sie auf Social Media mit über 25.000 Follower:innen auf TikTok\, Instagram und YouTube. Als Speakerin zu den Themen Content Creation und Schreiben wurde sie unter anderem 2024 von TikTok auf die Frankfurter Buchmesse und 2025 vom Börsenverein auf die IG Belletristik und Sachbuch eingeladen. Weißer Sommer ist ihr Debütroman \nFoto: © Eileen Jordan
URL:https://literaturszene-koeln.de/termin/eva-pramschuefer-weisser-sommer/
LOCATION:manulit – Bücher\, die verändern\, Limburger Str. 37\, Köln\, 50672
CATEGORIES:Gespräche,Lesung
ATTACH;FMTTYPE=image/jpeg:https://literaturszene-koeln.de/wp-content/uploads/2026/04/pramschuefer.jpg
END:VEVENT
END:VCALENDAR