BEGIN:VCALENDAR
VERSION:2.0
PRODID:-//Literaturszene Köln e.V. - ECPv6.15.20//NONSGML v1.0//EN
CALSCALE:GREGORIAN
METHOD:PUBLISH
X-ORIGINAL-URL:https://literaturszene-koeln.de
X-WR-CALDESC:Veranstaltungen für Literaturszene Köln e.V.
REFRESH-INTERVAL;VALUE=DURATION:PT1H
X-Robots-Tag:noindex
X-PUBLISHED-TTL:PT1H
BEGIN:VTIMEZONE
TZID:Europe/Berlin
BEGIN:DAYLIGHT
TZOFFSETFROM:+0100
TZOFFSETTO:+0200
TZNAME:CEST
DTSTART:20210328T010000
END:DAYLIGHT
BEGIN:STANDARD
TZOFFSETFROM:+0200
TZOFFSETTO:+0100
TZNAME:CET
DTSTART:20211031T010000
END:STANDARD
BEGIN:DAYLIGHT
TZOFFSETFROM:+0100
TZOFFSETTO:+0200
TZNAME:CEST
DTSTART:20220327T010000
END:DAYLIGHT
BEGIN:STANDARD
TZOFFSETFROM:+0200
TZOFFSETTO:+0100
TZNAME:CET
DTSTART:20221030T010000
END:STANDARD
BEGIN:DAYLIGHT
TZOFFSETFROM:+0100
TZOFFSETTO:+0200
TZNAME:CEST
DTSTART:20230326T010000
END:DAYLIGHT
BEGIN:STANDARD
TZOFFSETFROM:+0200
TZOFFSETTO:+0100
TZNAME:CET
DTSTART:20231029T010000
END:STANDARD
END:VTIMEZONE
BEGIN:VEVENT
DTSTART;TZID=Europe/Berlin:20220322T190000
DTEND;TZID=Europe/Berlin:20220322T200000
DTSTAMP:20260421T131615
CREATED:20220315T143232Z
LAST-MODIFIED:20220322T144708Z
UID:17856-1647975600-1647979200@literaturszene-koeln.de
SUMMARY:DER MEISTER UND MARGARITA – Romanlesung mit Einführung
DESCRIPTION:»Der Meister und Margarita« – Premiere am 03. April 2022 \nEine Begleitveranstaltung zum Musiktheater in zwei Akten nach dem gleichnamigen Roman von Michail Bulgakow; Libretto und Musik von York Höller \nRomanlesung mit Einführung\nmit Helge Heynold (Sprecher) und Georg Kehren (Chefdramaturg\, Oper Köln)\nin der Lengfeld’schen Buchhandlung Köln \nauch als Livestream im Youtube-Kanal der Lengfeld’schen Buchhandlung\nDie Teilnahme an der Lesung ist kostenlos; bitte melden Sie sich für die Präsenz-Veranstaltung direkt bei der Lengfeld’schen Buchhandlung an: \nOnline über https://www.lengfeldsche.de/veranstaltungen-anmeldung/der-meister-und-margarita.html \noder telefonisch unter 0221-257 8403 \noder per E-Mail an info@lengfeldsche.de \n  \nInformationen und Tickets für die Vorstellungen von »Der Meister und Margarita« unter www.oper.koeln.
URL:https://literaturszene-koeln.de/termin/der-meister-und-margarita-romanlesung-mit-einfuehrung/
LOCATION:M. Lengfeld’sche Buchhandlung\, Kolpingplatz 1\, Köln\, 50667\, Deutschland
CATEGORIES:Lesung
END:VEVENT
END:VCALENDAR