BEGIN:VCALENDAR
VERSION:2.0
PRODID:-//Literaturszene Köln e.V. - ECPv6.15.20//NONSGML v1.0//EN
CALSCALE:GREGORIAN
METHOD:PUBLISH
X-ORIGINAL-URL:https://literaturszene-koeln.de
X-WR-CALDESC:Veranstaltungen für Literaturszene Köln e.V.
REFRESH-INTERVAL;VALUE=DURATION:PT1H
X-Robots-Tag:noindex
X-PUBLISHED-TTL:PT1H
BEGIN:VTIMEZONE
TZID:Europe/Berlin
BEGIN:DAYLIGHT
TZOFFSETFROM:+0100
TZOFFSETTO:+0200
TZNAME:CEST
DTSTART:20190331T010000
END:DAYLIGHT
BEGIN:STANDARD
TZOFFSETFROM:+0200
TZOFFSETTO:+0100
TZNAME:CET
DTSTART:20191027T010000
END:STANDARD
BEGIN:DAYLIGHT
TZOFFSETFROM:+0100
TZOFFSETTO:+0200
TZNAME:CEST
DTSTART:20200329T010000
END:DAYLIGHT
BEGIN:STANDARD
TZOFFSETFROM:+0200
TZOFFSETTO:+0100
TZNAME:CET
DTSTART:20201025T010000
END:STANDARD
BEGIN:DAYLIGHT
TZOFFSETFROM:+0100
TZOFFSETTO:+0200
TZNAME:CEST
DTSTART:20210328T010000
END:DAYLIGHT
BEGIN:STANDARD
TZOFFSETFROM:+0200
TZOFFSETTO:+0100
TZNAME:CET
DTSTART:20211031T010000
END:STANDARD
BEGIN:DAYLIGHT
TZOFFSETFROM:+0100
TZOFFSETTO:+0200
TZNAME:CEST
DTSTART:20220327T010000
END:DAYLIGHT
BEGIN:STANDARD
TZOFFSETFROM:+0200
TZOFFSETTO:+0100
TZNAME:CET
DTSTART:20221030T010000
END:STANDARD
BEGIN:DAYLIGHT
TZOFFSETFROM:+0100
TZOFFSETTO:+0200
TZNAME:CEST
DTSTART:20230326T010000
END:DAYLIGHT
BEGIN:STANDARD
TZOFFSETFROM:+0200
TZOFFSETTO:+0100
TZNAME:CET
DTSTART:20231029T010000
END:STANDARD
END:VTIMEZONE
BEGIN:VEVENT
DTSTART;TZID=Europe/Berlin:20220311T180000
DTEND;TZID=Europe/Berlin:20220313T180000
DTSTAMP:20260423T105938
CREATED:20220211T230513Z
LAST-MODIFIED:20220311T141709Z
UID:17735-1647021600-1647194400@literaturszene-koeln.de
SUMMARY:EDITIONALE Köln Künstlerbücher – Editionen – Buchobjekte
DESCRIPTION:Die EDITIONALE Köln ist eine internationale Messe für Künstlerbücher\, Editionen und Buchobjekte. Alle anwesenden Künstler*innen (aus Belgien\, Deutschland\, Frankreich und Russland) haben die Bücher selbst entworfen\, gestaltet oder gedruckt bzw. bestehende Bücher künstlerisch entfremdet oder aus buchfremden Materialien Bücher gestaltet. Die präsentierten Künstlerbücher\, Editionen und Buchobjekte entstanden in limitierten Auflagen oder als Unikat.Es gibt die Möglichkeit\, die Künstlerbücher\, Editionen und Buchobjekte haptisch zu erleben: Das Blättern und Anfassen ist in Anwesenheit der Künstler*innen und Herausgeber*innen erlaubt. \nEröffnung: Freitag\, den 11. März 2022\, um 18.00 Uhr \nÖffnungszeiten: Freitag\, den 11. März 2022\, von 18.00 bis 21.00 UhrSamstag\, den 12. März 2022\, von 11.00 bis 19.00 UhrSonntag\, den 13. März 2022\, von 11.00 bis 18.00 Uhr
URL:https://literaturszene-koeln.de/termin/editionale-koeln-kuenstlerbuecher-editionen-buchobjekte/
LOCATION:Lesesaal der Kunst- und Museumsbibliothek der Stadt\, Bischofsgarten 1\, Köln\, 50667\, Deutschland
CATEGORIES:Ausstellung
END:VEVENT
BEGIN:VEVENT
DTSTART;TZID=Europe/Berlin:20210424T100000
DTEND;TZID=Europe/Berlin:20210613T180000
DTSTAMP:20260423T105938
CREATED:20210315T213504Z
LAST-MODIFIED:20210424T153336Z
UID:16579-1619258400-1623607200@literaturszene-koeln.de
SUMMARY:Castellibri
DESCRIPTION:Künstlerbücher und Buchobjekte von Dietmar Pfister \nDietmar Pfister (Jg. 1943) arbeitet seit nunmehr über 20 Jahren fast ausschließlich im Bereich der Künstlerbücher und Buchobjekte\, die bereits seit 2003 in zahlreichen Ausstellungen präsentiert wurden (www.dietmarpfister.de). \nDie Ausstellung „Castellibri\, Künstlerbücher und Buchobjekte von Dietmar Pfister“ in der Kunst- und Museumsbibliothek der Stadt Köln gibt einen Einblick in seine bisher entstandenen Künstlerbücher / Buchobjekte und wurde speziell als Referenz für die Stadt Köln konzipiert\, das heißt es gibt diverse Bezüge zu Künstler*innen\, die in dieser Stadt leben und arbeiten sowie auch auf die Stadt selbst. \n  \n  \n 
URL:https://literaturszene-koeln.de/termin/castellibri/
LOCATION:Lesesaal der Kunst- und Museumsbibliothek der Stadt\, Bischofsgarten 1\, Köln\, 50667\, Deutschland
CATEGORIES:Ausstellung,Buchpräsentation
ORGANIZER;CN="Kunst- und Museumsbibliothek der Stadt K%C3%B6ln":MAILTO:mirjam.tempel@stadt-koeln.de
END:VEVENT
BEGIN:VEVENT
DTSTART;TZID=Europe/Berlin:20201114T100000
DTEND;TZID=Europe/Berlin:20210117T180000
DTSTAMP:20260423T105938
CREATED:20201026T151240Z
LAST-MODIFIED:20201112T180626Z
UID:16003-1605348000-1610906400@literaturszene-koeln.de
SUMMARY:Solitär\, Ausstellung
DESCRIPTION:Künstlerbücher u.a. von Dorissa Lem mit Texten von Doris Konradi und den Originalzeichnungen aus der\nZusammenarbeit zu dem Buchprojekt Am Rand der Haut. \n  \nÖffnungszeiten: Di-So 10-18.00 Uhr \nAnmeldung unter: 0221 221 22438
URL:https://literaturszene-koeln.de/termin/solitaer-ausstellung/
LOCATION:Lesesaal der Kunst- und Museumsbibliothek der Stadt\, Bischofsgarten 1\, Köln\, 50667\, Deutschland
CATEGORIES:Ausstellung
END:VEVENT
END:VCALENDAR