BEGIN:VCALENDAR
VERSION:2.0
PRODID:-//Literaturszene Köln e.V. - ECPv6.15.20//NONSGML v1.0//EN
CALSCALE:GREGORIAN
METHOD:PUBLISH
X-WR-CALNAME:Literaturszene Köln e.V.
X-ORIGINAL-URL:https://literaturszene-koeln.de
X-WR-CALDESC:Veranstaltungen für Literaturszene Köln e.V.
REFRESH-INTERVAL;VALUE=DURATION:PT1H
X-Robots-Tag:noindex
X-PUBLISHED-TTL:PT1H
BEGIN:VTIMEZONE
TZID:Europe/Berlin
BEGIN:DAYLIGHT
TZOFFSETFROM:+0100
TZOFFSETTO:+0200
TZNAME:CEST
DTSTART:20210328T010000
END:DAYLIGHT
BEGIN:STANDARD
TZOFFSETFROM:+0200
TZOFFSETTO:+0100
TZNAME:CET
DTSTART:20211031T010000
END:STANDARD
BEGIN:DAYLIGHT
TZOFFSETFROM:+0100
TZOFFSETTO:+0200
TZNAME:CEST
DTSTART:20220327T010000
END:DAYLIGHT
BEGIN:STANDARD
TZOFFSETFROM:+0200
TZOFFSETTO:+0100
TZNAME:CET
DTSTART:20221030T010000
END:STANDARD
BEGIN:DAYLIGHT
TZOFFSETFROM:+0100
TZOFFSETTO:+0200
TZNAME:CEST
DTSTART:20230326T010000
END:DAYLIGHT
BEGIN:STANDARD
TZOFFSETFROM:+0200
TZOFFSETTO:+0100
TZNAME:CET
DTSTART:20231029T010000
END:STANDARD
END:VTIMEZONE
BEGIN:VEVENT
DTSTART;TZID=Europe/Berlin:20220913T190000
DTEND;TZID=Europe/Berlin:20220913T203000
DTSTAMP:20260423T121715
CREATED:20220808T163536Z
LAST-MODIFIED:20220913T174747Z
UID:18493-1663095600-1663101000@literaturszene-koeln.de
SUMMARY:Maren Gottschalk: Fräulein Steiff
DESCRIPTION:Moderation: Wibke Ladwig \nMargarete Steiff (1847-1909) ist bis heute eine der erfolgreichsten Unternehmerinnen der deutschen Geschichte. Bereits zu Lebzeiten verkaufte sie Millionen von Plüschtieren mit dem »Knopf im Ohr«\, beschäftigte hunderte Mitarbeiter*innen. In ihrer Romanbiografie Fräulein Steiff erzählt Maren Gottschalk vom beeindruckenden Leben der Spielzeugpionierin\, deren berühmter Teddy-Bär in diesem Jahr 120. Geburtstag feiert. \nEin starker Wille\, Humor und eine ausgeprägte Neugier – schon als kleines Mädchen will die 1847 im schwäbischen Giengen geborene Margarete die Welt erobern. Selbst nachdem sie an Kinderlähmung\nerkrankt und nie wieder wird laufen können\, lässt sie sich den Lebensmut nicht nehmen. Entschlossen folgt sie ihrem Ziel\, unabhängig zu sein. Sie setzt nicht nur ihren Wunsch durch\, Schneiderin zu werden\, sondern eröffnet auch ein florierendes Filzgeschäft. Und dann kommt der Tag\, der alles verändern wird: Margarete näht 1879 aus einer spontanen Laune heraus ein Nadelkissen in Gestalt eines Elefanten. Als sie das Tier ihrem kleinen Neffen in die Hände legt\, scheint das »Elefäntle« auf magische Weise zum Leben zu erwachen – und da hat Margarete eine Idee… \nMit Rückblicken auf Kindheit und Jugend zeichnet Maren Gottschalk in ihrem Roman nicht nur die Erfolgsgeschichte von Margarete Steiff und ihrer Spielwarenfabrik nach. Sie zeigt vor allem\, wie eine Frau sich nicht mit den Möglichkeiten abfindet\, die man ihr im 19. Jahrhundert zubilligte\, sondern die mit Phantasie\, unternehmerischem Geschick und der Bereitschaft zum Risiko selbstbewusst ihren eigenen Weg geht. \nFoto: © Sandy Craus\, fotografieonair
URL:https://literaturszene-koeln.de/termin/maren-gottschalk-fraeulein-steiff/
LOCATION:Lengfeld’sche Buchhandlung\, Kolpingplatz 1\, Köln\, 50667\, Deutschland
CATEGORIES:Lesung
END:VEVENT
END:VCALENDAR