BEGIN:VCALENDAR
VERSION:2.0
PRODID:-//Literaturszene Köln e.V. - ECPv6.15.20//NONSGML v1.0//EN
CALSCALE:GREGORIAN
METHOD:PUBLISH
X-ORIGINAL-URL:https://literaturszene-koeln.de
X-WR-CALDESC:Veranstaltungen für Literaturszene Köln e.V.
REFRESH-INTERVAL;VALUE=DURATION:PT1H
X-Robots-Tag:noindex
X-PUBLISHED-TTL:PT1H
BEGIN:VTIMEZONE
TZID:Europe/Berlin
BEGIN:DAYLIGHT
TZOFFSETFROM:+0100
TZOFFSETTO:+0200
TZNAME:CEST
DTSTART:20200329T010000
END:DAYLIGHT
BEGIN:STANDARD
TZOFFSETFROM:+0200
TZOFFSETTO:+0100
TZNAME:CET
DTSTART:20201025T010000
END:STANDARD
BEGIN:DAYLIGHT
TZOFFSETFROM:+0100
TZOFFSETTO:+0200
TZNAME:CEST
DTSTART:20210328T010000
END:DAYLIGHT
BEGIN:STANDARD
TZOFFSETFROM:+0200
TZOFFSETTO:+0100
TZNAME:CET
DTSTART:20211031T010000
END:STANDARD
BEGIN:DAYLIGHT
TZOFFSETFROM:+0100
TZOFFSETTO:+0200
TZNAME:CEST
DTSTART:20220327T010000
END:DAYLIGHT
BEGIN:STANDARD
TZOFFSETFROM:+0200
TZOFFSETTO:+0100
TZNAME:CET
DTSTART:20221030T010000
END:STANDARD
BEGIN:DAYLIGHT
TZOFFSETFROM:+0100
TZOFFSETTO:+0200
TZNAME:CEST
DTSTART:20230326T010000
END:DAYLIGHT
BEGIN:STANDARD
TZOFFSETFROM:+0200
TZOFFSETTO:+0100
TZNAME:CET
DTSTART:20231029T010000
END:STANDARD
END:VTIMEZONE
BEGIN:VEVENT
DTSTART;TZID=Europe/Berlin:20220821T150000
DTEND;TZID=Europe/Berlin:20220821T170000
DTSTAMP:20260421T153105
CREATED:20220815T170631Z
LAST-MODIFIED:20220821T171805Z
UID:18544-1661094000-1661101200@literaturszene-koeln.de
SUMMARY:PICTORIC ILLUSTRATORS CLUB aus der Ukraine auf dem Bücherfest
DESCRIPTION:Gegründet 2014 von Olena Staranchuk\, Oleg Gryshchenko und Anna Sarvira ist der Pictoric Illustrators Club (PIC) ein Kollektiv\, bestehend aus etwa 30 jungen ukrainischen Illustrator*innen\, Grafikdesigner*innen und Künstler*innen. \nIhr Anliegen: Aufmerksamkeit auf ukrainische Illustrations-Kunst zu lenken. Sie organisieren Ausstellungen\, Workshops\, Vorträge und Meisterklassen\, planen Gemeinschaftsprojekte und waren bereits in vielen Ländern mit Ausstellungen vertreten. Seit dem 24. Februar 2022 wird das Projekt „War Diary“ (Bilder gegen den Krieg) für das Kollektiv zu einer Möglichkeit\, sich für die Ukraine einzusetzen\nund auf diesem Weg Spenden zu sammeln. Die Illustrationen zeigen die Flucht zu Beginn und die Verteidigung\, zeigen Menschen in Kellern\, in Bunkern\, in der U-Bahn und immer wieder Kinder. Die Poster vermitteln auch den Wunsch nach Frieden und Gerechtigkeit und den Zusammenhalt. \nDie Ausstellung auf dem Bücherfest verbindet zwei Projekte des Kollektivs – „YellowBlue“ aus dem Jahr 2016 mit Bildern zu Besonderheiten der Ukraine und „War Diary“ – und gibt Einblicke in das Leben der Ukraine vor und während des Krieges. Die Künstlerin Anna Sarvira ist von 15 – 17h anwesend! \nKontakt: Ute Wegmann (utewegmann@aol.com)
URL:https://literaturszene-koeln.de/termin/pictoric-illustrators-club-aus-der-ukraine-auf-dem-buecherfest/
LOCATION:Kunsträume der Michael Horbach Stiftung\, Wormser Str. 23\, Köln\, 50677\, Deutschland
CATEGORIES:Ausstellung
END:VEVENT
BEGIN:VEVENT
DTSTART;TZID=Europe/Berlin:20220821T110000
DTEND;TZID=Europe/Berlin:20220821T180000
DTSTAMP:20260421T153105
CREATED:20220615T143532Z
LAST-MODIFIED:20220821T171803Z
UID:18262-1661079600-1661104800@literaturszene-koeln.de
SUMMARY:3. Kölner Bücherfest
DESCRIPTION:Silvia Maul\, die Geschäftsführerinn der Vertriebskooperation forum independent\, rief die Veranstaltung 2020 im ersten Corona-Sommer\, ins Leben\, um Begegnung rund ums Buch dem Publikum weiterhin analog möglich zu machen. Michael Horbach öffnete die Hallen der Kunsträume für die Buchhandlungen\, Lesungen und Ausstellungen – ein Angebot\, das trotz der schwierigen Gesamtsituation 2020 ca. 150 Besucher:innen in die Südstadt gelockt hat. Der gute Start ermunterte alle\, das Projekt auch in 2021 zu wiederholen\, mehr als doppelt soviele Besucher:innen fanden den Weg in die Hallen.\n \nDie Einzigartigkeit dieser Veranstaltung besteht im besonderen Miteinander – Buchhandlungen und Verlage aus Köln stellen sich gemeinsam und in ihrer grossen Vielfalt vor. Sie präsentieren ihr jeweiliges\, individuelles Sortiment\, es werden persönliche Begegnungen und Austausch mit Autoren:innen\, Buchhändler:innen und neugierigen Leser:innen ermöglicht und die Literatur darf auch gleich in ihrer Vielfalt gekauft werden.\nEinfach ein Fest für kleine und große Buchliebhaber:innen! \n \n\n\nProgramm 3. Kölner Bücherfest\n\n11 Uhr:  Eröffnung des Bücherfestes \n11.30 Uhr: Lisa Engels: Nelson Schreck – Gruselkunde für Anfänger\, Verlag Baumhaus. Lesung \n11.30 Uhr: Inke Hummel: Nicht zu streng\, nicht zu eng. Im Gespräch über weitere Erziehungsratgeber\n13 Uhr:  Sven Kellerhoff: Anschlag auf Olympia. Was 1972 in München wirklich geschah.  Lesung/ Vortrag\n14.30 Uhr:  Thomas Henningsen: 50 Jahre Greenpeace. Views. Verlag Delius Klasing. Bildvortrag\n15.30 Uhr:  Husch Josten: Eine redliche Lüge\, Verlag Piper. Lesung  \n16.30 Uhr:  Norbert Scheuer: Winterbienen\, Verlag C.H.Beck. Lesung\n\n\n\n\n\nDer Kunstsalon mit dem „Festival Literatur in den Häusern der Stadt“ und der “Verein Literaturszene“ konnten auch in diesem Jahr wieder als Partner gewonnen werden. Begleitend stellt die Buchkünstlerin Ursula Traschütz aus und auch für den kleinen Hunger und Durst ist gesorgt. \nIn diesem Jahr wird es auch in Zusammenarbeit mit dem Verlag Baumhaus ein explizites Angebot für Kinder geben. \nDie Kunsträume bestehen hauptsächlich aus drei zusammenhängenden hohen\, luftigen Hallen\, weitere Räumlichkeiten sind vorhanden.  \nDie Veranstaltung findet statt unter Einhaltung der dann gültigen Corona-Schutzverordnung.  \n\n\n  \nBei Interesse und Rückfragen zur Veranstaltung: Silvia Maul Tel.: 0177 642 58 33 maul@forum-independent.de \nwww.koelnerbuecherfest.dehttps://forum-independent.de  \nFür alle Presseanfragen bitte: Stephanie Jancke Kulturkommunikation Tel.: 0178 7703 856 jancke.verlag@icloud.com https://stephaniejancke.com  \n\n \nWir danken der Stadt Köln für die Förderung der Veranstaltung.
URL:https://literaturszene-koeln.de/termin/3-koelner-buecherfest/
LOCATION:Kunsträume der Michael Horbach Stiftung\, Wormser Str. 23\, Köln\, 50677\, Deutschland
CATEGORIES:Festival
ATTACH;FMTTYPE=image/png:https://literaturszene-koeln.de/wp-content/uploads/2022/06/buecherfest-dTfzqg.tmp_.png
END:VEVENT
BEGIN:VEVENT
DTSTART;TZID=Europe/Berlin:20210822T110000
DTEND;TZID=Europe/Berlin:20210822T190000
DTSTAMP:20260421T153105
CREATED:20210819T200508Z
LAST-MODIFIED:20210822T201711Z
UID:17054-1629630000-1629658800@literaturszene-koeln.de
SUMMARY:2. Kölner Bücherfest
DESCRIPTION:2020 fand das Kölner Bücherfest erstmals trotz Corona-bedingter Gesamt-Situation in den Hallen der Michael Horbach Stiftung statt und die Besucher waren begeistert!\n\n\nAuch in diesem Jahr lädt das Kölner Bücherfest wieder ein – um den Menschen die breite Begegnung mit dem Buch\, der Literatur\, Kunst und Aktion vor Ort zu ermöglichen – es soll Anregung\, Informationen und Verkauf verfügbar machen und analog erlebbar sein! Wir wünschen uns viele neue Besucher\, die durch Wetterlage und fortgeschrittene Impf- und Teststrategien interessiert und sorglos teilnehmen können! Programm (wird fortlaufend aktualisiert):\n\n\n– Literarische Buchhandlungen aus Köln zeigen spannende Ausschnitte aus ihren Sortimenten und Programmen: Agnes Buchhandlung\, Buchhandlung Baudach\, Buchhandlung Bittner\, Buchhandlung Blücherstraße\, Der andere Buchladen (Ubierring)\, Buchhandlung Falderstraße\, Buchhandlung Goltsteinstrasse\, Buchhandlung Kaiser\, Klinski. Buchhandlung in Braunsfeld\, Cafe Lehmitz Photobooks\n– Der Kunstsalon Köln präsentiert das Festival „Literatur in den Häusern der Stadt“\n– „Machwerke. Beispiele der Buchgestalt“ präsentiert durch Michael Schikowski\n– Lesung Markus Gabriel und Gert Scobel : „Zwischen Gut und Böse“\, Edition Körber\n– Lesung Gerd Köster und Christoph Gottwald\n– Lesung Christine Westermann: „Manchmal ist es federleicht“ und „Da geht noch was“\, Kiepenheuer & Witsch\n– Lesung Ingeborg Gleichauf: „Hannah Arendt und Karl Jaspers\, Böhlau Verlag\n– Lesung Christoph Wortberg: „TRAUMA – Kein Entkommen“\, dtv\n– Lesung Hansjörg Nessensohn: „Mut.Machen.Liebe.“\, Ueberreuter\n– Der Eichborn Verlag präsentiert sein Programm\n– Buch- Papierkünstlerin Ursula Traschütz
URL:https://literaturszene-koeln.de/termin/2-koelner-buecherfest/
LOCATION:Kunsträume der Michael Horbach Stiftung\, Wormser Str. 23\, Köln\, 50677\, Deutschland
END:VEVENT
END:VCALENDAR