BEGIN:VCALENDAR
VERSION:2.0
PRODID:-//Literaturszene Köln e.V. - ECPv6.15.20//NONSGML v1.0//EN
CALSCALE:GREGORIAN
METHOD:PUBLISH
X-WR-CALNAME:Literaturszene Köln e.V.
X-ORIGINAL-URL:https://literaturszene-koeln.de
X-WR-CALDESC:Veranstaltungen für Literaturszene Köln e.V.
REFRESH-INTERVAL;VALUE=DURATION:PT1H
X-Robots-Tag:noindex
X-PUBLISHED-TTL:PT1H
BEGIN:VTIMEZONE
TZID:Europe/Berlin
BEGIN:DAYLIGHT
TZOFFSETFROM:+0100
TZOFFSETTO:+0200
TZNAME:CEST
DTSTART:20190331T010000
END:DAYLIGHT
BEGIN:STANDARD
TZOFFSETFROM:+0200
TZOFFSETTO:+0100
TZNAME:CET
DTSTART:20191027T010000
END:STANDARD
BEGIN:DAYLIGHT
TZOFFSETFROM:+0100
TZOFFSETTO:+0200
TZNAME:CEST
DTSTART:20200329T010000
END:DAYLIGHT
BEGIN:STANDARD
TZOFFSETFROM:+0200
TZOFFSETTO:+0100
TZNAME:CET
DTSTART:20201025T010000
END:STANDARD
BEGIN:DAYLIGHT
TZOFFSETFROM:+0100
TZOFFSETTO:+0200
TZNAME:CEST
DTSTART:20210328T010000
END:DAYLIGHT
BEGIN:STANDARD
TZOFFSETFROM:+0200
TZOFFSETTO:+0100
TZNAME:CET
DTSTART:20211031T010000
END:STANDARD
END:VTIMEZONE
BEGIN:VEVENT
DTSTART;TZID=Europe/Berlin:20201107T190000
DTEND;TZID=Europe/Berlin:20201107T210000
DTSTAMP:20260421T204556
CREATED:20201018T164527Z
LAST-MODIFIED:20201026T151239Z
UID:15984-1604775600-1604782800@literaturszene-koeln.de
SUMMARY:Poesie & Klang: Jürgen Becker & Barbara Maria Kloos
DESCRIPTION:Erstmals treffen der Kölner Lyriker Jürgen Becker und die Lyrikerin Barbara Maria Kloos aufeinander. Akiko Ahrendt reagiert auf ihre Poesie live mit ihrer Musik. Den Abend eröffnet Jürgen Becker mit seiner vollendeten und dabei ganz unaufdringlichen Sprachkunst (Büchner-Preis 2014). Danach liest Barbara Maria Kloos\, die den Christine-Lavant-Lyrikpreis für »ihre expressive Wortkunst« erhielt. \nVeranstaltungspartner: Kunst-Station Sankt Peter\, Buchhandlung Klaus Bittner\, Karl Rahner Akademie.
URL:https://literaturszene-koeln.de/termin/poesie-klang-juergen-becker-barbara-maria-kloos/
LOCATION:Kunst-Station St. Peter Köln\, Jabachstraße 1\, Köln\, 50676\, Deutschland
END:VEVENT
END:VCALENDAR