BEGIN:VCALENDAR
VERSION:2.0
PRODID:-//Literaturszene Köln e.V. - ECPv6.15.20//NONSGML v1.0//EN
CALSCALE:GREGORIAN
METHOD:PUBLISH
X-WR-CALNAME:Literaturszene Köln e.V.
X-ORIGINAL-URL:https://literaturszene-koeln.de
X-WR-CALDESC:Veranstaltungen für Literaturszene Köln e.V.
REFRESH-INTERVAL;VALUE=DURATION:PT1H
X-Robots-Tag:noindex
X-PUBLISHED-TTL:PT1H
BEGIN:VTIMEZONE
TZID:Europe/Berlin
BEGIN:DAYLIGHT
TZOFFSETFROM:+0100
TZOFFSETTO:+0200
TZNAME:CEST
DTSTART:20240331T010000
END:DAYLIGHT
BEGIN:STANDARD
TZOFFSETFROM:+0200
TZOFFSETTO:+0100
TZNAME:CET
DTSTART:20241027T010000
END:STANDARD
BEGIN:DAYLIGHT
TZOFFSETFROM:+0100
TZOFFSETTO:+0200
TZNAME:CEST
DTSTART:20250330T010000
END:DAYLIGHT
BEGIN:STANDARD
TZOFFSETFROM:+0200
TZOFFSETTO:+0100
TZNAME:CET
DTSTART:20251026T010000
END:STANDARD
BEGIN:DAYLIGHT
TZOFFSETFROM:+0100
TZOFFSETTO:+0200
TZNAME:CEST
DTSTART:20260329T010000
END:DAYLIGHT
BEGIN:STANDARD
TZOFFSETFROM:+0200
TZOFFSETTO:+0100
TZNAME:CET
DTSTART:20261025T010000
END:STANDARD
END:VTIMEZONE
BEGIN:VEVENT
DTSTART;TZID=Europe/Berlin:20250912T190000
DTEND;TZID=Europe/Berlin:20250912T203000
DTSTAMP:20260421T113424
CREATED:20250909T112453Z
LAST-MODIFIED:20250909T112453Z
UID:28627-1757703600-1757709000@literaturszene-koeln.de
SUMMARY:Martin Schorn liest aus seinem Roman »ALIYAH – HEIMKEHR« über den Israel-Palästina-Konflikt
DESCRIPTION:1991. Die jüdische Sängerin Naomi\, der palästinensische Student Karim und der Journalist Janosch reisen nach Israel-Palästina und erleben die verheerenden Auswirkungen der Okkupation und der fortschreitenden Annexion der palästinensischen Gebiete durch jüdische Siedler.\n\n2048. Aliyah\, die Tochter von Naomi und Karim\, soll als Zeitzeugin aussagen. Was ist aus dem Land ihrer Vorfahren geworden? Was ist mit den Menschen in Israel-Palästina geschehen – 25 Jahre nach Geiselnahme\, Massenmord und Krieg in Gaza\, 100 Jahre nach der Nakba und der Staatsgründung Israels?
URL:https://literaturszene-koeln.de/termin/martin-schorn-liest-aus-seinem-roman-aliyah-heimkehr-ueber-den-israel-palaestina-konflikt/
LOCATION:Kölner Akkordeon Werkstatt\, Veledastr. 17\, Köln\, 50678
CATEGORIES:Lesung
ATTACH;FMTTYPE=image/jpeg:https://literaturszene-koeln.de/wp-content/uploads/2025/09/Schorn.jpg
END:VEVENT
END:VCALENDAR