BEGIN:VCALENDAR
VERSION:2.0
PRODID:-//Literaturszene Köln e.V. - ECPv6.15.20//NONSGML v1.0//EN
CALSCALE:GREGORIAN
METHOD:PUBLISH
X-WR-CALNAME:Literaturszene Köln e.V.
X-ORIGINAL-URL:https://literaturszene-koeln.de
X-WR-CALDESC:Veranstaltungen für Literaturszene Köln e.V.
REFRESH-INTERVAL;VALUE=DURATION:PT1H
X-Robots-Tag:noindex
X-PUBLISHED-TTL:PT1H
BEGIN:VTIMEZONE
TZID:Europe/Berlin
BEGIN:DAYLIGHT
TZOFFSETFROM:+0100
TZOFFSETTO:+0200
TZNAME:CEST
DTSTART:20220327T010000
END:DAYLIGHT
BEGIN:STANDARD
TZOFFSETFROM:+0200
TZOFFSETTO:+0100
TZNAME:CET
DTSTART:20221030T010000
END:STANDARD
BEGIN:DAYLIGHT
TZOFFSETFROM:+0100
TZOFFSETTO:+0200
TZNAME:CEST
DTSTART:20230326T010000
END:DAYLIGHT
BEGIN:STANDARD
TZOFFSETFROM:+0200
TZOFFSETTO:+0100
TZNAME:CET
DTSTART:20231029T010000
END:STANDARD
BEGIN:DAYLIGHT
TZOFFSETFROM:+0100
TZOFFSETTO:+0200
TZNAME:CEST
DTSTART:20240331T010000
END:DAYLIGHT
BEGIN:STANDARD
TZOFFSETFROM:+0200
TZOFFSETTO:+0100
TZNAME:CET
DTSTART:20241027T010000
END:STANDARD
END:VTIMEZONE
BEGIN:VEVENT
DTSTART;TZID=Europe/Berlin:20231015T200000
DTEND;TZID=Europe/Berlin:20231015T213000
DTSTAMP:20260420T124409
CREATED:20230913T132647Z
LAST-MODIFIED:20230913T132647Z
UID:20385-1697400000-1697405400@literaturszene-koeln.de
SUMMARY:Navid Kermani: Das Alphabet bis S
DESCRIPTION:Eine Schriftstellerin auf dem Höhepunkt ihres Erfolgs und zugleich am Tiefpunkt ihres Lebens: Die Ehe gescheitert\, die Mutter gestorben\, und plötzlich ist auch der Lebensentwurf als öffentliche Intellektuelle in Frage gestellt. Denn der sah vor\, dass der Mann sich um Kind und Haushalt kümmert\, während sie sich um das Elend der Welt sorgt. Virtuos verknüpft Navid Kermani in Das Alphabet bis S (Hanser) die Grundfragen unserer Existenz mit dem Alltäglichsten. Im Gespräch mit Mithu Sanyal stellt er den Roman erstmals in seiner Heimatstadt Köln vor. \nEine Veranstaltung im Rahmen der lit.COLOGNE spezial \nFoto: (c) Peter-Andreas Hassiepen
URL:https://literaturszene-koeln.de/termin/navid-kermani-das-alphabet-bis-s/
LOCATION:Klaus-von-Bismarck-Saal\, Wallrafplatz 5\, Köln
CATEGORIES:Gespräche,Lesung
ATTACH;FMTTYPE=image/jpeg:https://literaturszene-koeln.de/wp-content/uploads/2023/09/15-10-2023_Navid-Kermani_c_Peter-Andreas-Hassiepen.jpg
END:VEVENT
END:VCALENDAR