BEGIN:VCALENDAR
VERSION:2.0
PRODID:-//Literaturszene Köln e.V. - ECPv6.15.20//NONSGML v1.0//EN
CALSCALE:GREGORIAN
METHOD:PUBLISH
X-WR-CALNAME:Literaturszene Köln e.V.
X-ORIGINAL-URL:https://literaturszene-koeln.de
X-WR-CALDESC:Veranstaltungen für Literaturszene Köln e.V.
REFRESH-INTERVAL;VALUE=DURATION:PT1H
X-Robots-Tag:noindex
X-PUBLISHED-TTL:PT1H
BEGIN:VTIMEZONE
TZID:Europe/Berlin
BEGIN:DAYLIGHT
TZOFFSETFROM:+0100
TZOFFSETTO:+0200
TZNAME:CEST
DTSTART:20210328T010000
END:DAYLIGHT
BEGIN:STANDARD
TZOFFSETFROM:+0200
TZOFFSETTO:+0100
TZNAME:CET
DTSTART:20211031T010000
END:STANDARD
BEGIN:DAYLIGHT
TZOFFSETFROM:+0100
TZOFFSETTO:+0200
TZNAME:CEST
DTSTART:20220327T010000
END:DAYLIGHT
BEGIN:STANDARD
TZOFFSETFROM:+0200
TZOFFSETTO:+0100
TZNAME:CET
DTSTART:20221030T010000
END:STANDARD
BEGIN:DAYLIGHT
TZOFFSETFROM:+0100
TZOFFSETTO:+0200
TZNAME:CEST
DTSTART:20230326T010000
END:DAYLIGHT
BEGIN:STANDARD
TZOFFSETFROM:+0200
TZOFFSETTO:+0100
TZNAME:CET
DTSTART:20231029T010000
END:STANDARD
BEGIN:DAYLIGHT
TZOFFSETFROM:+0100
TZOFFSETTO:+0200
TZNAME:CEST
DTSTART:20240331T010000
END:DAYLIGHT
BEGIN:STANDARD
TZOFFSETFROM:+0200
TZOFFSETTO:+0100
TZNAME:CET
DTSTART:20241027T010000
END:STANDARD
BEGIN:DAYLIGHT
TZOFFSETFROM:+0100
TZOFFSETTO:+0200
TZNAME:CEST
DTSTART:20250330T010000
END:DAYLIGHT
BEGIN:STANDARD
TZOFFSETFROM:+0200
TZOFFSETTO:+0100
TZNAME:CET
DTSTART:20251026T010000
END:STANDARD
END:VTIMEZONE
BEGIN:VEVENT
DTSTART;TZID=Europe/Berlin:20240620T193000
DTEND;TZID=Europe/Berlin:20240620T210000
DTSTAMP:20260422T205249
CREATED:20240520T055756Z
LAST-MODIFIED:20240612T132747Z
UID:24278-1718911800-1718917200@literaturszene-koeln.de
SUMMARY:Dana Vowinckel: Gewässer im Ziplock
DESCRIPTION:Ein Sommer zwischen Berlin\, Chicago und Jerusalem. Die fünfzehnjährige Margarita wäre lieber zu Hause bei ihren Freunden und bei ihrem Vater. Doch diese Ferien bringen sie nicht nur wie jedes Jahr zu ihren Großeltern in die USA\, sondern auch nach Israel zu ihrer Mutter\, die sie kaum kennt. Von großen und kleinen Lügen\, vom Schmerz des Erwachsenwerdens und -seins\, von Entscheidungen\, die nicht korrigierbar sind\, erzählt Dana Vowinckel in ihrem Debütroman. Gewässer im Ziplock (suhrkamp nova) ist ein mitreißendes Porträt jüdischen Familienlebens heute. \nFoto: (c) Heike Steinweg\, Suhrkamp Verlag
URL:https://literaturszene-koeln.de/termin/dana-vowinckel-gewaesser-im-ziplock/
LOCATION:Karl-Rahner-Akademie\, Jabachstraße 4-8\, Köln\, 50676\, Deutschland
CATEGORIES:Lesung
ATTACH;FMTTYPE=image/jpeg:https://literaturszene-koeln.de/wp-content/uploads/2024/05/20-06-2024_Dana-Vowinckel_72dpi_c_Heike-Steinweg-Suhrkamp-Verlag.jpg
END:VEVENT
BEGIN:VEVENT
DTSTART;TZID=Europe/Berlin:20221128T193000
DTEND;TZID=Europe/Berlin:20221128T210000
DTSTAMP:20260422T205249
CREATED:20221125T233311Z
LAST-MODIFIED:20221128T234731Z
UID:19179-1669663800-1669669200@literaturszene-koeln.de
SUMMARY:WIR MÜSSEN ETWAS TUN. WAS KÖNNEN WIR TUN? Auf der Suche nach Literatur in Krisenzeiten
DESCRIPTION:Wie können wir uns der politischen Verantwortung stellen\, fragen sich fünf Autorinnen der GEDOK KÖLN. Kann das eigene Schreiben welthaltiger werden und die Sprache hineinreichen in die aktuellen Zusammenhänge? \nAusgehend von diesem Wunsch haben sie das Projekt MITTWOCHSTEXT ins Leben gerufen und in acht Wochen jeweils kurze Texte über aktuelle Ereignisse und Gedanken in Krisenzeiten geschrieben. Entstanden sind unterschiedliche literarische Positionen\, die den brennenden Themen der Zeit ein poetisches Gewicht geben\, die Unmenschlichkeit der aktuellen Geschehnisse offenlegen und dem\nEcho in der eigenen Geschichte nachspüren\, um künstlerisch wirksam auf die Gegenwart zu reagieren. \nTexte von: Nika Bertram • Patricia Falkenburg • Bettina Hesse • Doris Konradi • Natascha Würzbach\nBilder und Fotos von: Patricia Falkenberg • Johanna Hansen • Bettina Hesse • Doris Konradi \nEintritt frei\, Spenden willkommen.
URL:https://literaturszene-koeln.de/termin/wir-muessen-etwas-tun-was-koennen-wir-tun-auf-der-suche-nach-literatur-in-krisenzeiten/
LOCATION:Karl-Rahner-Akademie\, Jabachstraße 4-8\, Köln\, 50676\, Deutschland
CATEGORIES:Gespräche,Lesung
END:VEVENT
END:VCALENDAR