BEGIN:VCALENDAR
VERSION:2.0
PRODID:-//Literaturszene Köln e.V. - ECPv6.15.20//NONSGML v1.0//EN
CALSCALE:GREGORIAN
METHOD:PUBLISH
X-ORIGINAL-URL:https://literaturszene-koeln.de
X-WR-CALDESC:Veranstaltungen für Literaturszene Köln e.V.
REFRESH-INTERVAL;VALUE=DURATION:PT1H
X-Robots-Tag:noindex
X-PUBLISHED-TTL:PT1H
BEGIN:VTIMEZONE
TZID:Europe/Berlin
BEGIN:DAYLIGHT
TZOFFSETFROM:+0100
TZOFFSETTO:+0200
TZNAME:CEST
DTSTART:20210328T010000
END:DAYLIGHT
BEGIN:STANDARD
TZOFFSETFROM:+0200
TZOFFSETTO:+0100
TZNAME:CET
DTSTART:20211031T010000
END:STANDARD
BEGIN:DAYLIGHT
TZOFFSETFROM:+0100
TZOFFSETTO:+0200
TZNAME:CEST
DTSTART:20220327T010000
END:DAYLIGHT
BEGIN:STANDARD
TZOFFSETFROM:+0200
TZOFFSETTO:+0100
TZNAME:CET
DTSTART:20221030T010000
END:STANDARD
BEGIN:DAYLIGHT
TZOFFSETFROM:+0100
TZOFFSETTO:+0200
TZNAME:CEST
DTSTART:20230326T010000
END:DAYLIGHT
BEGIN:STANDARD
TZOFFSETFROM:+0200
TZOFFSETTO:+0100
TZNAME:CET
DTSTART:20231029T010000
END:STANDARD
END:VTIMEZONE
BEGIN:VEVENT
DTSTART;TZID=Europe/Berlin:20220508T170000
DTEND;TZID=Europe/Berlin:20220508T183000
DTSTAMP:20260423T005512
CREATED:20220210T230339Z
LAST-MODIFIED:20220508T180215Z
UID:17728-1652029200-1652034600@literaturszene-koeln.de
SUMMARY:„5 Kurze für Große“ – Skurrile Kurzgeschichten von Frank Zollner
DESCRIPTION:Gelesen von Corinne Walter und Frank Zollner\, Schauspieler und Theaterleiter\nWas macht eine Achtundsechziger-Revolution mit der Psyche eines Fünfjährigen\, der Hippies für indische Teppich-Geister hält? Wie schafft es eine attraktive Frau\, den halben Regionalzug aufzumischen? Aus welchem Grund landet ein treuer Ehemann\, der eigentlich nur Bier holen wollte\, in einer dämonischen Laster-Hölle? Und wie kommt es dazu\, dass Katzen plötzlich gezwungen werden\, an Silvester zu hungern\, während der Hase bekifft im Käfig sitzen darf? Um diese Fragen zu beantworten\, gibt es nur eine Lösung: Kommen Sie zu dieser Lesung! \nTermine:\nSo 06. März\, So 03. April und So 08. Mai\nBeginn jeweils 17 Uhr\, Einlass 16:30 Uhr
URL:https://literaturszene-koeln.de/termin/5-kurze-fuer-grosse-skurrile-kurzgeschichten-von-frank-zollner-3/
LOCATION:KABARETT A-Z\, Krefelder Str. 26\, Köln\, 50670\, Deutschland
CATEGORIES:Lesung
ORGANIZER;CN="KABARETT A-Z":MAILTO:info@kabarett-a-z.de
END:VEVENT
BEGIN:VEVENT
DTSTART;TZID=Europe/Berlin:20220403T170000
DTEND;TZID=Europe/Berlin:20220403T183000
DTSTAMP:20260423T005512
CREATED:20220210T230339Z
LAST-MODIFIED:20220403T144725Z
UID:17727-1649005200-1649010600@literaturszene-koeln.de
SUMMARY:„5 Kurze für Große“ – Skurrile Kurzgeschichten von Frank Zollner
DESCRIPTION:Gelesen von Corinne Walter und Frank Zollner\, Schauspieler und Theaterleiter\nWas macht eine Achtundsechziger-Revolution mit der Psyche eines Fünfjährigen\, der Hippies für indische Teppich-Geister hält? Wie schafft es eine attraktive Frau\, den halben Regionalzug aufzumischen? Aus welchem Grund landet ein treuer Ehemann\, der eigentlich nur Bier holen wollte\, in einer dämonischen Laster-Hölle? Und wie kommt es dazu\, dass Katzen plötzlich gezwungen werden\, an Silvester zu hungern\, während der Hase bekifft im Käfig sitzen darf? Um diese Fragen zu beantworten\, gibt es nur eine Lösung: Kommen Sie zu dieser Lesung! \nTermine:\nSo 06. März\, So 03. April und So 08. Mai\nBeginn jeweils 17 Uhr\, Einlass 16:30 Uhr
URL:https://literaturszene-koeln.de/termin/5-kurze-fuer-grosse-skurrile-kurzgeschichten-von-frank-zollner-2/
LOCATION:KABARETT A-Z\, Krefelder Str. 26\, Köln\, 50670\, Deutschland
CATEGORIES:Lesung
ORGANIZER;CN="KABARETT A-Z":MAILTO:info@kabarett-a-z.de
END:VEVENT
BEGIN:VEVENT
DTSTART;TZID=Europe/Berlin:20220306T170000
DTEND;TZID=Europe/Berlin:20220306T183000
DTSTAMP:20260423T005512
CREATED:20220210T230257Z
LAST-MODIFIED:20220306T235020Z
UID:17714-1646586000-1646591400@literaturszene-koeln.de
SUMMARY:„5 Kurze für Große“ – Skurrile Kurzgeschichten von Frank Zollner
DESCRIPTION:Gelesen von Corinne Walter und Frank Zollner\, Schauspieler und Theaterleiter\nWas macht eine Achtundsechziger-Revolution mit der Psyche eines Fünfjährigen\, der Hippies für indische Teppich-Geister hält? Wie schafft es eine attraktive Frau\, den halben Regionalzug aufzumischen? Aus welchem Grund landet ein treuer Ehemann\, der eigentlich nur Bier holen wollte\, in einer dämonischen Laster-Hölle? Und wie kommt es dazu\, dass Katzen plötzlich gezwungen werden\, an Silvester zu hungern\, während der Hase bekifft im Käfig sitzen darf? Um diese Fragen zu beantworten\, gibt es nur eine Lösung: Kommen Sie zu dieser Lesung! \nTermine:\nSo 06. März\, So 03. April und So 08. Mai\nBeginn jeweils 17 Uhr\, Einlass 16:30 Uhr
URL:https://literaturszene-koeln.de/termin/5-kurze-fuer-grosse-skurrile-kurzgeschichten-von-frank-zollner/
LOCATION:KABARETT A-Z\, Krefelder Str. 26\, Köln\, 50670\, Deutschland
CATEGORIES:Lesung
ORGANIZER;CN="KABARETT A-Z":MAILTO:info@kabarett-a-z.de
END:VEVENT
END:VCALENDAR