BEGIN:VCALENDAR
VERSION:2.0
PRODID:-//Literaturszene Köln e.V. - ECPv6.15.20//NONSGML v1.0//EN
CALSCALE:GREGORIAN
METHOD:PUBLISH
X-ORIGINAL-URL:https://literaturszene-koeln.de
X-WR-CALDESC:Veranstaltungen für Literaturszene Köln e.V.
REFRESH-INTERVAL;VALUE=DURATION:PT1H
X-Robots-Tag:noindex
X-PUBLISHED-TTL:PT1H
BEGIN:VTIMEZONE
TZID:Europe/Berlin
BEGIN:DAYLIGHT
TZOFFSETFROM:+0100
TZOFFSETTO:+0200
TZNAME:CEST
DTSTART:20190331T010000
END:DAYLIGHT
BEGIN:STANDARD
TZOFFSETFROM:+0200
TZOFFSETTO:+0100
TZNAME:CET
DTSTART:20191027T010000
END:STANDARD
BEGIN:DAYLIGHT
TZOFFSETFROM:+0100
TZOFFSETTO:+0200
TZNAME:CEST
DTSTART:20200329T010000
END:DAYLIGHT
BEGIN:STANDARD
TZOFFSETFROM:+0200
TZOFFSETTO:+0100
TZNAME:CET
DTSTART:20201025T010000
END:STANDARD
BEGIN:DAYLIGHT
TZOFFSETFROM:+0100
TZOFFSETTO:+0200
TZNAME:CEST
DTSTART:20210328T010000
END:DAYLIGHT
BEGIN:STANDARD
TZOFFSETFROM:+0200
TZOFFSETTO:+0100
TZNAME:CET
DTSTART:20211031T010000
END:STANDARD
BEGIN:DAYLIGHT
TZOFFSETFROM:+0100
TZOFFSETTO:+0200
TZNAME:CEST
DTSTART:20220327T010000
END:DAYLIGHT
BEGIN:STANDARD
TZOFFSETFROM:+0200
TZOFFSETTO:+0100
TZNAME:CET
DTSTART:20221030T010000
END:STANDARD
BEGIN:DAYLIGHT
TZOFFSETFROM:+0100
TZOFFSETTO:+0200
TZNAME:CEST
DTSTART:20230326T010000
END:DAYLIGHT
BEGIN:STANDARD
TZOFFSETFROM:+0200
TZOFFSETTO:+0100
TZNAME:CET
DTSTART:20231029T010000
END:STANDARD
END:VTIMEZONE
BEGIN:VEVENT
DTSTART;TZID=Europe/Berlin:20221124T190000
DTEND;TZID=Europe/Berlin:20221124T203000
DTSTAMP:20260423T111850
CREATED:20221010T182006Z
LAST-MODIFIED:20221113T215220Z
UID:18980-1669316400-1669321800@literaturszene-koeln.de
SUMMARY:Von der Vernunft der Poesie
DESCRIPTION:Ein Abend im Historischen Rathaus anlässlich des 50. Jubiläums der Verleihung des Literaturnobelpreises an Heinrich Böll\nIm Dezember 2022 jährt sich zum fünfzigsten Mal die Verleihung des Literatur-Nobelpreises an Heinrich Böll. Der erste bundesdeutsche Preisträger nach dem Zweiten Weltkrieg\, so befand die Schwedische Akademie 1972\, bekam die Auszeichnung \n\n“..für ein Werk\, das einen für seine Zeit erforderlichen Weitblick mit der Sensibilität der schöpferischen Kraft vereint und das der deutschen Literatur neue Impulse gegeben hat.” \n\nDas Nobelpreiskomitee hob in seinem Begründungstext besonders hervor\, das Bölls Texte vom Mitgefühl mit den Menschen in den Nöten ihrer Zeit zeugten. \nBölls gesamtes Werk versteht sich als Reaktion auf die Krise der modernen Welt\, die durch Entfremdung und den Verlust humaner Orientierungspunkte im Leben und Denken bestimmt ist. Er beschreibt die Tendenzen der “Leistungssteigerung” und Beschleunigung der Lebenswelt und ihre Auswirkungen auf den Menschen in seinem alltäglichen Leben. Böll war auf der Suche nach einer “Ästhetik des Humanen”. Sein gesamtes literarisches Schaffen hindurch bedeutete dies die Verteidigung des Alltäglichen\, des individuellen Lebensraums sowie der Würde des Menschen gegen Zwänge und Ansprüche der Institutionen\, des Konsum- und des Leistungsdenkens. \nAn diesem Abend soll Böll als Vertreter des gesellschaftlich engagierten Beobachters in der unmittelbaren Gegenwart hinterfragt werden. Es geht um Bölls Verständnis seines intellektuellen Engagements\, die Herstellung öffentlicher Nachdenklichkeit\, die zeithistorischen Grenzen seiner Interventionen und das mögliche Impulspotential seiner Widerständigkeiten für aktuelle Debatten. \nEine Veranstaltung des Heinrich-Böll-Archivs der Stadtbibliothek Köln in Kooperation mit der Heinrich-Böll-Stiftung\, Berlin und der Erbengemeinschaft Heinrich Böll. \nEine Anmeldung über unser Buchungssystem ist bis zum 17. November 2022 möglich. \nFoto: (c) Hermann u. Claerchen Baus
URL:https://literaturszene-koeln.de/termin/von-der-vernunft-der-poesie/
LOCATION:Historisches Rathaus\, Rathausplatz 2\, Köln\, 50667\, Deutschland
CATEGORIES:Gespräche
ATTACH;FMTTYPE=image/jpeg:https://literaturszene-koeln.de/wp-content/uploads/2022/10/Heinrich-Boell-c-Hermann-u.-Claerchen-Baus-scaled-KLVImL.tmp_.jpg
END:VEVENT
BEGIN:VEVENT
DTSTART;TZID=Europe/Berlin:20220614T180000
DTEND;TZID=Europe/Berlin:20220614T193000
DTSTAMP:20260423T111850
CREATED:20220531T103633Z
LAST-MODIFIED:20220614T143208Z
UID:18163-1655229600-1655235000@literaturszene-koeln.de
SUMMARY:Jürgen Becker
DESCRIPTION:Anmeldung unter: info@literaturhaus-koeln.de \nAus Anlass seines 90. Geburtstags im Juli 2022 erscheinen Jürgen Beckers Gesammelte Gedichte aus den Jahren 1971 bis 2022 sowie Journalgedichte unter dem Titel Die Rückkehr der Gewohnheiten (beide Suhrkamp). Auf Einladung von Oberbürgermeisterin Henriette Reker und des Literaturhauses Köln werden die beiden Bände in der Piazzetta des Historischen Rathauses vorgestellt. Jürgen Becker spricht mit der Herausgeberin der Gesammelten Gedichte\, Marion Poschmann. Sabine Küchler moderiert. \nEine Veranstaltung der Stadt Köln in Zusammenarbeit mit dem Literaturhaus Köln. \nMit freundlicher Unterstützung der Kunststiftung NRW und des Suhrkamp Verlags
URL:https://literaturszene-koeln.de/termin/juergen-becker/
LOCATION:Historisches Rathaus\, Rathausplatz 2\, Köln\, 50667\, Deutschland
CATEGORIES:Buchpräsentation,Gespräche
END:VEVENT
BEGIN:VEVENT
DTSTART;TZID=Europe/Berlin:20200929T200000
DTEND;TZID=Europe/Berlin:20200929T220000
DTSTAMP:20260423T111850
CREATED:20200819T153805Z
LAST-MODIFIED:20200928T163639Z
UID:15648-1601409600-1601416800@literaturszene-koeln.de
SUMMARY:Kamala Dubrovnik: Preisträgerin des Rolf-Dieter-Brinkmann-Stipendiums 2020
DESCRIPTION:Kamala Dubrovnik ist eine Kunstfigur und zugleich Brinkmann-Preisträgerin des Jahres 2020. Kunst hat mein Leben zerstört heißen ihre Memoiren\, in denen sie schamlos und angstfrei\, witzig und selbstironisch eine Persiflage auf die Gestalt des männlichen Genies erzählt. Auf grandiose und machtvolle Weise schafft sie nicht nur die Umkehrung ins Weibliche\, ihr Text ist auch eine Tour de force\, die die Leser*innen nicht mehr loslässt. Dabei setzt sie sich mit existentiellen Themen auseinander: Sex\, Tod und Politik. Kamala Dubrovnik hat einen reflexiven\, sinnlichen und ironischen Zugang zur Kreativität und Ästhetik gewählt. Im Gespräch mit Lilian Haberer (KHM) stellt sie die Arbeit an ihrem Debütroman vor. \nEintritt frei\nAnmeldung unbedingt erforderlich unter: brinkmann-stipendium@stadt-koeln.de\nSie erhalten dann eine Rückmeldung der Stadt Köln\, die auch die notwendigen Hygienemaßnahmen für den Zutritt des Rathauses beinhaltet. \nEine Veranstaltung der Stadt Köln
URL:https://literaturszene-koeln.de/termin/kamala-dubrovnik-preistraegerin-des-rolf-dieter-brinkmann-stipendiums-2020/
LOCATION:Historisches Rathaus\, Rathausplatz 2\, Köln\, 50667\, Deutschland
CATEGORIES:Preisverleihung
ATTACH;FMTTYPE=image/jpeg:https://literaturszene-koeln.de/wp-content/uploads/2020/08/29-09-2020_Kamala-Dubrovnik_c_Felix-Bartke-Hfmz15.tmp_-scaled.jpg
END:VEVENT
END:VCALENDAR