BEGIN:VCALENDAR
VERSION:2.0
PRODID:-//Literaturszene Köln e.V. - ECPv6.15.20//NONSGML v1.0//EN
CALSCALE:GREGORIAN
METHOD:PUBLISH
X-WR-CALNAME:Literaturszene Köln e.V.
X-ORIGINAL-URL:https://literaturszene-koeln.de
X-WR-CALDESC:Veranstaltungen für Literaturszene Köln e.V.
REFRESH-INTERVAL;VALUE=DURATION:PT1H
X-Robots-Tag:noindex
X-PUBLISHED-TTL:PT1H
BEGIN:VTIMEZONE
TZID:Europe/Berlin
BEGIN:DAYLIGHT
TZOFFSETFROM:+0100
TZOFFSETTO:+0200
TZNAME:CEST
DTSTART:20200329T010000
END:DAYLIGHT
BEGIN:STANDARD
TZOFFSETFROM:+0200
TZOFFSETTO:+0100
TZNAME:CET
DTSTART:20201025T010000
END:STANDARD
BEGIN:DAYLIGHT
TZOFFSETFROM:+0100
TZOFFSETTO:+0200
TZNAME:CEST
DTSTART:20210328T010000
END:DAYLIGHT
BEGIN:STANDARD
TZOFFSETFROM:+0200
TZOFFSETTO:+0100
TZNAME:CET
DTSTART:20211031T010000
END:STANDARD
BEGIN:DAYLIGHT
TZOFFSETFROM:+0100
TZOFFSETTO:+0200
TZNAME:CEST
DTSTART:20220327T010000
END:DAYLIGHT
BEGIN:STANDARD
TZOFFSETFROM:+0200
TZOFFSETTO:+0100
TZNAME:CET
DTSTART:20221030T010000
END:STANDARD
BEGIN:DAYLIGHT
TZOFFSETFROM:+0100
TZOFFSETTO:+0200
TZNAME:CEST
DTSTART:20230326T010000
END:DAYLIGHT
BEGIN:STANDARD
TZOFFSETFROM:+0200
TZOFFSETTO:+0100
TZNAME:CET
DTSTART:20231029T010000
END:STANDARD
BEGIN:DAYLIGHT
TZOFFSETFROM:+0100
TZOFFSETTO:+0200
TZNAME:CEST
DTSTART:20240331T010000
END:DAYLIGHT
BEGIN:STANDARD
TZOFFSETFROM:+0200
TZOFFSETTO:+0100
TZNAME:CET
DTSTART:20241027T010000
END:STANDARD
END:VTIMEZONE
BEGIN:VEVENT
DTSTART;TZID=Europe/Berlin:20230124T200000
DTEND;TZID=Europe/Berlin:20230124T220000
DTSTAMP:20260420T123821
CREATED:20230112T161841Z
LAST-MODIFIED:20230124T164658Z
UID:19360-1674590400-1674597600@literaturszene-koeln.de
SUMMARY:poetry trifft Poesie: Der Slammer Lukas Knoben\, die Künstlerin Patricia Falkenburg und Goethes Faust zu Gast bei Michael Domas
DESCRIPTION:Lukas Knoben ist Moderator\, Autor und Poetry Slammer aus Aachen. Seit 9 Jahren ist er auf den Kleinkunstbühnen des deutschsprachigen Raums unterwegs. Mit seinen Texten\, die zwischen lustigen Alltagsgeschichten und furioser Rap-Lyrik wandern\, schaffte er es 2017 und 2019 in das Finale der NRW-Meisterschaften im Poetry Slam. 2022 gewann er den euregionalen NXT TXT-Award. \nWenn ich will\, dann schreib ich Zeilen\,\ndie wie Bienenschwärme stechen\nWenn ich will\, dann zeig ich Reime\nDie selbst Ziegelsteine brechen\nWenn ich will wird auf die Weise\nDeine Bibel zu ner Wendy\nWenn ich will dann kriegt die Scheiße\nAus Prinzip ein neues Level\nWenn ich will dann mach ichs stylisch\nWenn ich will wird das hier Trap und\nWenn ich will wird alles leise\nWenn ich will dann werd ich sprechen. \nPatricia Falkenburg\, Lyrikerin\, Fotokünstlerin und Vor-standsmitglied der Künstlerinnenvereinigung GEDOK\, wird ausgewählte Gedichte und Fotovisualisationen präsentieren. \nAnja Plate und Bernhard Kleibrink führen einen Auszug aus dem Prolog von Goethes Faust auf. \nMichael Domas („Herzmarinade“\, „anhaltender ritus“) antwortet auf die Texte von Lukas mit klassischen\, modernen und eigenen Gedichten und Texten. \n———————————————————————— \nEigentlich war für den 24.1. Felicitas Friedrich angekündigt. Da kam was dazwischen. Jetzt tritt sie am Mittwoch\, 26. April auf.
URL:https://literaturszene-koeln.de/termin/poetry-trifft-poesie-der-slammer-lukas-knoben-die-kuenstlerin-patricia-falkenburg-und-goethes-faust-zu-gast-bei-michael-domas/
LOCATION:Heimathirsch\, Mauenheimer Straße 4\, Köln\, 50733\, Deutschland
CATEGORIES:Autorenlesung,Lesung,Poetry Slam
ATTACH;FMTTYPE=image/jpeg:https://literaturszene-koeln.de/wp-content/uploads/2022/09/Logo-ptP-fuer-Literaturhaus-EjY90t.tmp_.jpg
ORGANIZER;CN="Michael Domas":MAILTO:michael.domas@gmx.de
END:VEVENT
BEGIN:VEVENT
DTSTART;TZID=Europe/Berlin:20221129T200000
DTEND;TZID=Europe/Berlin:20221129T220000
DTSTAMP:20260420T123821
CREATED:20221125T233315Z
LAST-MODIFIED:20221129T234714Z
UID:19182-1669752000-1669759200@literaturszene-koeln.de
SUMMARY:poetry trifft Poesie: Der Slammer Julius  Esser und der Künstler Werner Preuß zu Gast bei Michael Domas
DESCRIPTION:Julius Esser ist Dichter\, Autor und Slam Poet aus Brühl. Der Literatur- und Kulturwissenschaftler blickt mit seinen 30 Jahren auf knapp 20 Jahre Bühnenerfahrung in den Bereichen Theater\, Musik und Bühnenperformance zurück. Über 700 absolvierte Auftritte seit 2012. Gewonnen hat er in den letzten Jahren zahlreiche bundesweite Poetry Slams\, Stadtmeisterschaften und Kleinkunstshows\, ist mehrfacher Finalist der Landesmeisterschaften im Poetry Slam und gehört derzeit zu den besten Poeten in NRW. Er leitet verschiedene Kleinkunstplattformen in Bonn und Zülpich und ist Mitherausgeber des Podcast „Zwei Mann – ein Wort“. \nKlar \nIch warte lange Zeit auf dich!\nWeißt gar nicht\, was du bist für mich.\nDie Farbe gelb im Nebeldunst\,\nder Pinsel für die Lebenskunst.\nDurch dich bin ich gedankenfrei.\nDu und ich – wir sind schon zwei!\n J.E. \nWerner Preuß\, langjähriger Autor beim Monatsblatt „Lyrik in Köln“\, wird zur Projektion seiner Bilder seine Gedichte und Prosastücke vortragen. \nMichael Domas („Herzmarinade“\, „anhaltender ritus“) antwortet auf die Texte von Julius mit klassischen\, modernen und eigenen Gedichten und Texten. \nEs wird lange Zeit\, dass Slampoetry und Lyrik\, dass spoken und written word sich begegnen.
URL:https://literaturszene-koeln.de/termin/poetry-trifft-poesie-der-slammer-julius-esser-und-der-kuenstler-werner-preuss-zu-gast-bei-michael-domas/
LOCATION:Heimathirsch\, Mauenheimer Straße 4\, Köln\, 50733\, Deutschland
CATEGORIES:Autorenlesung,Lesebühne,Literatur-Show,Poetry Slam,Spoken Word
ATTACH;FMTTYPE=image/jpeg:https://literaturszene-koeln.de/wp-content/uploads/2022/09/Logo-ptP-fuer-Literaturhaus-EjY90t.tmp_.jpg
ORGANIZER;CN="Michael Domas":MAILTO:michael.domas@gmx.de
END:VEVENT
BEGIN:VEVENT
DTSTART;TZID=Europe/Berlin:20220927T200000
DTEND;TZID=Europe/Berlin:20220927T220000
DTSTAMP:20260420T123821
CREATED:20220902T173459Z
LAST-MODIFIED:20220927T180247Z
UID:18667-1664308800-1664316000@literaturszene-koeln.de
SUMMARY:POETRY TRIFFT POESIE: KOMIKER HEINZ GRÖNING UND DIE DICHTERIN EVA WAL ZU GAST BEI MICHAEL DOMAS
DESCRIPTION:Dies ist eine Wiederholung der Show vom 10.3. Die konnten\, coronabedingt\, nur wenige Menschen sehen. Das war zu schade. \nDer unglaubliche Heinz ist ein Artist der Sprache und des Sprechens. Er glaubt an die Macht der Lachkraft und die heilende Wirkung problem-befreiter Lach-Zonen. Während andere Komiker den ersten Gag vorbereiten\, hat er schon vier gemacht\, wo eigentlich nur zwei sind. \nEva Wal wird als ihr eigenes Anagramm Maria Valewa Gedichte aus ihrem neuen Werk “Zum Greifen fern” vortragen. Dabei werden im Gedichtband enthaltene Abbilder großformatiger Wandbilder zu einzelnen Texten projiziert. \n„In Maria Valewas Lyrik findet sich oft noch die Einheit von Mensch und Natur\, Ich und Umwelt\, die dem kindlichen Empfinden nahekommt\, aber später im Erwachsenenalter verloren geht. Valewa erschafft einen Raum\, in dem alles ineinander-fließt und eine traumartige\, zuweilen auch mys-tische Atmosphäre herrscht.“ (Sigune Schnabel) \nDer Dichter Michael Domas („Herzmarinade“) wird auf Heinz Gröning mit klassischen\, modernen und eigenen Gedichten antworten.
URL:https://literaturszene-koeln.de/termin/poetry-trifft-poesie-komiker-heinz-groening-und-die-dichterin-eva-wal-zu-gast-bei-michael-domas-2/
LOCATION:Heimathirsch\, Mauenheimer Straße 4\, Köln\, 50733\, Deutschland
CATEGORIES:Lesung,Literatur-Show,Poetry Slam
ATTACH;FMTTYPE=image/jpeg:https://literaturszene-koeln.de/wp-content/uploads/2022/09/Logo-ptP-fuer-Literaturhaus-EjY90t.tmp_.jpg
ORGANIZER;CN="Michael Domas":MAILTO:michael.domas@gmx.de
END:VEVENT
BEGIN:VEVENT
DTSTART;TZID=Europe/Berlin:20220510T200000
DTEND;TZID=Europe/Berlin:20220510T220000
DTSTAMP:20260420T123821
CREATED:20220412T153916Z
LAST-MODIFIED:20220510T180205Z
UID:17963-1652212800-1652220000@literaturszene-koeln.de
SUMMARY:POETRY TRIFFT POESIE: DIE SLAMMERIN JANA GOLLER UND DER DICHTER GERHARD AHRENS ZU GAST BEI MICHAEL DOMAS
DESCRIPTION:Jana Goller ist eine junge Poetin aus der bergischen Kleinstadt Wipperfürth. Seit über 6 Jahren ist Goller Teil der deutschsprachigen Poetry Slam Szene und sammelte über 200 Auftritte in verschiedensten Städten. Mittlerweile ist sie sowohl Poetin\, als auch Moderatorin\, Kunstschaffende und Slammasterin in NRW. Im Mai 2019 war sie Finalistin bei den U20-Landesmeisterschaften im Poetry Slam\, im Oktober 2019 nahm sie an den deutschsprachigen U20-Meisterschaften in Erfurt teil und im Oktober 2021 qualifizierte sie sich für das Finale der NRW Meisterschaften. Mittlerweile leitet sie drei regelmäßig stattfindende Slamveranstaltungen in Bonn\, Dortmund und Gummersbach und bietet Schreib-workshops für Nachwuchstalente an. \nWir haben uns aneinander gemessen\nganz nah lag meine Haut auf deiner\nund wir haben geschaut\nwieviel dazwischen liegt\nWir hatten uns gezählt\nZwei\nKönnte man sagen\nBloß zwei \n(aus „doppelter Espresso“) \nGerhard Ahrens zeigt Werke aus der Kunstgeschichte\, die er als Gesprächspartner versteht. Seine Antworten auf sie trägt er in der Form von Gedichten vor. \nDer Dichter Michael Domas („Herzmarinade“) wird auf Jana Goller mit klassischen\, modernen und eigenen Gedichten antworten\, um Slampoetry und Lyrik\, spoken und written word in Dialog treten zu lassen.
URL:https://literaturszene-koeln.de/termin/poetry-trifft-poesie-die-slammerin-jana-goller-und-der-dichter-gerhard-ahrens-zu-gast-bei-michael-domas/
LOCATION:Heimathirsch\, Mauenheimer Straße 4\, Köln\, 50733\, Deutschland
CATEGORIES:Autorenlesung,Lesung,Literatur-Show,Poetry Slam,Rezitation
ATTACH;FMTTYPE=image/jpeg:https://literaturszene-koeln.de/wp-content/uploads/2021/11/Logo-ptP-fuer-Literaturhaus-j9ueuX.tmp_.jpg
ORGANIZER;CN="Michael Domas":MAILTO:michael.domas@gmx.de
END:VEVENT
BEGIN:VEVENT
DTSTART;TZID=Europe/Berlin:20220310T193000
DTEND;TZID=Europe/Berlin:20220310T220000
DTSTAMP:20260420T123821
CREATED:20220209T230312Z
LAST-MODIFIED:20220310T141721Z
UID:17703-1646940600-1646949600@literaturszene-koeln.de
SUMMARY:POETRY TRIFFT POESIE: KOMIKER HEINZ GRÖNING UND DIE DICHTERIN EVA WAL ZU GAST BEI MICHAEL DOMAS
DESCRIPTION:Die letzten dreißig Jahre hat die Gier diesen Planeten langsam zu einem Ort gemacht an dem die Angst vorm Tod mehr Gewicht hat als der Spaß am Leben. Wir haben uns die Welt von der dunklen Seite der Macht wegnehmen lassen. Aber jetzt bricht der unglaubliche Heinz auf und erobert sie mit seinem unwiderstehlichen Humor wieder zurück. Denn er glaubt an die Macht der Lachkraft und die heilende Wirkung problembefreiter Lach-Zonen. \nEva Wal wird als ihr eigenes Anagramm Maria Valewa Gedichte aus ihrem neuen Werk “Zum Greifen fern” vortragen. Dabei werden im Gedichtband enthaltene Abbilder großformatiger Wandbilder zu einzelnen Texten projiziert. \n„In Maria Valewas Lyrik findet sich oft noch die Einheit von Mensch und Natur\, Ich und Umwelt\, die dem kindlichen Empfinden nahekommt\, aber später im Erwachsenenalter verloren geht. Valewa erschafft einen Raum\, in dem alles ineinander-fließt und eine traumartige\, zuweilen auch mys-tische Atmosphäre herrscht.“ (Sigune Schnabel) \nDer Dichter Michael Domas („Herzmarinade“) wird auf Heinz Gröning mit klassischen\, modernen und eigenen Gedichten antworten.
URL:https://literaturszene-koeln.de/termin/poetry-trifft-poesie-komiker-heinz-groening-und-die-dichterin-eva-wal-zu-gast-bei-michael-domas/
LOCATION:Heimathirsch\, Mauenheimer Straße 4\, Köln\, 50733\, Deutschland
CATEGORIES:Autorenlesung,Lesung,Literatur-Show
ATTACH;FMTTYPE=image/jpeg:https://literaturszene-koeln.de/wp-content/uploads/2021/11/Logo-ptP-fuer-Literaturhaus-j9ueuX.tmp_.jpg
ORGANIZER;CN="Michael Domas":MAILTO:michael.domas@gmx.de
END:VEVENT
BEGIN:VEVENT
DTSTART;TZID=Europe/Berlin:20211209T193000
DTEND;TZID=Europe/Berlin:20211209T220000
DTSTAMP:20260420T123821
CREATED:20211112T193540Z
LAST-MODIFIED:20211209T203252Z
UID:17436-1639078200-1639087200@literaturszene-koeln.de
SUMMARY:poetry trifft Poesie: Der Slammer Michael Schumacher und die Dichterin Eva Wal  zu Gast bei Michael Domas
DESCRIPTION:Michael Schumacher\, der „große alte Mann des Poetry Slams\, ein 63jähriger\, der sich mit Prosa\, Lyrik\, Kabarett\, Slamtexten und als Moderator schon auf ein paar Hundert Bühnen quer durch die Republik gestellt und an der Endrunde der NRW-Landesmeister-schaften 2018 teilgenommen hat. So wie Schumacher mit Form und Stil experimentiert\, ist er auch thematisch nicht festgelegt. Er setzt sich mit der Rolle seines Vaters im Zweiten Weltkrieg auseinander oder mit seiner eigenen Kindheit in Wuppertal. Er macht sich über Politik ebenso lustig wie über den Konsum-terror. Er denkt über die Abhängigkeit vom Internet genauso nach\, wie er über die Selfie-Wut ablästert. \n\nEva Wal ist Lyrikerin und Künstlerin. Sie wird\, während die Radierungen von Jürgen Höritzsch projiziert werden\, ihre grafischen Gedichte aus „NYX“ vortragen. \n\nDer Dichter Michael Domas wird auf Michael Schumacher mit klassischen\, modernen und eigenen Gedichten antworten. \nBei Slams gibt’s nur Prosa und Comedy?\nNicht nur! Hier zählt ebenso Poesie.\nWer jammert\, die Dichtung sei endgültig tot\,\nist einfach ein uninformierter Idiot.
URL:https://literaturszene-koeln.de/termin/poetry-trifft-poesie-der-slammer-michael-schumacher-und-die-dichterin-eva-wal-zu-gast-bei-michael-domas/
LOCATION:Heimathirsch\, Mauenheimer Straße 4\, Köln\, 50733\, Deutschland
CATEGORIES:Autorenlesung,Lesung,Literatur-Show,Poetry Slam
ATTACH;FMTTYPE=image/jpeg:https://literaturszene-koeln.de/wp-content/uploads/2021/11/Logo-ptP-fuer-Literaturhaus-j9ueuX.tmp_.jpg
ORGANIZER;CN="Michael Domas":MAILTO:michael.domas@gmx.de
END:VEVENT
BEGIN:VEVENT
DTSTART;TZID=Europe/Berlin:20211022T193000
DTEND;TZID=Europe/Berlin:20211022T220000
DTSTAMP:20260420T123821
CREATED:20211013T184725Z
LAST-MODIFIED:20211022T190224Z
UID:17282-1634931000-1634940000@literaturszene-koeln.de
SUMMARY:poetry trifft Poesie: Der Slammer Johnny und der Satiriker Markus Peters zu Gast bei Michael Domas
DESCRIPTION:Es wird lange Zeit\, dass Slampoetry und Lyrik\, dass spoken und written word sich begegnen. Michael antwortet auf die Texte Johnnys mit klassischen\, modernen und eigenen Gedichten. \nJohnny wurde 2019 zum NRW-Vize-Meister im Poetry Slam gekürt. Vollkommen zu Recht\, denn mit sprachlicher Finesse\, einer ordentlichen Portion Humor und einer ausdrucksstarken Performance zieht er seine Zuhörer immer wieder gekonnt in den Bann. \n“Wenn sich Geschichten zu kleinen Gedichten verdichten\, ist es schlichtweg nicht richtig sie nicht zu berichten.“ \nIn seinen Satiren\, Stories und Kolumnen verpasst der Kölner Journalist Markus Peters dem Alltag einen wohldosierten Dreh ins Absurd-Komische. \nMichael Domas ist Autor einiger\, auch erotischer Prosa und des Liebesgedichtbandes „Herzmarinade“\, außerdem Herausgeber der Liebes-lyrik-Anthologie „anhaltender ritus“.
URL:https://literaturszene-koeln.de/termin/poetry-trifft-poesie-der-slammer-johnny-und-der-satiriker-markus-peters-zu-gast-bei-michael-domas/
LOCATION:Heimathirsch\, Mauenheimer Straße 4\, Köln\, 50733\, Deutschland
CATEGORIES:Autorenlesung,Lesung,Literatur-Show,Poetry Slam,Rezitation
ATTACH;FMTTYPE=image/jpeg:https://literaturszene-koeln.de/wp-content/uploads/2021/10/Logo-ptP-fuer-Literaturhaus-bsaMxM.tmp_.jpg
ORGANIZER;CN="Michael Domas":MAILTO:michael.domas@gmx.de
END:VEVENT
END:VCALENDAR