BEGIN:VCALENDAR
VERSION:2.0
PRODID:-//Literaturszene Köln e.V. - ECPv6.15.20//NONSGML v1.0//EN
CALSCALE:GREGORIAN
METHOD:PUBLISH
X-ORIGINAL-URL:https://literaturszene-koeln.de
X-WR-CALDESC:Veranstaltungen für Literaturszene Köln e.V.
REFRESH-INTERVAL;VALUE=DURATION:PT1H
X-Robots-Tag:noindex
X-PUBLISHED-TTL:PT1H
BEGIN:VTIMEZONE
TZID:Europe/Berlin
BEGIN:DAYLIGHT
TZOFFSETFROM:+0100
TZOFFSETTO:+0200
TZNAME:CEST
DTSTART:20210328T010000
END:DAYLIGHT
BEGIN:STANDARD
TZOFFSETFROM:+0200
TZOFFSETTO:+0100
TZNAME:CET
DTSTART:20211031T010000
END:STANDARD
BEGIN:DAYLIGHT
TZOFFSETFROM:+0100
TZOFFSETTO:+0200
TZNAME:CEST
DTSTART:20220327T010000
END:DAYLIGHT
BEGIN:STANDARD
TZOFFSETFROM:+0200
TZOFFSETTO:+0100
TZNAME:CET
DTSTART:20221030T010000
END:STANDARD
BEGIN:DAYLIGHT
TZOFFSETFROM:+0100
TZOFFSETTO:+0200
TZNAME:CEST
DTSTART:20230326T010000
END:DAYLIGHT
BEGIN:STANDARD
TZOFFSETFROM:+0200
TZOFFSETTO:+0100
TZNAME:CET
DTSTART:20231029T010000
END:STANDARD
END:VTIMEZONE
BEGIN:VEVENT
DTSTART;TZID=Europe/Berlin:20221116T190000
DTEND;TZID=Europe/Berlin:20221116T203000
DTSTAMP:20260421T041429
CREATED:20220929T180725Z
LAST-MODIFIED:20221113T214807Z
UID:18942-1668625200-1668630600@literaturszene-koeln.de
SUMMARY:Lisa Strauß: „Von Krakau nach Kapstadt. Deportiert nach Auschwitz: Bericht einer Überlebenden des Holocaust“
DESCRIPTION:Mosaik der Erinnerung / Literatur der Gegenwart\nLiterarische Zeugnisse von Angehörigen der Folgegenerationen von NS-Verfolgten \n„Die Berichte der Holocaustüberlebenden sind in der Aufarbeitung der jüdischen und deutschen Geschichte durch nichts zu ersetzen. Nur indem wir diese Geschichten als lebendige Realität erhalten\, können wir ein Mahnmal für die Generationen der Zukunft schaffen. Nur so können wir gegen das Vergessen\, die Verharmlosung und die Wiederholung dieser Taten kämpfen.Das ist unsere Verantwortung“\, schreibt Lisa Strauß\, die die Geschichte ihrer Großmutter festhält. Nora Hespers erzählt die ihres Großvaters\, die verwoben ist mit der Geschichte ihres Vaters und auch mit ihrer eigenen. \n“Welche Auswirkungen haben Kontinuitäten nach 1945 auf die Nachkommen unterschiedlicher verfolgter Gruppen?” In welcher Weise hat die Verfolgungszeit der (Groß) Eltern die eigene Lebensgeschichte beeinflusst? Die Nachkommen der NS-Verfolgten verbinden durch eigene Erfahrungen die Vergangenheit und die Zukunft. Die Enkel*innen-Generation hat häufig mehr über die Großeltern erfahren als ihre Eltern und damit begonnen\, die eigenen Erfahrungen zu be- und verarbeiten. \nZwei Familiengeschichten\, mehrere Recherchejahre\, zwei Autorinnen\, die mit den Biographien ihrer Angehörigen ein Zeitzeugnis gegen das Vergessen setzen. „Mosaik der Erinnerung“ ist die neue Reihe des Bundesverbandes. In diesem Herbst werden Nora Hespers und Lisa Strauß\, zwei junge Autorinnen aus Köln und Berlin aus ihren vor kurzem erschienen Werken lesen. \nEINTRITT FREI / GERNE MIT VORANMELDUNG: info@nsberatung.de \nEine Veranstaltungsreihe von Bundesverband Information & Beratung für NS – Verfolgte e.V.\nGefördert von AMCHA Deutschland e.V.\nIn Kooperation mit: GERMANIA JUDAICA\, Literaturforum im Brecht-Haus\, Buchladen Neusser Straße\, PANDA platforma \nFoto: (c) Ekkehard Strauß
URL:https://literaturszene-koeln.de/termin/lisa-strauss-von-krakau-nach-kapstadt-deportiert-nach-auschwitz-bericht-einer-ueberlebenden-des-holocaust/
LOCATION:GERMANIA JUDAICA\, Josef-Haubrich-Hof 1\, Köln\, 50676\, Deutschland
CATEGORIES:Gespräche,Lesung
ATTACH;FMTTYPE=image/jpeg:https://literaturszene-koeln.de/wp-content/uploads/2022/09/LisaStrauss_Credit_Ekkehard-Strauss-vPyyvw.tmp_.jpg
END:VEVENT
END:VCALENDAR