BEGIN:VCALENDAR
VERSION:2.0
PRODID:-//Literaturszene Köln e.V. - ECPv6.15.20//NONSGML v1.0//EN
CALSCALE:GREGORIAN
METHOD:PUBLISH
X-ORIGINAL-URL:https://literaturszene-koeln.de
X-WR-CALDESC:Veranstaltungen für Literaturszene Köln e.V.
REFRESH-INTERVAL;VALUE=DURATION:PT1H
X-Robots-Tag:noindex
X-PUBLISHED-TTL:PT1H
BEGIN:VTIMEZONE
TZID:Europe/Berlin
BEGIN:DAYLIGHT
TZOFFSETFROM:+0100
TZOFFSETTO:+0200
TZNAME:CEST
DTSTART:20210328T010000
END:DAYLIGHT
BEGIN:STANDARD
TZOFFSETFROM:+0200
TZOFFSETTO:+0100
TZNAME:CET
DTSTART:20211031T010000
END:STANDARD
BEGIN:DAYLIGHT
TZOFFSETFROM:+0100
TZOFFSETTO:+0200
TZNAME:CEST
DTSTART:20220327T010000
END:DAYLIGHT
BEGIN:STANDARD
TZOFFSETFROM:+0200
TZOFFSETTO:+0100
TZNAME:CET
DTSTART:20221030T010000
END:STANDARD
BEGIN:DAYLIGHT
TZOFFSETFROM:+0100
TZOFFSETTO:+0200
TZNAME:CEST
DTSTART:20230326T010000
END:DAYLIGHT
BEGIN:STANDARD
TZOFFSETFROM:+0200
TZOFFSETTO:+0100
TZNAME:CET
DTSTART:20231029T010000
END:STANDARD
END:VTIMEZONE
BEGIN:VEVENT
DTSTART;TZID=Europe/Berlin:20221125T190000
DTEND;TZID=Europe/Berlin:20221125T203000
DTSTAMP:20260423T024646
CREATED:20221109T213345Z
LAST-MODIFIED:20221125T233233Z
UID:19130-1669402800-1669408200@literaturszene-koeln.de
SUMMARY:BENEFIZLESUNG · Galerie Eyegenart in Crime
DESCRIPTION:Kunst und Krimi – ein Abend voller Kultur und Spannung!\nEs lesen die Krimiautor*innen: Isabella Archan\, Myrianne Angelowski\, Thomas Kiehl\, Edith Niedieck\, Elke Pistor
URL:https://literaturszene-koeln.de/termin/benefizlesung-%c2%b7-galerie-eyegenart-in-crime/
LOCATION:Galerie Eyegenart\, Rothehausstraße 14\, Köln-Ehrenfeld\, 50823\, Deutschland
CATEGORIES:Gespräche,Lesung
END:VEVENT
END:VCALENDAR