BEGIN:VCALENDAR
VERSION:2.0
PRODID:-//Literaturszene Köln e.V. - ECPv6.15.20//NONSGML v1.0//EN
CALSCALE:GREGORIAN
METHOD:PUBLISH
X-WR-CALNAME:Literaturszene Köln e.V.
X-ORIGINAL-URL:https://literaturszene-koeln.de
X-WR-CALDESC:Veranstaltungen für Literaturszene Köln e.V.
REFRESH-INTERVAL;VALUE=DURATION:PT1H
X-Robots-Tag:noindex
X-PUBLISHED-TTL:PT1H
BEGIN:VTIMEZONE
TZID:Europe/Berlin
BEGIN:DAYLIGHT
TZOFFSETFROM:+0100
TZOFFSETTO:+0200
TZNAME:CEST
DTSTART:20210328T010000
END:DAYLIGHT
BEGIN:STANDARD
TZOFFSETFROM:+0200
TZOFFSETTO:+0100
TZNAME:CET
DTSTART:20211031T010000
END:STANDARD
BEGIN:DAYLIGHT
TZOFFSETFROM:+0100
TZOFFSETTO:+0200
TZNAME:CEST
DTSTART:20220327T010000
END:DAYLIGHT
BEGIN:STANDARD
TZOFFSETFROM:+0200
TZOFFSETTO:+0100
TZNAME:CET
DTSTART:20221030T010000
END:STANDARD
BEGIN:DAYLIGHT
TZOFFSETFROM:+0100
TZOFFSETTO:+0200
TZNAME:CEST
DTSTART:20230326T010000
END:DAYLIGHT
BEGIN:STANDARD
TZOFFSETFROM:+0200
TZOFFSETTO:+0100
TZNAME:CET
DTSTART:20231029T010000
END:STANDARD
END:VTIMEZONE
BEGIN:VEVENT
DTSTART;TZID=Europe/Berlin:20220408T180000
DTEND;TZID=Europe/Berlin:20220408T193000
DTSTAMP:20260423T121756
CREATED:20220322T144958Z
LAST-MODIFIED:20220408T151704Z
UID:17904-1649440800-1649446200@literaturszene-koeln.de
SUMMARY:Durchstarten für die Kunst! Mit einer verbesserten sozialen Absicherung und mit angemessenen Honoraren für Künstler:innen
DESCRIPTION:Die unzureichende Wertschätzung der künstlerischen Arbeit durch ein ineinandergreifendes System aus angemessener Bezahlung\, sozialer Absicherung und ausreichender Renten zu ersetzen\, ist schon seit vielen Jahren eine immer wieder vorgetragene Forderung  der Kulturverbände an die Politik. Die Corona-Pandemie und die mit ihr einhergehende Verdeutlichung der prekären Lebensverhältnisse im Kulturbereich hat jetzt einmal mehr den dringenden Handlungsbedarf deutlich gemacht. Dass nun die Landesregierung und -verwaltung in NRW sowie auch die Koalition auf Bundesebene die Einkommens- und soziale Sicherung von Künstler:innen in den Fokus nimmt ist sehr zu begrüßen. Daran soll unsere Veranstaltung anschließen. Zusammen mit Künstler:innen und Kulturverwaltungen aus NRW möchten wir bei dieser Podiumsdiskussion konkrete Lösungsansätze erörtern.  \nAuf dem Podium: \nDr. Hildegard Kaluza\, Ministerium für Kultur und Wissenschaft des Landes NRW: Die Sicht der Politik und Verwaltung des Landes NRWBettina Fischer\, Literaturhaus Köln:Die Situation der LiteraturszeneDoris Frohnapfel\, Köln\, Künstlerin\, Co-Vorsitzende BBK Landesverband NRW: Best-Practice-BeispieleJörg Stüdemann\, Beigeordneter für Kultur\, Sport und Freizeit der Stadt Dortmund: Die kommunale Perspektive \nModeration:  \nPeter Grabowski\, der kulturpolitische reporter  \nDas Podiumsgespräch wird für das WDR3-Forum im Rahmen unserer WDR-Kulturpartnerschaft mitgeschnitten\, gesendet und als Podcast zur Verfügung gestellt. \nFreitag\, 8.4.2022\, 18 Uhr im Funkhaus Wallrafplatz des WDR / Kleiner Sendesaal (Wallrafplatz\, 50667 Köln)Einlass ab 17:30 Uhr \nUm Anmeldung wird gebeten unter kontakt@bbk-landesverband-nrw.deAngemeldete Besucher informieren wir kurz vor der Veranstaltung über die dann geltende Corona-Schutzverordnung. \nVeranstalter/Organisator: Kulturwerk des BBK Nordrhein-Westfalen e.V.\, Mathiasstr. 15. 50676 Köln\, Tel 0221 99 12 832www.bbk-landesverband-nrw.de \nDie Veranstaltung wird gefördert durch das  Ministerium für Kultur und Wissenschaft des Landes Nordrhein-Westfalen \nKulturpartner: WDR3
URL:https://literaturszene-koeln.de/termin/durchstarten-fuer-die-kunst-mit-einer-verbesserten-sozialen-absicherung-und-mit-angemessenen-honoraren-fuer-kuenstlerinnen/
LOCATION:Funkhaus des WDR Köln\, Wallrafplatz 5\, Köln\, 50667\, Deutschland
CATEGORIES:Diskussion
END:VEVENT
END:VCALENDAR