BEGIN:VCALENDAR
VERSION:2.0
PRODID:-//Literaturszene Köln e.V. - ECPv6.15.20//NONSGML v1.0//EN
CALSCALE:GREGORIAN
METHOD:PUBLISH
X-WR-CALNAME:Literaturszene Köln e.V.
X-ORIGINAL-URL:https://literaturszene-koeln.de
X-WR-CALDESC:Veranstaltungen für Literaturszene Köln e.V.
REFRESH-INTERVAL;VALUE=DURATION:PT1H
X-Robots-Tag:noindex
X-PUBLISHED-TTL:PT1H
BEGIN:VTIMEZONE
TZID:Europe/Berlin
BEGIN:DAYLIGHT
TZOFFSETFROM:+0100
TZOFFSETTO:+0200
TZNAME:CEST
DTSTART:20230326T010000
END:DAYLIGHT
BEGIN:STANDARD
TZOFFSETFROM:+0200
TZOFFSETTO:+0100
TZNAME:CET
DTSTART:20231029T010000
END:STANDARD
BEGIN:DAYLIGHT
TZOFFSETFROM:+0100
TZOFFSETTO:+0200
TZNAME:CEST
DTSTART:20240331T010000
END:DAYLIGHT
BEGIN:STANDARD
TZOFFSETFROM:+0200
TZOFFSETTO:+0100
TZNAME:CET
DTSTART:20241027T010000
END:STANDARD
BEGIN:DAYLIGHT
TZOFFSETFROM:+0100
TZOFFSETTO:+0200
TZNAME:CEST
DTSTART:20250330T010000
END:DAYLIGHT
BEGIN:STANDARD
TZOFFSETFROM:+0200
TZOFFSETTO:+0100
TZNAME:CET
DTSTART:20251026T010000
END:STANDARD
END:VTIMEZONE
BEGIN:VEVENT
DTSTART;TZID=Europe/Berlin:20240224T193000
DTEND;TZID=Europe/Berlin:20240224T210000
DTSTAMP:20260425T160204
CREATED:20240215T193747Z
LAST-MODIFIED:20240215T193747Z
UID:22577-1708803000-1708808400@literaturszene-koeln.de
SUMMARY:DIE LESEREISE – Ein Film von Martin Obliers und Ralf Kleinemas
DESCRIPTION:Die Handlung ist rasch erzählt: Ein Verleger schickt seinen Lieblingsschriftsteller auf eine Lesereise\, weil die Ehefrau des Schriftstellers es so will. Begleitet wird der plötzlich mit der Gesellschaft in Gestalt eines verständnislosen Publikums konfrontierte Schriftsteller von dem Schwerenöter Butzi\, der im Auftrag des Verlegers einen Film über den aus seinen Büchern allabendlich vorlesenden Schriftsteller drehen soll. Was bleibt\, ist sozusagen die Geschichte eines Films im Film\, die in schönen Bildern ein apokalyptisches Ende erzählt\, dem sowohl der Schriftsteller als auch der Butzi nur mit einem Trick entkommen.\n\nViel plausibler als die eigentliche Handlung des Films ist der innere Text der „Lesereise“\, dessen Ursprung sich in dem Roman „Was mit den Pausen passiert\, wenn die Seltenen Erden nicht reichen“ findet.\n\n\n\n\nFilmtrailer: https://vimeo.com/892890155
URL:https://literaturszene-koeln.de/termin/die-lesereise-ein-film-von-martin-obliers-und-ralf-kleinemas-2/
LOCATION:Filmclub 813 (in der Brücke)\, Hahnenstr. 6\, Köln\, 50667
CATEGORIES:Film
ATTACH;FMTTYPE=image/jpeg:https://literaturszene-koeln.de/wp-content/uploads/2024/02/still1.jpg
END:VEVENT
END:VCALENDAR