BEGIN:VCALENDAR
VERSION:2.0
PRODID:-//Literaturszene Köln e.V. - ECPv6.15.20//NONSGML v1.0//EN
CALSCALE:GREGORIAN
METHOD:PUBLISH
X-WR-CALNAME:Literaturszene Köln e.V.
X-ORIGINAL-URL:https://literaturszene-koeln.de
X-WR-CALDESC:Veranstaltungen für Literaturszene Köln e.V.
REFRESH-INTERVAL;VALUE=DURATION:PT1H
X-Robots-Tag:noindex
X-PUBLISHED-TTL:PT1H
BEGIN:VTIMEZONE
TZID:Europe/Berlin
BEGIN:DAYLIGHT
TZOFFSETFROM:+0100
TZOFFSETTO:+0200
TZNAME:CEST
DTSTART:20200329T010000
END:DAYLIGHT
BEGIN:STANDARD
TZOFFSETFROM:+0200
TZOFFSETTO:+0100
TZNAME:CET
DTSTART:20201025T010000
END:STANDARD
BEGIN:DAYLIGHT
TZOFFSETFROM:+0100
TZOFFSETTO:+0200
TZNAME:CEST
DTSTART:20210328T010000
END:DAYLIGHT
BEGIN:STANDARD
TZOFFSETFROM:+0200
TZOFFSETTO:+0100
TZNAME:CET
DTSTART:20211031T010000
END:STANDARD
BEGIN:DAYLIGHT
TZOFFSETFROM:+0100
TZOFFSETTO:+0200
TZNAME:CEST
DTSTART:20220327T010000
END:DAYLIGHT
BEGIN:STANDARD
TZOFFSETFROM:+0200
TZOFFSETTO:+0100
TZNAME:CET
DTSTART:20221030T010000
END:STANDARD
END:VTIMEZONE
BEGIN:VEVENT
DTSTART;TZID=Europe/Berlin:20210927T190000
DTEND;TZID=Europe/Berlin:20210927T203000
DTSTAMP:20260421T123248
CREATED:20210924T203243Z
LAST-MODIFIED:20210927T204713Z
UID:17201-1632769200-1632774600@literaturszene-koeln.de
SUMMARY:Festivals in den Häusern der Stadt: Moritz Heger liest “Aus der Mitte des Sees”
DESCRIPTION:Der Mönch Lukas\, Ende 30\, stellt seinen Lebensweg in Frage\, nachdem sein Freund Andreas das Kloster verlassen hat\, um eine Familie zu gründen. Um zu einer Entscheidung zu finden\, überlässt sich Lukas dem See. Als ihm Andreas Bilder seiner jungen Familie schickt\, ist Lukas konsterniert. Gemeinsam hatten sie sich vor 16 Jahren dazu entschlossen\, ins Kloster einzutreten\, und nun ließ ihn sein Mitbruder und Freund im Stich\, ließ ihn zurück mit einem Dutzend greiser Mönche und einer bald führungslosen Abtei. Vor allem aber: Welche alten Sehnsüchte wecken diese Fotos in Lukas selbst? Als Sarah im Kloster erscheint\, die schöne\, spöttische Frau\, ist er gänzlich verwirrt. Als was ist er gefragt bei ihren nächtlichen Gesprächen am See: als Seelsorger oder als Mann? \nIn der Erzengel-Michael-Kirche werden die Zuhörerinnen und Zuhörer unweigerlich eingeladen\, in einen bedenklich heißen Sommer einzutauchen\, Lukas beim Schwimmen zu begleiten und mitzuerleben\, wie er über scheinbar Unvereinbares hinauswächst. Geschrieben in einer wunderbaren Prosa\, die einen einmaligen und vielstimmigen Resonanzraum erschafft. Moritz Heger erhielt 2007 den\nMDR-Literaturpreis und den zugehörigen Publikumspreis. Neben dem Schreiben arbeitet er als Lehrer an einem Stuttgarter Gymnasium. »Aus der Mitte des Sees« ist sein zweiter Roman.
URL:https://literaturszene-koeln.de/termin/festivals-in-den-haeusern-der-stadt-moritz-heger-liest-aus-der-mitte-des-sees/
LOCATION:Erzengel-Michael-Kirche\, Pfarrer-te-Reh-Straße 7\, Köln\, NRW\, 50999\, Deutschland
CATEGORIES:Autorenlesung
END:VEVENT
END:VCALENDAR