BEGIN:VCALENDAR
VERSION:2.0
PRODID:-//Literaturszene Köln e.V. - ECPv6.15.20//NONSGML v1.0//EN
CALSCALE:GREGORIAN
METHOD:PUBLISH
X-WR-CALNAME:Literaturszene Köln e.V.
X-ORIGINAL-URL:https://literaturszene-koeln.de
X-WR-CALDESC:Veranstaltungen für Literaturszene Köln e.V.
REFRESH-INTERVAL;VALUE=DURATION:PT1H
X-Robots-Tag:noindex
X-PUBLISHED-TTL:PT1H
BEGIN:VTIMEZONE
TZID:Europe/Berlin
BEGIN:DAYLIGHT
TZOFFSETFROM:+0100
TZOFFSETTO:+0200
TZNAME:CEST
DTSTART:20210328T010000
END:DAYLIGHT
BEGIN:STANDARD
TZOFFSETFROM:+0200
TZOFFSETTO:+0100
TZNAME:CET
DTSTART:20211031T010000
END:STANDARD
BEGIN:DAYLIGHT
TZOFFSETFROM:+0100
TZOFFSETTO:+0200
TZNAME:CEST
DTSTART:20220327T010000
END:DAYLIGHT
BEGIN:STANDARD
TZOFFSETFROM:+0200
TZOFFSETTO:+0100
TZNAME:CET
DTSTART:20221030T010000
END:STANDARD
BEGIN:DAYLIGHT
TZOFFSETFROM:+0100
TZOFFSETTO:+0200
TZNAME:CEST
DTSTART:20230326T010000
END:DAYLIGHT
BEGIN:STANDARD
TZOFFSETFROM:+0200
TZOFFSETTO:+0100
TZNAME:CET
DTSTART:20231029T010000
END:STANDARD
BEGIN:DAYLIGHT
TZOFFSETFROM:+0100
TZOFFSETTO:+0200
TZNAME:CEST
DTSTART:20240331T010000
END:DAYLIGHT
BEGIN:STANDARD
TZOFFSETFROM:+0200
TZOFFSETTO:+0100
TZNAME:CET
DTSTART:20241027T010000
END:STANDARD
END:VTIMEZONE
BEGIN:VEVENT
DTSTART;TZID=Europe/Berlin:20230831T130000
DTEND;TZID=Europe/Berlin:20230831T143000
DTSTAMP:20260423T163550
CREATED:20230717T091035Z
LAST-MODIFIED:20230717T091035Z
UID:20054-1693486800-1693492200@literaturszene-koeln.de
SUMMARY:Take away. Literatur unterwegs mit Vera Vorneweg und Julia von Lucadou
DESCRIPTION:Mit Take away. Literatur unterwegs bringt das Literaturhaus Texte und Gespräche an unerwartete Orte und zu den Menschen – in den öffentlichen Raum\, mitten in die Stadt Köln. Ein Projekt für Passant*innen und Menschen\, die sich für die Stadt interessieren. In der sechsten Folge auf dem Ebertplatz (später auch als Podcast unter www.takeaway-literatur.de nachzuhören) sprechen die Moderator*innen Svenja Reiner und Tilman Strasser mit Vera Vorneweg und Julia von Lucadou. \nMit freundlicher Unterstützung: Kunststiftung NRW\, Kulturamt der Stadt Köln und Unser Ebertplatz
URL:https://literaturszene-koeln.de/termin/take-away-literatur-unterwegs-mit-vera-vorneweg-und-julia-von-lucadou/
LOCATION:Ebertplatzpassage / Open Air\, Ebertplatz\, Köln\, 50668
CATEGORIES:Gespräche,Lesung
ATTACH;FMTTYPE=image/jpeg:https://literaturszene-koeln.de/wp-content/uploads/2023/07/takeaway.jpg
END:VEVENT
BEGIN:VEVENT
DTSTART;TZID=Europe/Berlin:20220825T193000
DTEND;TZID=Europe/Berlin:20220825T211500
DTSTAMP:20260423T163550
CREATED:20220818T171831Z
LAST-MODIFIED:20220825T171704Z
UID:18594-1661455800-1661462100@literaturszene-koeln.de
SUMMARY:KLiteratur trifft … Ebertplatz. Lesungen und Gespräche mit Tamer Düzyol\, Lisa Roy\, Fatma Tuna\, Bastian Schneider
DESCRIPTION:Die Vorspeise zum Europäischen Literaturfestival Köln Kalk wird linksrheinisch auf dem Ebertplatz serviert: Für den 3. Teil der Lesereihe „KLiteratur trifft …“ hat die Kölner Literaturzeitschrift mit Fatma Tuna und Tamer Düzyol zwei Autor*innen aus der preisgekrönten HAYMATLOS-Anthologie (edition assemblage) eingeladen. Wir hören Texte daraus und sprechen mit Herausgeber Düzyol über die Anthologie und den neuen queer-muslimischen Gedichtband Araf – Un:::Sichtbar\, den er ebenfalls mit herausgibt. Mit Lisa Roy und Bastian Schneider kommen gleich zwei ehemalige Brinkmann-Preisträger*innen aus Köln dazu und steuern frische Texte bei. Moderiert wird der Abend vom Herausgeber der KLiteratur\, Philipp-Bo Franke.
URL:https://literaturszene-koeln.de/termin/kliteratur-trifft-ebertplatz-lesungen-und-gespraeche-mit-tamer-duezyol-lisa-roy-fatma-tuna-bastian-schneider/
LOCATION:Ebertplatzpassage / Open Air\, Ebertplatz\, Köln\, 50668
CATEGORIES:Lesung
END:VEVENT
END:VCALENDAR