BEGIN:VCALENDAR
VERSION:2.0
PRODID:-//Literaturszene Köln e.V. - ECPv6.15.20//NONSGML v1.0//EN
CALSCALE:GREGORIAN
METHOD:PUBLISH
X-ORIGINAL-URL:https://literaturszene-koeln.de
X-WR-CALDESC:Veranstaltungen für Literaturszene Köln e.V.
REFRESH-INTERVAL;VALUE=DURATION:PT1H
X-Robots-Tag:noindex
X-PUBLISHED-TTL:PT1H
BEGIN:VTIMEZONE
TZID:Europe/Berlin
BEGIN:DAYLIGHT
TZOFFSETFROM:+0100
TZOFFSETTO:+0200
TZNAME:CEST
DTSTART:20210328T010000
END:DAYLIGHT
BEGIN:STANDARD
TZOFFSETFROM:+0200
TZOFFSETTO:+0100
TZNAME:CET
DTSTART:20211031T010000
END:STANDARD
BEGIN:DAYLIGHT
TZOFFSETFROM:+0100
TZOFFSETTO:+0200
TZNAME:CEST
DTSTART:20220327T010000
END:DAYLIGHT
BEGIN:STANDARD
TZOFFSETFROM:+0200
TZOFFSETTO:+0100
TZNAME:CET
DTSTART:20221030T010000
END:STANDARD
BEGIN:DAYLIGHT
TZOFFSETFROM:+0100
TZOFFSETTO:+0200
TZNAME:CEST
DTSTART:20230326T010000
END:DAYLIGHT
BEGIN:STANDARD
TZOFFSETFROM:+0200
TZOFFSETTO:+0100
TZNAME:CET
DTSTART:20231029T010000
END:STANDARD
BEGIN:DAYLIGHT
TZOFFSETFROM:+0100
TZOFFSETTO:+0200
TZNAME:CEST
DTSTART:20240331T010000
END:DAYLIGHT
BEGIN:STANDARD
TZOFFSETFROM:+0200
TZOFFSETTO:+0100
TZNAME:CET
DTSTART:20241027T010000
END:STANDARD
BEGIN:DAYLIGHT
TZOFFSETFROM:+0100
TZOFFSETTO:+0200
TZNAME:CEST
DTSTART:20250330T010000
END:DAYLIGHT
BEGIN:STANDARD
TZOFFSETFROM:+0200
TZOFFSETTO:+0100
TZNAME:CET
DTSTART:20251026T010000
END:STANDARD
BEGIN:DAYLIGHT
TZOFFSETFROM:+0100
TZOFFSETTO:+0200
TZNAME:CEST
DTSTART:20260329T010000
END:DAYLIGHT
BEGIN:STANDARD
TZOFFSETFROM:+0200
TZOFFSETTO:+0100
TZNAME:CET
DTSTART:20261025T010000
END:STANDARD
BEGIN:DAYLIGHT
TZOFFSETFROM:+0100
TZOFFSETTO:+0200
TZNAME:CEST
DTSTART:20270328T010000
END:DAYLIGHT
BEGIN:STANDARD
TZOFFSETFROM:+0200
TZOFFSETTO:+0100
TZNAME:CET
DTSTART:20271031T010000
END:STANDARD
END:VTIMEZONE
BEGIN:VEVENT
DTSTART;TZID=Europe/Berlin:20260315T140000
DTEND;TZID=Europe/Berlin:20260315T170000
DTSTAMP:20260420T221014
CREATED:20251203T105855Z
LAST-MODIFIED:20251203T110306Z
UID:29174-1773583200-1773594000@literaturszene-koeln.de
SUMMARY:Zwei Geschichten. Eine Subkultur.
DESCRIPTION:Zwei Geschichten. Eine Kultur. \nSeid dabei\, wenn Tobi Dahmen (Fahrradmod) gemeinsam mit einem Special Guest (Ihr kennt ihn ALLE) aus der Mod- und Scooterszene für eine exklusive Lesung beim Cologne Soul Weekender 2026 auf der Bühne steht. Der Name des Special Guests wird kurz vor der Veranstaltung am 15. März 2026 bekannt gegeben – seid gespannt! \n📖 Tobi Dahmen – Fahrradmod\nTobi nimmt uns mit in seine Welt: die einzigartige Verbindung von Mod-Kultur\, Stil\, Musik und der Leidenschaft für urbanes Fahrradfahren. Ein Buch über Haltung\, Ästhetik und den Lifestyle einer lebendigen Subkultur. \n💡 Während der Lesung wird gesammelt\, und 10 % der Eintrittsgelder gehen an den Verein Um halb an der Bar. \n📚 Signierte Exemplare von Tobi Dahmen und Mister Xs Buch können vor Ort gekauft werden. \n📢 Hinweis: Die Lesung findet ausschließlich in deutscher Sprache statt. \nFOTO: © cologne northern soul club
URL:https://literaturszene-koeln.de/termin/zwei-geschichten-eine-subkultur/
LOCATION:die wohngemeinschaft\, Richard-Wagner-Str. 39\, Köln\, 50674\, Deutschland
CATEGORIES:Gespräche,Lesung
ATTACH;FMTTYPE=image/jpeg:https://literaturszene-koeln.de/wp-content/uploads/2025/12/Dahmen_Fahrradmod.jpg
END:VEVENT
BEGIN:VEVENT
DTSTART;TZID=Europe/Berlin:20260314T140000
DTEND;TZID=Europe/Berlin:20260314T170000
DTSTAMP:20260420T221014
CREATED:20251203T110200Z
LAST-MODIFIED:20251203T110215Z
UID:29178-1773496800-1773507600@literaturszene-koeln.de
SUMMARY:Zwei Ikonen. Zwei Geschichten. Eine Subkultur.
DESCRIPTION:Two icons. Two stories. One culture. \nWe’re proud to welcome Eddie Piller and Dean Orton for a special afternoon of readings and conversation during the Cologne Soul Weekender 2026.\nA deep dive into the spirit that connects Mods\, Northern Soul\, Jazz\, Scooterboys\, and the timeless love for style and sound. \n📖 Eddie Piller – Clean Living Under Difficult Circumstances\nFounder of Acid Jazz Records\, broadcaster\, DJ\, and cultural historian\, Eddie takes us through a lifetime immersed in British subculture — from Mod revival and 80s Soho to the ongoing rhythm of modernist life. \n📖 Dean Orton – A Life in Lambretta\nA true craftsman and storyteller\, Dean has dedicated his life to restoring and celebrating the legendary Lambretta. His book is a love letter to scooter culture\, design\, and the freedom of the open road — with plenty of soul in every page. \n💡 During the reading\, a collection will be taken\, and 10% of the entrance fees will be donated to the association Um halb an der Bar.\n\nFOTO: © cologne soul weekender
URL:https://literaturszene-koeln.de/termin/zwei-ikonen-zwei-geschichten-eine-subkultur/
LOCATION:die wohngemeinschaft\, Richard-Wagner-Str. 39\, Köln\, 50674\, Deutschland
CATEGORIES:Gespräche,Lesung
ATTACH;FMTTYPE=image/jpeg:https://literaturszene-koeln.de/wp-content/uploads/2025/12/Orton_Piller.jpg
END:VEVENT
BEGIN:VEVENT
DTSTART;TZID=Europe/Berlin:20260209T200000
DTEND;TZID=Europe/Berlin:20260209T213000
DTSTAMP:20260420T221014
CREATED:20260202T124305Z
LAST-MODIFIED:20260202T124305Z
UID:29393-1770667200-1770672600@literaturszene-koeln.de
SUMMARY:Literaturklub: Erinnern und Strampeln mit Agnieszka Lessmann und Peter Rosenthal
DESCRIPTION:In den neuen Büchern von Agnieszka Lessmann und Peter Rosenthal geht es um das Erinnern – aber auch um die Arbeit\, die damit verbunden ist. In Lessmanns autobiographisch gefärbtem Roman Aga\, das eine polnisch-jüdische Familie ins Land der Täter führt\, wird das Schweigen der Überlebenden zur Last der Nachkommen. Bei Rosenthal radelt der Erzähler immer Donnerstags über den Rhein und erzählt von seinen Begegnungen als Arzt und den Erinnerungen\, die diese Begegnungen auslösen. \nAgnieszka Lessmann\, aufgewachsen in Polen\, Israel und Deutschland\, lebt als freie Schriftstellerin in Köln. Sie ist Autorin von acht Hörspielen und wurde für den Prix Europa und mehrfach für den Hörspielpreis der Kriegsblinden nominiert. Im Jahr 2020 erschien unter dem Titel Fluchtzustand ihr erster Lyrikband. Ihre Gedichte und Erzählungen wurden in Anthologien und Zeitschriften veröffentlicht. Ihre Arbeit wurde mit zahlreichen Stipendien gefördert. Ihr Roman Aga erschien 2025 im Gans Verlag. \nPeter Rosenthal\, geboren in Arad (Rumänien) lebt in Köln. Er ist tätig als Arzt in Ehrenfeld. Als Autor veröffentlichte er Entlang der Venloer Straße (2003)\, In die Zeit fallen (2013) und 33 Gedichte (2017). Außerdem gab er Venedig ist auch nicht viel größer als Ehrenfeld (2017) heraus und war Mitautor und Mitproduzent des experimentellen Kurzfilms Tigersprung (2017) über den Ehrenfelder Radrennweltmeister Albert Richter und seinen Manager Ernst Isidor Berliner. In der parasitenpresse erschienen von ihm Ehrenfeld Alphabet (2018)\, Impfnovelle (2022) und Donnerstags (2025). \nModeration: Adrian Kasnitz \nFoto: Peter Rosenthal und Agnieszka Lessmann
URL:https://literaturszene-koeln.de/termin/literaturklub-erinnern-und-strampeln-mit-agnieszka-lessmann-und-peter-rosenthal/
LOCATION:die wohngemeinschaft\, Richard-Wagner-Str. 39\, Köln\, 50674\, Deutschland
CATEGORIES:Gespräche,Lesung
ATTACH;FMTTYPE=image/jpeg:https://literaturszene-koeln.de/wp-content/uploads/2026/02/bild-literaturklub-09022026.jpg
END:VEVENT
BEGIN:VEVENT
DTSTART;TZID=Europe/Berlin:20231123T200000
DTEND;TZID=Europe/Berlin:20231123T220000
DTSTAMP:20260420T221014
CREATED:20231116T174725Z
LAST-MODIFIED:20231116T174725Z
UID:20811-1700769600-1700776800@literaturszene-koeln.de
SUMMARY:read together! Der WG-Leseabend
DESCRIPTION:Beim WG-Leseabend tragen Autor*innen selbstgeschriebene Kurzgeschichten vor. Ob witzig\, nachdenklich\, pur aus dem Leben gegriffen oder fiktiv: Willkommen ist jede Geschichte\, die ins Format Kurzgeschichte passt. Alle Vortragenden haben jeweils 15 Minuten Zeit\, ihre Geschichte vorzutragen. Nach jeder Vortragerunde gibt’s einen lockeren Talk mit der Moderatorin Nada Assaad.
URL:https://literaturszene-koeln.de/termin/read-together-der-wg-leseabend/
LOCATION:die wohngemeinschaft\, Richard-Wagner-Str. 39\, Köln\, 50674\, Deutschland
CATEGORIES:Gespräche,Lesung
END:VEVENT
BEGIN:VEVENT
DTSTART;TZID=Europe/Berlin:20221216T200000
DTEND;TZID=Europe/Berlin:20221216T220000
DTSTAMP:20260420T221014
CREATED:20221213T151748Z
LAST-MODIFIED:20221216T151701Z
UID:19262-1671220800-1671228000@literaturszene-koeln.de
SUMMARY:Das samtene Chalet – Release-Lesung mit Moderation von Svenja Reiner
DESCRIPTION:Ein Dickicht an Texten\, das einlädt\, sich ganz kurz zu verlieren. \nFünf Tage in einer abgelegenen Waldhütte in Frankreich. Jonathan @derloeffelbein\, Saman @ulrepforte und Reno\, die sich von Twitter kennen und nichts tun außer essen\, trinken\, rauchen\, schreiben. In dieser Zeit entstanden fast 100 Texte\, die gemeinsam dieses Buch ergeben. Lyrik\, Miniaturen\, Witze\, Aphorismen\, Geschichten. Themen und Motive wiederholen sich\, tauchen auf und ab\, variieren\, je nachdem\, welcher der drei Köpfe sie bearbeitet. Ein Dickicht an Texten\, das einlädt\, sich ganz kurz zu verlieren. Willkommen im samtenen Chalet. \nTickets gibt es bei der Wohngemeinschaft oder bei rausgegangen.
URL:https://literaturszene-koeln.de/termin/das-samtene-chalet-release-lesung-mit-moderation-von-svenja-reiner/
LOCATION:die wohngemeinschaft\, Richard-Wagner-Str. 39\, Köln\, 50674\, Deutschland
CATEGORIES:Buchpräsentation,Lesung
ATTACH;FMTTYPE=image/jpeg:https://literaturszene-koeln.de/wp-content/uploads/2022/12/das-samtene-chalet-kalender-eKns60.tmp_.jpg
END:VEVENT
END:VCALENDAR