BEGIN:VCALENDAR
VERSION:2.0
PRODID:-//Literaturszene Köln e.V. - ECPv6.15.20//NONSGML v1.0//EN
CALSCALE:GREGORIAN
METHOD:PUBLISH
X-ORIGINAL-URL:https://literaturszene-koeln.de
X-WR-CALDESC:Veranstaltungen für Literaturszene Köln e.V.
REFRESH-INTERVAL;VALUE=DURATION:PT1H
X-Robots-Tag:noindex
X-PUBLISHED-TTL:PT1H
BEGIN:VTIMEZONE
TZID:Europe/Berlin
BEGIN:DAYLIGHT
TZOFFSETFROM:+0100
TZOFFSETTO:+0200
TZNAME:CEST
DTSTART:20220327T010000
END:DAYLIGHT
BEGIN:STANDARD
TZOFFSETFROM:+0200
TZOFFSETTO:+0100
TZNAME:CET
DTSTART:20221030T010000
END:STANDARD
BEGIN:DAYLIGHT
TZOFFSETFROM:+0100
TZOFFSETTO:+0200
TZNAME:CEST
DTSTART:20230326T010000
END:DAYLIGHT
BEGIN:STANDARD
TZOFFSETFROM:+0200
TZOFFSETTO:+0100
TZNAME:CET
DTSTART:20231029T010000
END:STANDARD
BEGIN:DAYLIGHT
TZOFFSETFROM:+0100
TZOFFSETTO:+0200
TZNAME:CEST
DTSTART:20240331T010000
END:DAYLIGHT
BEGIN:STANDARD
TZOFFSETFROM:+0200
TZOFFSETTO:+0100
TZNAME:CET
DTSTART:20241027T010000
END:STANDARD
END:VTIMEZONE
BEGIN:VEVENT
DTSTART;TZID=Europe/Berlin:20230420T190000
DTEND;TZID=Europe/Berlin:20230420T203000
DTSTAMP:20260423T151452
CREATED:20230311T180434Z
LAST-MODIFIED:20230420T195146Z
UID:19593-1682017200-1682022600@literaturszene-koeln.de
SUMMARY:Lesung & Weintasting
DESCRIPTION:Lustig unangenehm oder unangenehm lustig? In Hanna Eschenhagens Buch “Genital Traffic – Geschlechtsverkehr ” versucht sich ein Paar in den Zwanzigern an (S)Experimenten\, die zum Scheitern verurteilt sind. Der Leser begleitet das Paar auf seiner Selbst- und Fremdentdeckungsreise: Schonungslos ehrlich\, trocken und ein bisschen zu nah.
URL:https://literaturszene-koeln.de/termin/lesung-weintasting/
LOCATION:Der Weinladen\, Alteburger Str. 13\, Köln\, 50678\, Deutschland
CATEGORIES:Lesung,Weintasting
ATTACH;FMTTYPE=image/jpeg:https://literaturszene-koeln.de/wp-content/uploads/2023/03/Hanna_Studio-26-TYiP8W.tmp_.jpg
END:VEVENT
END:VCALENDAR