BEGIN:VCALENDAR
VERSION:2.0
PRODID:-//Literaturszene Köln e.V. - ECPv6.15.20//NONSGML v1.0//EN
CALSCALE:GREGORIAN
METHOD:PUBLISH
X-WR-CALNAME:Literaturszene Köln e.V.
X-ORIGINAL-URL:https://literaturszene-koeln.de
X-WR-CALDESC:Veranstaltungen für Literaturszene Köln e.V.
REFRESH-INTERVAL;VALUE=DURATION:PT1H
X-Robots-Tag:noindex
X-PUBLISHED-TTL:PT1H
BEGIN:VTIMEZONE
TZID:Europe/Berlin
BEGIN:DAYLIGHT
TZOFFSETFROM:+0100
TZOFFSETTO:+0200
TZNAME:CEST
DTSTART:20220327T010000
END:DAYLIGHT
BEGIN:STANDARD
TZOFFSETFROM:+0200
TZOFFSETTO:+0100
TZNAME:CET
DTSTART:20221030T010000
END:STANDARD
BEGIN:DAYLIGHT
TZOFFSETFROM:+0100
TZOFFSETTO:+0200
TZNAME:CEST
DTSTART:20230326T010000
END:DAYLIGHT
BEGIN:STANDARD
TZOFFSETFROM:+0200
TZOFFSETTO:+0100
TZNAME:CET
DTSTART:20231029T010000
END:STANDARD
BEGIN:DAYLIGHT
TZOFFSETFROM:+0100
TZOFFSETTO:+0200
TZNAME:CEST
DTSTART:20240331T010000
END:DAYLIGHT
BEGIN:STANDARD
TZOFFSETFROM:+0200
TZOFFSETTO:+0100
TZNAME:CET
DTSTART:20241027T010000
END:STANDARD
END:VTIMEZONE
BEGIN:VEVENT
DTSTART;TZID=Europe/Berlin:20231016T193000
DTEND;TZID=Europe/Berlin:20231016T210000
DTSTAMP:20260420T125349
CREATED:20230914T071532Z
LAST-MODIFIED:20230914T071532Z
UID:20396-1697484600-1697490000@literaturszene-koeln.de
SUMMARY:Katty Salié: Das andere Gesicht. Depressionen im Rampenlicht
DESCRIPTION:Katty Salié weiß aus eigener Erfahrung\, wie es sich anfühlt\, wenn das Leben plötzlich schwer wird und man nicht mehr funktioniert. Erfolg und Prominenz schützen nicht vor Depressionen\, betroffen sind auch die\, von denen man es vielleicht am wenigsten erwartet. In ihrem sehr persönlichen Buch Das andere Gesicht (Kiepenheuer & Witsch) beschreibt Katty Salié ihre Krankheit und spricht mit vielen prominenten Menschen über deren Erfahrungen. Es entsteht ein Kompendium von Lebensgeschichten\, die immer auch Mut machen sollen. Christine Westermann moderiert den Abend. \nKooperationspartner: Buchladen Neusser Straße\, Kiepenheuer & Witsch \nFoto: (c) Mario Föllmer
URL:https://literaturszene-koeln.de/termin/katty-salie-das-andere-gesicht-depressionen-im-rampenlicht/
LOCATION:Clouth 104\, Kairos Blu (Eingang B)\, Niehler Str. 104\, Köln
CATEGORIES:Gespräche,Lesung
ATTACH;FMTTYPE=image/jpeg:https://literaturszene-koeln.de/wp-content/uploads/2023/09/16-10-2023_Katty-Salie_c_Mario-Foellmer.jpg
END:VEVENT
END:VCALENDAR