BEGIN:VCALENDAR
VERSION:2.0
PRODID:-//Literaturszene Köln e.V. - ECPv6.15.20//NONSGML v1.0//EN
CALSCALE:GREGORIAN
METHOD:PUBLISH
X-ORIGINAL-URL:https://literaturszene-koeln.de
X-WR-CALDESC:Veranstaltungen für Literaturszene Köln e.V.
REFRESH-INTERVAL;VALUE=DURATION:PT1H
X-Robots-Tag:noindex
X-PUBLISHED-TTL:PT1H
BEGIN:VTIMEZONE
TZID:Europe/Berlin
BEGIN:DAYLIGHT
TZOFFSETFROM:+0100
TZOFFSETTO:+0200
TZNAME:CEST
DTSTART:20200329T010000
END:DAYLIGHT
BEGIN:STANDARD
TZOFFSETFROM:+0200
TZOFFSETTO:+0100
TZNAME:CET
DTSTART:20201025T010000
END:STANDARD
BEGIN:DAYLIGHT
TZOFFSETFROM:+0100
TZOFFSETTO:+0200
TZNAME:CEST
DTSTART:20210328T010000
END:DAYLIGHT
BEGIN:STANDARD
TZOFFSETFROM:+0200
TZOFFSETTO:+0100
TZNAME:CET
DTSTART:20211031T010000
END:STANDARD
BEGIN:DAYLIGHT
TZOFFSETFROM:+0100
TZOFFSETTO:+0200
TZNAME:CEST
DTSTART:20220327T010000
END:DAYLIGHT
BEGIN:STANDARD
TZOFFSETFROM:+0200
TZOFFSETTO:+0100
TZNAME:CET
DTSTART:20221030T010000
END:STANDARD
END:VTIMEZONE
BEGIN:VEVENT
DTSTART;TZID=Europe/Berlin:20210520T200000
DTEND;TZID=Europe/Berlin:20210520T213000
DTSTAMP:20260423T163730
CREATED:20210502T153347Z
LAST-MODIFIED:20210520T160404Z
UID:16701-1621540800-1621546200@literaturszene-koeln.de
SUMMARY:Land in Sicht #42 mit Sarah Claire Wray\, Simon Kalus\, Samy Challah und Carla Kaspari
DESCRIPTION:LAND IN SICHT goes CityLeaks – zumindest soweit Corona das zulässt. Nach unserem Streaming-Auftakt im April hoffen wir auf eine Lesung mit Publikum am 20. Mai. Gestreamt wird aber in jedem Fall. Als Lesende vor der Kamera: Sarah Claire Wray\, Simon Kalus\, Samy Challah und Carla Kaspari. \nLivestream auf Dringeblieben \nInfos zu den Autor:innen \nSarah Claire Wray\, geb. in Köln\, ist Autorin und Regisseurin. Seit 2017 lebt sie in Berlin. Sie ist Absolventin der HfS Ernst Busch und war im Jahr 2020 Stipendiatin der Roger Willemsen Stiftung in Hamburg. Ihre Videoarbeiten\, sowie Theaterstücke wurden\, unter Anderem\, im Haus der Kulturen der Welt\, im Haus der Berliner Festspiele und im Seoul Institute of the Arts\, gezeigt. Sie veröffentlichte Lyrik und Kurzprosa im DAS WETTER Magazin\, den Literarischen Blättern\, bei mosaikzeitschrift.at und im Almost Magazin. \nSimon Kalus studierte Literaturwissenschaft und Philosophie in München und Wroclaw sowie Literarisches Schreiben am Deutschen Literaturinstitut Leipzig. Arbeitete in verschiedenen Berufen – unter anderem als Bäckergehilfe\, Sanitäter\, Kellner und Pflegekraft in einer Psychiatrie. Texte erschienen in Anthologien und Zeitschriften. Wirkt mit in interdisziplinären Projekten – zuletzt gefördert durch ein Arbeitsstipendium der Kulturstiftung Sachsen. Lebt als Autor und Lektor in Leipzig. \nSamy Challah studierte an der Kunsthochschule für Medien Köln. 2020 erhielt er den Förderpreis der Kölner Literaturtage. \nCarla Kaspari lebt als freie Autorin in Köln und schreibt verschiedene Dinge. 2020 war sie im Rahmen des Autor*innen-Projekts „stadt.land.text“ Stipendiatin des Landes NRW. Im November 2020 erhielt sie den 3. Platz des Förderpreises der Kölner Literaturtage. Aktuell geht sie viel spazieren und jongliert hin und wieder einen Fußball. \nDie Lesereihe LAND IN SICHT wird vom Kulturamt der Stadt Köln unterstützt. Vielen Dank!
URL:https://literaturszene-koeln.de/termin/land-in-sicht-42-mit-sarah-claire-wray-simon-kalus-samy-challah-und-carla-kaspari/
LOCATION:CityLeaks\, Hüttenstraße\, Köln\, Deutschland
CATEGORIES:Lesung
END:VEVENT
END:VCALENDAR