BEGIN:VCALENDAR
VERSION:2.0
PRODID:-//Literaturszene Köln e.V. - ECPv6.15.20//NONSGML v1.0//EN
CALSCALE:GREGORIAN
METHOD:PUBLISH
X-WR-CALNAME:Literaturszene Köln e.V.
X-ORIGINAL-URL:https://literaturszene-koeln.de
X-WR-CALDESC:Veranstaltungen für Literaturszene Köln e.V.
REFRESH-INTERVAL;VALUE=DURATION:PT1H
X-Robots-Tag:noindex
X-PUBLISHED-TTL:PT1H
BEGIN:VTIMEZONE
TZID:Europe/Berlin
BEGIN:DAYLIGHT
TZOFFSETFROM:+0100
TZOFFSETTO:+0200
TZNAME:CEST
DTSTART:20230326T010000
END:DAYLIGHT
BEGIN:STANDARD
TZOFFSETFROM:+0200
TZOFFSETTO:+0100
TZNAME:CET
DTSTART:20231029T010000
END:STANDARD
BEGIN:DAYLIGHT
TZOFFSETFROM:+0100
TZOFFSETTO:+0200
TZNAME:CEST
DTSTART:20240331T010000
END:DAYLIGHT
BEGIN:STANDARD
TZOFFSETFROM:+0200
TZOFFSETTO:+0100
TZNAME:CET
DTSTART:20241027T010000
END:STANDARD
BEGIN:DAYLIGHT
TZOFFSETFROM:+0100
TZOFFSETTO:+0200
TZNAME:CEST
DTSTART:20250330T010000
END:DAYLIGHT
BEGIN:STANDARD
TZOFFSETFROM:+0200
TZOFFSETTO:+0100
TZNAME:CET
DTSTART:20251026T010000
END:STANDARD
END:VTIMEZONE
BEGIN:VEVENT
DTSTART;TZID=Europe/Berlin:20240620T170000
DTEND;TZID=Europe/Berlin:20240620T183000
DTSTAMP:20260422T133131
CREATED:20240502T153617Z
LAST-MODIFIED:20240502T153617Z
UID:24040-1718902800-1718908200@literaturszene-koeln.de
SUMMARY:Sommer vorm Fenster. Einladung zur Lesung
DESCRIPTION:Adrienne Brehmer: Lyrische Prosa\nSigrun Dahmer: Erzählung \nBitte anmelden unter:\nhello@fraumexi.com \nWeitere Infos unter:\nwww.adrienne-brehmer.de \nHeute lassen wir ihn rein und raus und wieder rein\, den Sommer. \nWir erzählen Geschichten über das Singen der Blätter\, über das verheißungsvolle Zittern der Zweige im Wind\, über wilde\, bunte Blumen in den Kästen vorm Fenster und über all das\, was der Sommer noch so hergibt. \nWir lesen Prosa und Lyrik aus lauter und leiser Kehle\, werden dazu ein Lied anstimmen und die Vögel zum Kanon auffordern. \nWir freuen uns auf einen lauschigen Spätnachmittag mit einem sommerfrischen Publikum an einem besonderen Ort.
URL:https://literaturszene-koeln.de/termin/sommer-vorm-fenster-einladung-zur-lesung/
LOCATION:Café Frau Mexi\, Niehler Str. 76-78\, Köln\, 50733
CATEGORIES:Lesung
ATTACH;FMTTYPE=image/jpeg:https://literaturszene-koeln.de/wp-content/uploads/2024/05/Flyer_Sommer-vorm-Fenster_Vorder.jpg
END:VEVENT
END:VCALENDAR