BEGIN:VCALENDAR
VERSION:2.0
PRODID:-//Literaturszene Köln e.V. - ECPv6.15.20//NONSGML v1.0//EN
CALSCALE:GREGORIAN
METHOD:PUBLISH
X-WR-CALNAME:Literaturszene Köln e.V.
X-ORIGINAL-URL:https://literaturszene-koeln.de
X-WR-CALDESC:Veranstaltungen für Literaturszene Köln e.V.
REFRESH-INTERVAL;VALUE=DURATION:PT1H
X-Robots-Tag:noindex
X-PUBLISHED-TTL:PT1H
BEGIN:VTIMEZONE
TZID:Europe/Berlin
BEGIN:DAYLIGHT
TZOFFSETFROM:+0100
TZOFFSETTO:+0200
TZNAME:CEST
DTSTART:20200329T010000
END:DAYLIGHT
BEGIN:STANDARD
TZOFFSETFROM:+0200
TZOFFSETTO:+0100
TZNAME:CET
DTSTART:20201025T010000
END:STANDARD
BEGIN:DAYLIGHT
TZOFFSETFROM:+0100
TZOFFSETTO:+0200
TZNAME:CEST
DTSTART:20210328T010000
END:DAYLIGHT
BEGIN:STANDARD
TZOFFSETFROM:+0200
TZOFFSETTO:+0100
TZNAME:CET
DTSTART:20211031T010000
END:STANDARD
BEGIN:DAYLIGHT
TZOFFSETFROM:+0100
TZOFFSETTO:+0200
TZNAME:CEST
DTSTART:20220327T010000
END:DAYLIGHT
BEGIN:STANDARD
TZOFFSETFROM:+0200
TZOFFSETTO:+0100
TZNAME:CET
DTSTART:20221030T010000
END:STANDARD
END:VTIMEZONE
BEGIN:VEVENT
DTSTART;VALUE=DATE:20210912
DTEND;VALUE=DATE:20210913
DTSTAMP:20260423T072015
CREATED:20210701T190250Z
LAST-MODIFIED:20210912T201705Z
UID:16902-1631404800-1631491199@literaturszene-koeln.de
SUMMARY:Tierisch gut – Lesefestival für KLEIN und GROSS
DESCRIPTION:Am 12.9.2021 findet ein ganzer Tag mit Lesungen für Kinder ab 5 Jahren im Café 362 in Nippes statt. Der Eintritt ist frei. Um 11 Uhr startet Uwe Becker mit “Die Zipfelmaus jagt den Vogeldieb”\, ab 13 Uhr liest Gerlis Zillgens aus “Romeo\, der Zaubertrommler” für die 8-10jhrigen und um 15 Uhr stellt Christina Bacher den Krimi “Römergrab” für 10-12jährige vor. Gefördert wird die Veranstaltung von Neustart Kultur.
URL:https://literaturszene-koeln.de/termin/tierisch-gut-lesefestival-fuer-klein-und-gross/
LOCATION:Café 362\, Neusser Str. 382\, Köln\, NRW\, 50733\, Deutschland
CATEGORIES:Autorenlesung,Festival
ATTACH;FMTTYPE=image/jpeg:https://literaturszene-koeln.de/wp-content/uploads/2021/07/Tierisch_Gut_12-9-2021-h6LvIv.tmp_.jpg
ORGANIZER;CN="Inspire e.V.":MAILTO:jared@inspire-koeln.de
END:VEVENT
END:VCALENDAR