BEGIN:VCALENDAR
VERSION:2.0
PRODID:-//Literaturszene Köln e.V. - ECPv6.15.20//NONSGML v1.0//EN
CALSCALE:GREGORIAN
METHOD:PUBLISH
X-WR-CALNAME:Literaturszene Köln e.V.
X-ORIGINAL-URL:https://literaturszene-koeln.de
X-WR-CALDESC:Veranstaltungen für Literaturszene Köln e.V.
REFRESH-INTERVAL;VALUE=DURATION:PT1H
X-Robots-Tag:noindex
X-PUBLISHED-TTL:PT1H
BEGIN:VTIMEZONE
TZID:Europe/Berlin
BEGIN:DAYLIGHT
TZOFFSETFROM:+0100
TZOFFSETTO:+0200
TZNAME:CEST
DTSTART:20220327T010000
END:DAYLIGHT
BEGIN:STANDARD
TZOFFSETFROM:+0200
TZOFFSETTO:+0100
TZNAME:CET
DTSTART:20221030T010000
END:STANDARD
BEGIN:DAYLIGHT
TZOFFSETFROM:+0100
TZOFFSETTO:+0200
TZNAME:CEST
DTSTART:20230326T010000
END:DAYLIGHT
BEGIN:STANDARD
TZOFFSETFROM:+0200
TZOFFSETTO:+0100
TZNAME:CET
DTSTART:20231029T010000
END:STANDARD
BEGIN:DAYLIGHT
TZOFFSETFROM:+0100
TZOFFSETTO:+0200
TZNAME:CEST
DTSTART:20240331T010000
END:DAYLIGHT
BEGIN:STANDARD
TZOFFSETFROM:+0200
TZOFFSETTO:+0100
TZNAME:CET
DTSTART:20241027T010000
END:STANDARD
END:VTIMEZONE
BEGIN:VEVENT
DTSTART;TZID=Europe/Berlin:20231109T190000
DTEND;TZID=Europe/Berlin:20231109T203000
DTSTAMP:20260421T023408
CREATED:20231102T092834Z
LAST-MODIFIED:20231102T092834Z
UID:20753-1699556400-1699561800@literaturszene-koeln.de
SUMMARY:Cosy Crime Night - 10 Jahre Cherringham!
DESCRIPTION:45 Folgen in 10 Jahren! Gemeinsam mit dem Autorenduo Matthew Costello und Neil Richards feiern wir in feinster britischer Manier das große Jubiläum der erfolgreichen Cosy-Crime-Serie „Cherringham – Landluft kann tödlich sein“. Aus den englischen Cotswolds verschlägt es die beiden Autoren dafür zu uns nach Köln\, wo sie über ihre Romanreihen „Cherringham“ und „Mydworth Mysteries“ sprechen. Moderiert wird die Cosy-Crime-Night von der wunderbaren Kulturjournalistin Margarete von Schwarzkopf. \nWir laden Sie am 9. November herzlich zur britischen Teatime mit Getränken\, Häppchen und Co. ein – Feiern Sie gemeinsam mit uns die spannende Welt der Cosy Crimes! Wir freuen uns auf Ihren Besuch!
URL:https://literaturszene-koeln.de/termin/cosy-crime-night-10-jahre-cherringham/
LOCATION:Bastei Lübbe AG\, Schanzenstraße 6-20\, Köln\, 51063
CATEGORIES:Gespräche,Lesung
ATTACH;FMTTYPE=image/jpeg:https://literaturszene-koeln.de/wp-content/uploads/2023/11/NEU_Cosy_Crime_Night_444x444.jpg
END:VEVENT
END:VCALENDAR