BEGIN:VCALENDAR
VERSION:2.0
PRODID:-//Literaturszene Köln e.V. - ECPv6.15.20//NONSGML v1.0//EN
CALSCALE:GREGORIAN
METHOD:PUBLISH
X-ORIGINAL-URL:https://literaturszene-koeln.de
X-WR-CALDESC:Veranstaltungen für Literaturszene Köln e.V.
REFRESH-INTERVAL;VALUE=DURATION:PT1H
X-Robots-Tag:noindex
X-PUBLISHED-TTL:PT1H
BEGIN:VTIMEZONE
TZID:Europe/Berlin
BEGIN:DAYLIGHT
TZOFFSETFROM:+0100
TZOFFSETTO:+0200
TZNAME:CEST
DTSTART:20210328T010000
END:DAYLIGHT
BEGIN:STANDARD
TZOFFSETFROM:+0200
TZOFFSETTO:+0100
TZNAME:CET
DTSTART:20211031T010000
END:STANDARD
BEGIN:DAYLIGHT
TZOFFSETFROM:+0100
TZOFFSETTO:+0200
TZNAME:CEST
DTSTART:20220327T010000
END:DAYLIGHT
BEGIN:STANDARD
TZOFFSETFROM:+0200
TZOFFSETTO:+0100
TZNAME:CET
DTSTART:20221030T010000
END:STANDARD
BEGIN:DAYLIGHT
TZOFFSETFROM:+0100
TZOFFSETTO:+0200
TZNAME:CEST
DTSTART:20230326T010000
END:DAYLIGHT
BEGIN:STANDARD
TZOFFSETFROM:+0200
TZOFFSETTO:+0100
TZNAME:CET
DTSTART:20231029T010000
END:STANDARD
BEGIN:DAYLIGHT
TZOFFSETFROM:+0100
TZOFFSETTO:+0200
TZNAME:CEST
DTSTART:20240331T010000
END:DAYLIGHT
BEGIN:STANDARD
TZOFFSETFROM:+0200
TZOFFSETTO:+0100
TZNAME:CET
DTSTART:20241027T010000
END:STANDARD
END:VTIMEZONE
BEGIN:VEVENT
DTSTART;VALUE=DATE:20221125
DTEND;VALUE=DATE:20230109
DTSTAMP:20260423T041452
CREATED:20221125T233232Z
LAST-MODIFIED:20221125T233232Z
UID:19177-1669334400-1673222399@literaturszene-koeln.de
SUMMARY:Ausstellung “Das große Fressen”
DESCRIPTION:Ein Thema an den Festtagen sowie ein weltweites Thema in Politik\, Wirtschaft und Gesellschaft. Mit aktuellen Kunstwerken der Künstler*innen von 68elf e.V. \nEröffnung:\nFreitag 25.11.22 von 19 – 22 Uhr\nSamstag 26.11.22 von 14 – 18 Uhr \nLaufzeit:\n25.11.22 bis 08.01. 2023 \nLesung:\nThomas Dahl – Kleebaumnacht\nGeschichten für das Ende der Welt\nFreitag 02.12.22 – 19 Uhr\n(Eintritt frei\, Anmeldung erwünscht) \nFinissage:\nSonntag 08.01.2023 von 15 – 19 Uhr \nsonstige Öffnungszeiten: donnerstags von 15-19 Uhr und nach Vereinbarung
URL:https://literaturszene-koeln.de/termin/ausstellung-das-grosse-fressen/
LOCATION:Ausstellungsraum Jürgen Bahr\, Helmholtzstr. 6-8\, Köln\, 50825\, Deutschland
CATEGORIES:Ausstellung
END:VEVENT
END:VCALENDAR