BEGIN:VCALENDAR
VERSION:2.0
PRODID:-//Literaturszene Köln e.V. - ECPv6.15.20//NONSGML v1.0//EN
CALSCALE:GREGORIAN
METHOD:PUBLISH
X-WR-CALNAME:Literaturszene Köln e.V.
X-ORIGINAL-URL:https://literaturszene-koeln.de
X-WR-CALDESC:Veranstaltungen für Literaturszene Köln e.V.
REFRESH-INTERVAL;VALUE=DURATION:PT1H
X-Robots-Tag:noindex
X-PUBLISHED-TTL:PT1H
BEGIN:VTIMEZONE
TZID:Europe/Berlin
BEGIN:DAYLIGHT
TZOFFSETFROM:+0100
TZOFFSETTO:+0200
TZNAME:CEST
DTSTART:20200329T010000
END:DAYLIGHT
BEGIN:STANDARD
TZOFFSETFROM:+0200
TZOFFSETTO:+0100
TZNAME:CET
DTSTART:20201025T010000
END:STANDARD
BEGIN:DAYLIGHT
TZOFFSETFROM:+0100
TZOFFSETTO:+0200
TZNAME:CEST
DTSTART:20210328T010000
END:DAYLIGHT
BEGIN:STANDARD
TZOFFSETFROM:+0200
TZOFFSETTO:+0100
TZNAME:CET
DTSTART:20211031T010000
END:STANDARD
BEGIN:DAYLIGHT
TZOFFSETFROM:+0100
TZOFFSETTO:+0200
TZNAME:CEST
DTSTART:20220327T010000
END:DAYLIGHT
BEGIN:STANDARD
TZOFFSETFROM:+0200
TZOFFSETTO:+0100
TZNAME:CET
DTSTART:20221030T010000
END:STANDARD
END:VTIMEZONE
BEGIN:VEVENT
DTSTART;TZID=Europe/Berlin:20211205T190000
DTEND;TZID=Europe/Berlin:20211205T220000
DTSTAMP:20260425T171318
CREATED:20211115T194831Z
LAST-MODIFIED:20211205T201720Z
UID:17464-1638730800-1638741600@literaturszene-koeln.de
SUMMARY:Christmas in Crime
DESCRIPTION:Hochkarätig besetzt mit Isabella Archan\, Christina Bacher\, Christine Drews\, Elke Pistor\, Leon Sachs\, Regina Schleheck\, Andreas Schnurbusch\, Jutta Wilbertz präsentiert Moderatorin Brigitte Glaser am 5.12.2021 ab 19 Uhr im Beerdigungsinstitut AHLBACH Literarisch-Kriminelles vom Feinsten. Die Veranstaltung unter 2-G-Bedingungen ist bereits ausverkauft. \nTraditionell lesen am Krimitag deutschlandweit Autor*innen vom SYNDIKAT e.V. für die gute Sache: Diesmal gehen die Einnahmen aus Köln an den Verein Frauen helfen Frauen e.V.
URL:https://literaturszene-koeln.de/termin/christmas-in-crime/
LOCATION:AHLBACH Beerdigungen\, Venloer Str. 685\, Köln\, 50827\, Deutschland
END:VEVENT
END:VCALENDAR