BEGIN:VCALENDAR
VERSION:2.0
PRODID:-//Literaturszene Köln e.V. - ECPv6.15.20//NONSGML v1.0//EN
CALSCALE:GREGORIAN
METHOD:PUBLISH
X-ORIGINAL-URL:https://literaturszene-koeln.de
X-WR-CALDESC:Veranstaltungen für Literaturszene Köln e.V.
REFRESH-INTERVAL;VALUE=DURATION:PT1H
X-Robots-Tag:noindex
X-PUBLISHED-TTL:PT1H
BEGIN:VTIMEZONE
TZID:Europe/Berlin
BEGIN:DAYLIGHT
TZOFFSETFROM:+0100
TZOFFSETTO:+0200
TZNAME:CEST
DTSTART:20190331T010000
END:DAYLIGHT
BEGIN:STANDARD
TZOFFSETFROM:+0200
TZOFFSETTO:+0100
TZNAME:CET
DTSTART:20191027T010000
END:STANDARD
BEGIN:DAYLIGHT
TZOFFSETFROM:+0100
TZOFFSETTO:+0200
TZNAME:CEST
DTSTART:20200329T010000
END:DAYLIGHT
BEGIN:STANDARD
TZOFFSETFROM:+0200
TZOFFSETTO:+0100
TZNAME:CET
DTSTART:20201025T010000
END:STANDARD
BEGIN:DAYLIGHT
TZOFFSETFROM:+0100
TZOFFSETTO:+0200
TZNAME:CEST
DTSTART:20210328T010000
END:DAYLIGHT
BEGIN:STANDARD
TZOFFSETFROM:+0200
TZOFFSETTO:+0100
TZNAME:CET
DTSTART:20211031T010000
END:STANDARD
BEGIN:DAYLIGHT
TZOFFSETFROM:+0100
TZOFFSETTO:+0200
TZNAME:CEST
DTSTART:20220327T010000
END:DAYLIGHT
BEGIN:STANDARD
TZOFFSETFROM:+0200
TZOFFSETTO:+0100
TZNAME:CET
DTSTART:20221030T010000
END:STANDARD
BEGIN:DAYLIGHT
TZOFFSETFROM:+0100
TZOFFSETTO:+0200
TZNAME:CEST
DTSTART:20230326T010000
END:DAYLIGHT
BEGIN:STANDARD
TZOFFSETFROM:+0200
TZOFFSETTO:+0100
TZNAME:CET
DTSTART:20231029T010000
END:STANDARD
END:VTIMEZONE
BEGIN:VEVENT
DTSTART;TZID=Europe/Berlin:20220928T193000
DTEND;TZID=Europe/Berlin:20220928T213000
DTSTAMP:20260423T180648
CREATED:20220916T181934Z
LAST-MODIFIED:20220928T180252Z
UID:18848-1664393400-1664400600@literaturszene-koeln.de
SUMMARY:Online-Lesung: Nicol Goudarzi – Maximal unsichtbar
DESCRIPTION:Rollipop Literatüröffner Online-Lesung:\nMaximal unsichtbar\nMaxima\, eine schweigsame Fünfzehnjährige\, findet durch den per Sprechcomputer kommunizierenden Mitschüler Bastian zu ihrer eigenen Stimme – sowohl in der „echten“ Welt als auch in der Rollenspielwelt zwischen Elben und Orks. Davon erzählt das Buch Maximal unsichtbar von Nicol Goudarzi. Die unterstützt kommunizierende Rehabilitationswissenschaftlerin Kathrin Lemler hat den Entstehungsprozess des Buches begleitet. \nIm Gespräch mit Moderatorin Pauline Füg erzählen die beiden von Manuskript-Abenden mit Apfelkuchen\, von Bier mit Strohhalm und vom maximal (Un)Sichtbarsein. \n\nDie Zoom-Lesung ist kostenlos. Der Verein Rollipop freut sich über Spenden (rollipop.org).\n\nZoom-Meeting beitreten\nhttps://us02web.zoom.us/j/82791778523?pwd=bWdCT1dJVkJUclFjd3ZGWG9zdTU4dz09\nMeeting-ID: 827 9177 8523\nKenncode: Maximal
URL:https://literaturszene-koeln.de/termin/online-lesung-nicol-goudarzi-maximal-unsichtbar/
LOCATION:Zoom\, online\, Deutschland
CATEGORIES:Autorenlesung,Buchpräsentation,Gespräche
ORGANIZER;CN="Rollipop e.V.":MAILTO:kontakt@rollipop.org
END:VEVENT
BEGIN:VEVENT
DTSTART;TZID=Europe/Berlin:20211027T193000
DTEND;TZID=Europe/Berlin:20211027T210000
DTSTAMP:20260423T180648
CREATED:20211012T184723Z
LAST-MODIFIED:20211027T190227Z
UID:17278-1635363000-1635368400@literaturszene-koeln.de
SUMMARY:Rollipop Literatüröffner – Zwischen den Zeilen
DESCRIPTION:Pauline Füg\, erfolgreiche Poetry-Slammerin\, Lyrikerin und Preisträgerin des Literaturstipendiums des Freistaates Bayern (2020)\, trifft auf: Anja Reetz\, Autorin\, Preisträgerin des „Wortfinder-Wettbewerbs“ und Erfinderin der alternativen Haiku-Variante „Myku“. Mit der Moderatorin Nicol Goudarzi untersuchen Sie die Leichtigkeit und das Gewicht der Poesie und beleuchten unter anderem die Frage\, ob Fehler im Text lästige Übel oder Quell aller Poetik sind. Gemeinsam zeigen Pauline Füg und Anja Reetz verschiedenste Ideen und Möglichkeiten auf\, wie man mit und ohne Handicap literarische Erfolge einheimsen kann. \nOnline Veranstaltung. Link: https://tinyurl.com/Rollipop-Literatur \n  \n 
URL:https://literaturszene-koeln.de/termin/rollipop-literatueroeffner-zwischen-den-zeilen/
CATEGORIES:Gespräche
ORGANIZER;CN="Rollipop e.V.":MAILTO:kontakt@rollipop.org
END:VEVENT
BEGIN:VEVENT
DTSTART;TZID=Europe/Berlin:20201125T193000
DTEND;TZID=Europe/Berlin:20201125T210000
DTSTAMP:20260423T180648
CREATED:20200908T142816Z
LAST-MODIFIED:20201125T183432Z
UID:15758-1606332600-1606338000@literaturszene-koeln.de
SUMMARY:*** muss Coronabedingt entfallen *** Literatüröffner – Die barrierefreie Veranstaltungsreihe für inklusive Wortkunst
DESCRIPTION:*** muss Coronabedingt entfallen *** \n  \nWerkstattlesung mit Nicol Goudarzi und Kathrin Lemler. Musik von Daniel Canni. \nDer Veranstaltungsort ist barrierefrei.\nVeranstaltung mit GebärdendolmetscherIn.\nÖPNV Haltestellen: Mauritiussteinweg\, Rudolfplatz\, Neumarkt. Kostenpflichtige Parkmöglichkeiten in der Umgebung.\nEintritt frei\, Spenden bejubelt.
URL:https://literaturszene-koeln.de/termin/literatueroeffner-die-barrierefreie-veranstaltungsreihe-fuer-inklusive-wortkunst-2/
LOCATION:Café InSide\, Am Rinkenpfuhl 46\, Köln\, 50676\, Deutschland
CATEGORIES:Autorenlesung,Gespräche,Lesung mit Musik
ORGANIZER;CN="Rollipop e.V.":MAILTO:kontakt@rollipop.org
END:VEVENT
BEGIN:VEVENT
DTSTART;TZID=Europe/Berlin:20200916T193000
DTEND;TZID=Europe/Berlin:20200916T210000
DTSTAMP:20260423T180648
CREATED:20200629T122630Z
LAST-MODIFIED:20200913T201929Z
UID:15244-1600284600-1600290000@literaturszene-koeln.de
SUMMARY:*** muss Coronabedingt entfallen *** Literatüröffner – Die barrierefreie Veranstaltungsreihe für inklusive Wortkunst
DESCRIPTION:*** muss Coronabedingt entfallen *** \n  \n  \nNicol Goudarzi im Gespräch mit der Autorin Sandra Roth (“Lotta Wundertüte”\, “Lotta Schultüte”) und dem unterstützt kommunizierenden Autor Frank Klein. Musik von Daniel Canni. \nDer Veranstaltungsort ist barrierefrei.\nVeranstaltung mit GebärdendolmetscherIn.\nÖPNV Haltestellen: Mauritiussteinweg\, Rudolfplatz\, Neumarkt. Kostenpflichtige Parkmöglichkeiten in der Umgebung.\nEintritt frei\, Spenden bejubelt.
URL:https://literaturszene-koeln.de/termin/literatueroeffner-die-barrierefreie-veranstaltungsreihe-fuer-inklusive-wortkunst/
LOCATION:Café InSide\, Am Rinkenpfuhl 46\, Köln\, 50676\, Deutschland
CATEGORIES:Autorenlesung,Gespräche,Lesung mit Musik
ORGANIZER;CN="Rollipop e.V.":MAILTO:kontakt@rollipop.org
END:VEVENT
END:VCALENDAR