BEGIN:VCALENDAR
VERSION:2.0
PRODID:-//Literaturszene Köln e.V. - ECPv6.15.20//NONSGML v1.0//EN
CALSCALE:GREGORIAN
METHOD:PUBLISH
X-WR-CALNAME:Literaturszene Köln e.V.
X-ORIGINAL-URL:https://literaturszene-koeln.de
X-WR-CALDESC:Veranstaltungen für Literaturszene Köln e.V.
REFRESH-INTERVAL;VALUE=DURATION:PT1H
X-Robots-Tag:noindex
X-PUBLISHED-TTL:PT1H
BEGIN:VTIMEZONE
TZID:Europe/Berlin
BEGIN:DAYLIGHT
TZOFFSETFROM:+0100
TZOFFSETTO:+0200
TZNAME:CEST
DTSTART:20220327T010000
END:DAYLIGHT
BEGIN:STANDARD
TZOFFSETFROM:+0200
TZOFFSETTO:+0100
TZNAME:CET
DTSTART:20221030T010000
END:STANDARD
BEGIN:DAYLIGHT
TZOFFSETFROM:+0100
TZOFFSETTO:+0200
TZNAME:CEST
DTSTART:20230326T010000
END:DAYLIGHT
BEGIN:STANDARD
TZOFFSETFROM:+0200
TZOFFSETTO:+0100
TZNAME:CET
DTSTART:20231029T010000
END:STANDARD
BEGIN:DAYLIGHT
TZOFFSETFROM:+0100
TZOFFSETTO:+0200
TZNAME:CEST
DTSTART:20240331T010000
END:DAYLIGHT
BEGIN:STANDARD
TZOFFSETFROM:+0200
TZOFFSETTO:+0100
TZNAME:CET
DTSTART:20241027T010000
END:STANDARD
END:VTIMEZONE
BEGIN:VEVENT
DTSTART;TZID=Europe/Berlin:20231011T183000
DTEND;TZID=Europe/Berlin:20231011T200000
DTSTAMP:20260420T125706
CREATED:20230911T101811Z
LAST-MODIFIED:20230911T101811Z
UID:20331-1697049000-1697054400@literaturszene-koeln.de
SUMMARY:Dr. Susanne Klingenstein - Es kann nicht jeder ein Gelehrter sein. Jiddische Literatur 1105-1597
DESCRIPTION:Mittwoch\, 11. Oktober um 18:30 Uhr\nAmélie Thyssen Auditorium\, Apostelnkloster 13-15\, 50672 Köln\nModeration: Dr. Christiane Twiehaus\nEintritt frei. Anmeldung unter: miqua@lvr.de \nGelacht und gedacht\, erzählt und erzogen wurde in jiddischer Sprache seit dem Hochmittelalter. Auf den letzten Blättern gelehrter Bücher finden wir Rezepte\, Zaubersprüche und Gebete. Gereimte Epen kursierten in Abschriften zum geselligen Vortrag. Ein Konvolut von 1382 aus Kairo bezeugt\, dass Juden mit deutscher Literatur bestens vertraut waren und sie witzig adaptierten. Aus Geldnot begannen findige Unternehmer im frühen 16. Jahrhundert in Krakau\, Augsburg und Venedig mit dem Druck jiddischer Bücher. Jetzt hatten auch Frauen und ungelehrte Männer Zugang zur Bibel und den Religionsvorschriften. Deutsche Reformatoren sahen in jiddischen Bibeln eine Gelegenheit zur Judenmission. Doch die Verbreitung jiddischer Bücher schürte nicht die Feuer des Aufbruchs\, sondern stärkte den Zusammenhalt der Gemeinschaft. Sie machte die Frauen unabhängiger und selbstbewusster\, denn sie kannten nun die Gesetze. Und an langen Sabbatnachmittagen lasen sie von den Abenteuern jüdischer Helden. Susanne Klingenstein erzählt erstmals die spannende Geschichte der frühen jiddischen Literatur: Wer jiddische Literatur liebt\, kann nun ihre Anfänge kennenlernen. \nSusanne Klingenstein\, geboren 1959 in Baden-Baden\, ist Research Fellow am Zentrum für Jüdische Studien an der Harvard University. Sie veröffentlichte Studien zur Identitätsbildung jüdischer Literaturwissenschaftler\, übersetzte bedeutende Erzählungen aus dem Jiddischen\, schrieb ein Buch über Martin Walser und zuletzt die Studie „Mendele der Buchhändler. Leben und Werk des Sholem Yankev Abramovitsh. Eine Geschichte der jiddischen Literatur zwischen Berdichev und Odessa\, 1835-1917“. \nIn Kooperation mit MiQua LVR-Jüdisches Museum im Archäologischen Quartier Köln. \n© Foto: Ilene Perlman\, Boston
URL:https://literaturszene-koeln.de/termin/dr-susanne-klingenstein-es-kann-nicht-jeder-ein-gelehrter-sein-jiddische-literatur-1105-1597/
LOCATION:Amélie Thyssen Auditorium\, Apostelnkloster 13-15\, Köln\, 50672
CATEGORIES:Autorenlesung,Buchpräsentation,Gespräche,Lesung,Signierstunde
ATTACH;FMTTYPE=image/jpeg:https://literaturszene-koeln.de/wp-content/uploads/2023/09/SK-2-108a_Ilene-Perlman-Boston.jpg
ORGANIZER;CN="Buchhandlung Klaus Bittner GmbH":MAILTO:info@bittner-buch.de
END:VEVENT
END:VCALENDAR