BEGIN:VCALENDAR
VERSION:2.0
PRODID:-//Literaturszene Köln e.V. - ECPv6.15.20//NONSGML v1.0//EN
CALSCALE:GREGORIAN
METHOD:PUBLISH
X-ORIGINAL-URL:https://literaturszene-koeln.de
X-WR-CALDESC:Veranstaltungen für Literaturszene Köln e.V.
REFRESH-INTERVAL;VALUE=DURATION:PT1H
X-Robots-Tag:noindex
X-PUBLISHED-TTL:PT1H
BEGIN:VTIMEZONE
TZID:Europe/Berlin
BEGIN:DAYLIGHT
TZOFFSETFROM:+0100
TZOFFSETTO:+0200
TZNAME:CEST
DTSTART:20220327T010000
END:DAYLIGHT
BEGIN:STANDARD
TZOFFSETFROM:+0200
TZOFFSETTO:+0100
TZNAME:CET
DTSTART:20221030T010000
END:STANDARD
BEGIN:DAYLIGHT
TZOFFSETFROM:+0100
TZOFFSETTO:+0200
TZNAME:CEST
DTSTART:20230326T010000
END:DAYLIGHT
BEGIN:STANDARD
TZOFFSETFROM:+0200
TZOFFSETTO:+0100
TZNAME:CET
DTSTART:20231029T010000
END:STANDARD
BEGIN:DAYLIGHT
TZOFFSETFROM:+0100
TZOFFSETTO:+0200
TZNAME:CEST
DTSTART:20240331T010000
END:DAYLIGHT
BEGIN:STANDARD
TZOFFSETFROM:+0200
TZOFFSETTO:+0100
TZNAME:CET
DTSTART:20241027T010000
END:STANDARD
END:VTIMEZONE
BEGIN:VEVENT
DTSTART;TZID=Europe/Berlin:20230507T150000
DTEND;TZID=Europe/Berlin:20230507T173000
DTSTAMP:20260420T230303
CREATED:20230425T203225Z
LAST-MODIFIED:20230507T203415Z
UID:19721-1683471600-1683480600@literaturszene-koeln.de
SUMMARY:„Auf den Spuren des Wandels“ – eine ClimaX-Literatour mit der Kölner Autorengruppe FAUST
DESCRIPTION:07.05.2023\nLiterarischer Rheinspaziergang\,  15:00 Uhr: Treffpunkt Uferseite des Restaurants „zum Treppchen“. Gemeinsamer Literatur-Spaziergang zum Atelier der Künstlerin Gerda Laufenberg. Im Anschluss:\nAtelierlesung 16:15 Uhr: Atelier Gerda Laufenberg\, Mühlenweg 3\, Köln-Rodenkirchen \nDer Klimawandel ist die größte Herausforderung unserer Zeit und verändert schon jetzt unsere Welt auf radikale Weise. Auch im  Rheinland sind seine Folgen (und mitunter auch Ursachen) unübersehbar. In der Reihe »ClimaX« nähern sich Autor:innen des „Literatur Rheinland“-Verbands dem Thema literarisch – und gehen raus zu den Orten\, die vom Klimawandel betroffen oder auf andere Weise untrennbar mit ihm verbunden sind. Vom 5. bis zum 7. Mai führen verschiedene Literatouren zu Orten des Klimawandels. \nAm Sonntag\, den 7. Mai nehmen sechs Autor*innen der Kölner Autorengruppe FAUST – Evert Everts\, Patricia Falkenburg\, Nicol Goudarzi\, Margit Hähner\, Regina Schleheck und Maik Schurkus – das Publikum mit ans Rodenkirchener Rheinufer\, wo sich exemplarisch die Folgen des menschlichen Handelns zeigen: Hochwasser\, Dürren\, Vermüllung. Die durch kurze Lesungen aufgelockerte Tour führt zunächst ans Ufer\, das die beteiligten Autor*innen bereits zuvor begangen haben\, um Textideen zu sammeln und nebenbei Müll aufzulesen. Im Anschluss versammeln sich Autor*innen und Publikum im Atelier der Rodenkirchener Künstlerin Gerda Laufenberg zur abschließenden Lesung.\nDie Veranstaltung wird moderierend begleitet von einer weiteren FAUST-Autorin\, Petra Reategui. \nStartpunkt ist um 15 Uhr an der Uferseite des Restaurants »Zum Treppchen« (Kirchgasse 2) in Köln-Rodenkirchen (entspannter Spaziergang mit “Lesungs-Haltestellen”).\nDie Abschlusslesung findet um circa 16:15 Uhr im Atelier Gerda Laufenberg im Mühlenweg 3 statt. Der Eintritt ist frei\, eine Anmeldung ist nicht erforderlich. \nMehr Information unter: www.literatur-rheinland.de  und http://www.autorengruppe-faust.de
URL:https://literaturszene-koeln.de/termin/auf-den-spuren-des-wandels-eine-climax-literatour-mit-der-koelner-autorengruppe-faust/
LOCATION:Im Atelier Gerda Laufenberg\, Mühlenweg 3\, 50996\, Deutschland
CATEGORIES:Autorenlesung
ATTACH;FMTTYPE=image/jpeg:https://literaturszene-koeln.de/wp-content/uploads/2023/04/07_Climax_Plakat_A2_Faust_Druck-1-maz19i.tmp_.jpg
ORGANIZER;CN="Literatur-Rheinland":MAILTO:kontakt@autorengruppe-faust.de
END:VEVENT
END:VCALENDAR