BEGIN:VCALENDAR
VERSION:2.0
PRODID:-//Literaturszene Köln e.V. - ECPv6.15.20//NONSGML v1.0//EN
CALSCALE:GREGORIAN
METHOD:PUBLISH
X-WR-CALNAME:Literaturszene Köln e.V.
X-ORIGINAL-URL:https://literaturszene-koeln.de
X-WR-CALDESC:Veranstaltungen für Literaturszene Köln e.V.
REFRESH-INTERVAL;VALUE=DURATION:PT1H
X-Robots-Tag:noindex
X-PUBLISHED-TTL:PT1H
BEGIN:VTIMEZONE
TZID:Europe/Berlin
BEGIN:DAYLIGHT
TZOFFSETFROM:+0100
TZOFFSETTO:+0200
TZNAME:CEST
DTSTART:20220327T010000
END:DAYLIGHT
BEGIN:STANDARD
TZOFFSETFROM:+0200
TZOFFSETTO:+0100
TZNAME:CET
DTSTART:20221030T010000
END:STANDARD
BEGIN:DAYLIGHT
TZOFFSETFROM:+0100
TZOFFSETTO:+0200
TZNAME:CEST
DTSTART:20230326T010000
END:DAYLIGHT
BEGIN:STANDARD
TZOFFSETFROM:+0200
TZOFFSETTO:+0100
TZNAME:CET
DTSTART:20231029T010000
END:STANDARD
BEGIN:DAYLIGHT
TZOFFSETFROM:+0100
TZOFFSETTO:+0200
TZNAME:CEST
DTSTART:20240331T010000
END:DAYLIGHT
BEGIN:STANDARD
TZOFFSETFROM:+0200
TZOFFSETTO:+0100
TZNAME:CET
DTSTART:20241027T010000
END:STANDARD
BEGIN:DAYLIGHT
TZOFFSETFROM:+0100
TZOFFSETTO:+0200
TZNAME:CEST
DTSTART:20250330T010000
END:DAYLIGHT
BEGIN:STANDARD
TZOFFSETFROM:+0200
TZOFFSETTO:+0100
TZNAME:CET
DTSTART:20251026T010000
END:STANDARD
BEGIN:DAYLIGHT
TZOFFSETFROM:+0100
TZOFFSETTO:+0200
TZNAME:CEST
DTSTART:20260329T010000
END:DAYLIGHT
BEGIN:STANDARD
TZOFFSETFROM:+0200
TZOFFSETTO:+0100
TZNAME:CET
DTSTART:20261025T010000
END:STANDARD
END:VTIMEZONE
BEGIN:VEVENT
DTSTART;TZID=Europe/Berlin:20250327T200000
DTEND;TZID=Europe/Berlin:20250327T213000
DTSTAMP:20260420T123750
CREATED:20250220T154650Z
LAST-MODIFIED:20250220T154714Z
UID:27329-1743105600-1743111000@literaturszene-koeln.de
SUMMARY:[AUSVERKAUFT] Literarischer Salon: Abdelaziz Baraka Sakin
DESCRIPTION:Abdelaziz Baraka Sakin bringt uns in Der Rabe\, der mich liebte (Klingenberg) die »irreguläre Migration« so nah\, dass wir die Herzschläge hören\, die Erschöpfung fühlen\, den Angstschweiß riechen\, die Tricks kennenlernen. Er erzählt die Geschichte zweier Sudanesen\, die sich aus den Augen verlieren\, als die Polizei den sogenannten Dschungel von Calais auflöst\, eine Stadt aus Wellblech und Plastikplanen. Guy Helminger und Navid Kermani begrüßen im Literarischen Salon Abdelaziz Baraka Sakin\, der zu den bekanntesten\, am meisten übersetzten Schriftstellern des Sudans gehört. Es liest Anja Laïs. Larissa Bender übersetzt. \nVeranstaltungspartner: lit.COLOGNE\, Stadtgarten\, Konrad-Adenauer-Stiftung\, Kulturamt der Stadt Köln\, Buchhandlung Klaus Bittner \nFoto: (c) David Herzog
URL:https://literaturszene-koeln.de/termin/literarischer-salon-abdelaziz-baraka-sakin/
LOCATION:Stadtgarten\, Venloer Straße 40\, Köln\, 50672\, Deutschland
CATEGORIES:Gespräche,Lesung
ATTACH;FMTTYPE=image/jpeg:https://literaturszene-koeln.de/wp-content/uploads/2025/02/27-03-2025_Abdelaziz-Baraka-Sakin_c_David-Herzog.jpg
END:VEVENT
BEGIN:VEVENT
DTSTART;TZID=Europe/Berlin:20250319T200000
DTEND;TZID=Europe/Berlin:20250319T213000
DTSTAMP:20260420T123750
CREATED:20250220T154433Z
LAST-MODIFIED:20250220T154433Z
UID:27326-1742414400-1742419800@literaturszene-koeln.de
SUMMARY:[AUSVERKAUFT] Literarischer Salon: Samar Yazbek
DESCRIPTION:Der überraschende Sturz des Diktators Bashar al-Assad hat auch uns aufgewühlt. Mit der Schriftstellerin und Journalistin Samar Yazbek kommt eine der bekanntesten Protagonisten der syrischen Revolution in den Literarischen Salon. 1970 in Jebleh geboren\, einer kleinen Stadt an der Mittelmeerküste\, etablierte sie sich bereits mit ihren ersten Erzählbänden als eine der wichtigsten Stimmen der jungen arabischen Literatur. Nach Ausbruch der Revolution geriet sie ins Visier des Geheimdienstes und floh 2011 nach Paris\, wo sie für das Buch Schrei nach Freiheit (dtv) mit dem renommierten PEN/Pinter Prize für mutige internationale Schriftsteller ausgezeichnet wurde. 2012 erhielt sie den Schwedischen Tucholsky-Preis\, 2013 den Oxfam Novib/PEN Award. 2015 berichtete sie in dem Buch Die gestohlene Revolution. Reise in mein zerstörtes Syrien (Nagel & Kimche) von heimlichen Besuchen in ihrer Heimat. Zuletzt erschien mit Wo der Wind wohnt (Unionsverlag) der vielleicht kunstvollste und zugleich verzweifeltste Aufschrei gegen den Krieg und das Vergessen. Darin schildert sie die letzten Lebensstunden eines jungen Soldaten in Syrien – „bis dato Samar Yazbeks bester\, ja schönster Roman“\, urteilte der SWR. Jetzt ist Syrien wieder im Blickpunkt der Weltöffentlichkeit\, und Guy Helminger und Navid Kermani sind glücklich und gespannt zu erfahren\, wie Samar Yazbek auf die Ereignisse blickt.\nÜbersetzung: Larissa Bender. \nVeranstaltungspartner: lit.COLOGNE\, Stadtgarten\, Konrad-Adenauer-Stiftung\, Kulturamt der Stadt Köln\, Buchhandlung Klaus Bittner \nFoto: © Astrid di Crollalanza\, Raya
URL:https://literaturszene-koeln.de/termin/ausverkauft-literarischer-salon-samar-yazbek/
LOCATION:Stadtgarten\, Venloer Straße 40\, Köln\, 50672\, Deutschland
CATEGORIES:Gespräche,Lesung
ATTACH;FMTTYPE=image/jpeg:https://literaturszene-koeln.de/wp-content/uploads/2025/02/19-03-2025_Samar-Yazbek_©_Astrid-di-Crollalanza-Raya-Agency.jpg
END:VEVENT
BEGIN:VEVENT
DTSTART;VALUE=DATE:20240305
DTEND;VALUE=DATE:20240318
DTSTAMP:20260420T123750
CREATED:20240312T215240Z
LAST-MODIFIED:20240312T215240Z
UID:23005-1709596800-1710719999@literaturszene-koeln.de
SUMMARY:lit.COLOGNE – Internationales Literaturfest
DESCRIPTION:Zum 24. Mal öffnet die lit.COLOGNE ihre Pforten\, und dies in unruhigen Zeiten. In einer Welt\, die vor großen Herausforderungen steht\, positionieren wir uns eindeutig gegen Antisemitismus und Judenhass und freuen uns\, dass mit Michel Friedman und Robert Habeck zwei wichtige Stimmen der derzeitigen Debatte die wohl umfänglichste lit.COLOGNE aller Zeiten eröffnen. \nWir haben die Laufzeit des Festivals um einen Tag verlängert\, um Ihnen noch mehr inspirierende Veranstaltungen zu bieten: \n\n\nVielfältig\, mit großer Literatur aus Deutschland und der Welt\, mit aktuellen Diskursen\, mit Veranstaltungen für jedes Alter wollen wir Literatur feiern\, Orientierung liefern und große Unterhaltung auf die Bühnen bringen. \nWir freuen uns auf Ihren Besuch!
URL:https://literaturszene-koeln.de/termin/lit-cologne-internationales-literaturfest-2/
CATEGORIES:Festival
ATTACH;FMTTYPE=image/jpeg:https://literaturszene-koeln.de/wp-content/uploads/2024/03/homepage_slider_litcologne_2024_v2-1510x400-1.jpg
END:VEVENT
BEGIN:VEVENT
DTSTART;TZID=Europe/Berlin:20230305T200000
DTEND;TZID=Europe/Berlin:20230305T213000
DTSTAMP:20260420T123750
CREATED:20230202T174006Z
LAST-MODIFIED:20230305T180205Z
UID:19447-1678046400-1678051800@literaturszene-koeln.de
SUMMARY:Gilgi\, I feel you! Nina Gummich und Dimitrij Schaad lesen von Herzensbrüchen und Neuanfängen von damals bis heute
DESCRIPTION:Wie fühlt man sich eigentlich beim Erwachsenwerden? Mal schrecklich verloren\, dann wieder himmelhochjauchzend\, und in Köln tröstet einen\, wenn gar nichts mehr geht\, ein bekanntes Grundgesetz: Et hätt noch immer jot jejange. 1931 erschien Irmgard Keuns Debütroman „Gilgi – eine von uns“. Im Köln der 1920er-Jahre möchte Gilgi frei\, unabhängig und selbstbewusst leben\, ankommen und abheben. Wie die junge Gilgi stehen auch die Studierenden des Schreibstudiengangs der Universität zu Köln in den Startlöchern für ein aufregendes Leben in der Rheinmetropole. Inspiriert von Gilgi\, schreiben sie ihre ganz persönlichen Geschichten und beleuchten einen Lebensabschnitt\, der einige Turbulenzen bietet! Nina Gummich und Dimitrij Schaad lesen von den Sinnfragen\, Herzensbrüchen und Neuanfängen junger Menschen von damals bis heute. \nMod.: Marie-Christine Knop\, Texte & Konzept: Studierende des Masterstudiengangs „Theorien und Praktiken professionellen Schreibens“
URL:https://literaturszene-koeln.de/termin/gilgi-i-feel-you-nina-gummich-und-dimitrij-schaad-lesen-von-herzensbruechen-und-neuanfaengen-von-damals-bis-heute/
LOCATION:COMEDIA Theater\, Vondelstraße 4-8\, Köln\, Deutschland
CATEGORIES:Gespräche,Lesung
END:VEVENT
BEGIN:VEVENT
DTSTART;VALUE=DATE:20230301
DTEND;VALUE=DATE:20230312
DTSTAMP:20260420T123750
CREATED:20230202T174005Z
LAST-MODIFIED:20230301T180215Z
UID:19445-1677628800-1678579199@literaturszene-koeln.de
SUMMARY:lit.COLOGNE – Internationales Literaturfest
DESCRIPTION:Mit einem international hochkarätig besetzten Programm läutet die 23. Ausgabe der lit.COLOGNE vom 1. bis 11. März 2023 das neue Literaturjahr ein. Mit insgesamt 170 Veranstaltungen\, davon 90 im Erwachsenenprogramm\, ausgezeichneten Autor:innen aus aller Welt und vielseitigen Themen– sowie Porträtabenden wird Europas größtes Literaturfestival in diesem Jahr endlich wieder zum uneingeschränkten Genuss für Geist und Gemeinschaft.
URL:https://literaturszene-koeln.de/termin/lit-cologne-internationales-literaturfest/
CATEGORIES:Festival
END:VEVENT
END:VCALENDAR