BEGIN:VCALENDAR
VERSION:2.0
PRODID:-//Literaturszene Köln e.V. - ECPv6.15.20//NONSGML v1.0//EN
CALSCALE:GREGORIAN
METHOD:PUBLISH
X-WR-CALNAME:Literaturszene Köln e.V.
X-ORIGINAL-URL:https://literaturszene-koeln.de
X-WR-CALDESC:Veranstaltungen für Literaturszene Köln e.V.
REFRESH-INTERVAL;VALUE=DURATION:PT1H
X-Robots-Tag:noindex
X-PUBLISHED-TTL:PT1H
BEGIN:VTIMEZONE
TZID:Europe/Berlin
BEGIN:DAYLIGHT
TZOFFSETFROM:+0100
TZOFFSETTO:+0200
TZNAME:CEST
DTSTART:20230326T010000
END:DAYLIGHT
BEGIN:STANDARD
TZOFFSETFROM:+0200
TZOFFSETTO:+0100
TZNAME:CET
DTSTART:20231029T010000
END:STANDARD
BEGIN:DAYLIGHT
TZOFFSETFROM:+0100
TZOFFSETTO:+0200
TZNAME:CEST
DTSTART:20240331T010000
END:DAYLIGHT
BEGIN:STANDARD
TZOFFSETFROM:+0200
TZOFFSETTO:+0100
TZNAME:CET
DTSTART:20241027T010000
END:STANDARD
BEGIN:DAYLIGHT
TZOFFSETFROM:+0100
TZOFFSETTO:+0200
TZNAME:CEST
DTSTART:20250330T010000
END:DAYLIGHT
BEGIN:STANDARD
TZOFFSETFROM:+0200
TZOFFSETTO:+0100
TZNAME:CET
DTSTART:20251026T010000
END:STANDARD
BEGIN:DAYLIGHT
TZOFFSETFROM:+0100
TZOFFSETTO:+0200
TZNAME:CEST
DTSTART:20260329T010000
END:DAYLIGHT
BEGIN:STANDARD
TZOFFSETFROM:+0200
TZOFFSETTO:+0100
TZNAME:CET
DTSTART:20261025T010000
END:STANDARD
BEGIN:DAYLIGHT
TZOFFSETFROM:+0100
TZOFFSETTO:+0200
TZNAME:CEST
DTSTART:20270328T010000
END:DAYLIGHT
BEGIN:STANDARD
TZOFFSETFROM:+0200
TZOFFSETTO:+0100
TZNAME:CET
DTSTART:20271031T010000
END:STANDARD
END:VTIMEZONE
BEGIN:VEVENT
DTSTART;TZID=Europe/Berlin:20260308T180000
DTEND;TZID=Europe/Berlin:20260308T200000
DTSTAMP:20260422T132936
CREATED:20260202T123357Z
LAST-MODIFIED:20260202T123357Z
UID:29390-1772992800-1773000000@literaturszene-koeln.de
SUMMARY:Ladies Crime Night – „Mord ist unser Metier“. Benefizlesung zum Weltfrauentag zugunsten von LOBBY FÜR MÄDCHEN e. V
DESCRIPTION:Der Internationale Weltfrauentag am 8. März steht für Sichtbarkeit\, Solidarität und den Einsatz für die Rechte von Mädchen und Frauen. Passend dazu lesen an diesem Abend acht Autorinnen ihre packenden Geschichten im Gewölbekeller der Christuskirche. Sie sind Teil des Vereins Mörderische Schwestern\, in dem sich Kriminalautorinnen solidarisch unterstützen. Der Erlös des Abends kommt der LOBBY FÜR MÄDCHEN zugute. \n„Lesen bis zum Schuss“ lautet das gnadenlose Prinzip der Ladies Crime Night: Musikalisch abgerundet mit mörderischem Abschlusssong und Ukulele\, bringen die Krimiautorinnen Myriane Angelowski\, Nadine Buranaseda\, Ulla Lessmann\, Edith Niedieck\, C. N. Costa\, Anja Puhane\, Regina Schleheck und Dagmar Maria Toschka ihre spannendsten Szenen auf die Bühne. Das Publikum taucht ein in Geschichten voller rätselhafter Verbrechen und unerwarteter Wendungen – eingebettet in die geheimnisvolle Atmosphäre des Gewölbekellers. \nAcht Autorinnen lesen jeweils sechs Minuten aus einer ihrer Geschichten\, während die Uhr unerbittlich tickt. Ist die Zeit abgelaufen\, ertönt ein Schuss\, und die Autorin muss sofort abbrechen. Dann betritt die nächste Lesende die Bühne … \nChristiane Nitsche-Costa führt mit Witz\, Gespür und kriminalistischer Neugier durch den Abend und verbindet die einzelnen Lesungen zu einem spannenden Gesamtbild. Die Ladies Crime Night feiert den Weltfrauentag mit abwechslungsreichen Geschichten\, starken Autorinnen und einem Abend voller Spannung\, Solidarität und literarischem Nervenkitzel. \n\nTatort: Basement (Christuskirche)\, Dorothee-Sölle-Platz 1\, 50672 Köln | Beginn: 18.00 Uhr\, Einlass: 17:30 Uhr\nEintritt: 15 Euro\, die komplett an LOBBY FÜR MÄDCHEN e. V. gehen (zzgl. 2\,00 Euro Vorverkaufsgebühren an Qultor)\nMusikalische Abrundung mit einem mörderischen Abschlusssong und Ukulele\n\nDer Verein Mörderische Schwestern e. V. fördert von Frauen verfasste deutschsprachige Kriminalliteratur auf vielen Ebenen und feiert in diesem Jahr sein 30-jähriges Jubiläum. Mehr als 700 Mitglieder – hauptsächlich Autorinnen\, aber auch krimibegeisterte Leserinnen und Fachfrauen aus der Buchbranche – zählt der Verein in Deutschland\, Österreich und der Schweiz in seinen 14 sogenannten Regiogruppen. \nDer Reinerlös der Veranstaltung kommt der LOBBY FÜR MÄDCHEN e. V. zugute\, einem Verein\, der sich seit über 35 Jahren für die Rechte und Interessen von Mädchen und jungen Frauen in Köln einsetzt. Mit vielfältigen Angeboten in den Bereichen Beratung\, Prävention\, Freizeit und Bildung fördert die LOBBY FÜR MÄDCHEN die Selbstbestimmung und gesellschaftliche Teilhabe von Mädchen und jungen Frauen. \nDie Veranstaltung findet in Kooperation mit Krimi & Kölsch und der Christuskirche am Stadtgarten statt. \n 
URL:https://literaturszene-koeln.de/termin/ladies-crime-night-mord-ist-unser-metier-benefizlesung-zum-weltfrauentag-zugunsten-von-lobby-fuer-maedchen-e-v/
LOCATION:Christuskirche\, Dorothee-Sölle-Platz 1\, Köln\, 50672
CATEGORIES:Lesung
ATTACH;FMTTYPE=image/jpeg:https://literaturszene-koeln.de/wp-content/uploads/2026/02/Ladies-Crime-Night.jpg
ORGANIZER;CN="Krimi & K%C3%B6lsch":MAILTO:egbertkapischke@web.de
END:VEVENT
BEGIN:VEVENT
DTSTART;TZID=Europe/Berlin:20251030T190000
DTEND;TZID=Europe/Berlin:20251030T203000
DTSTAMP:20260422T132936
CREATED:20251021T113640Z
LAST-MODIFIED:20251021T113640Z
UID:28867-1761850800-1761856200@literaturszene-koeln.de
SUMMARY:Dagmar Maria Toschka: Hafenwasser mit Schuss (Lesung und Führung)
DESCRIPTION:Hochwasserschutz in Köln – ein Krimi? \nDagmar Maria Toschka liest aus ihrem Krimi „Hafenwasser mit Schuss“ am Roman-Tatort:  einem Hochwasserschutzraum\, der ansonsten für die Öffentlichkeit verschlossen ist. Ein Ort wie zum Gruseln am Tag vor Halloween gemacht. Er gehört den Stadtentwässerungsbetrieben Köln\, die passend zur Lesung eine Führung zum Schauplatz des Krimis und seine Funktion im Hochwasserschutz geben. \nFür leichtes Schaudern wird gesorgt sein! \nMit Witz und Schlagfertigkeit wirft sich Linda Weißenberg in die Widrigkeiten ihres ungewollten Single-Daseins\, als sie einen Putzjob in der Deutzer Brücke annimmt\, fühlt sie sich dort wie in einem Bunker und findet eine Leiche. Prompt gerät sie ins Visier des Kölner Kommissars Raimund Golt\, der sie aus mehreren Gründen nicht mehr aus den Augen lässt und sie schon bald des Mordes verdächtigt. Als sich die Schlinge der Indizienkette um ihren Hals schnürt\, muss sie sich etwas einfallen lassen\, um sich daraus zu befreien. \nAnsprechpartner: Egbert Kapischke 0173 – 520 24 84 \nFoto: (c) Ralph Wessels
URL:https://literaturszene-koeln.de/termin/dagmar-maria-toschka-hafenwasser-mit-schuss-lesung-und-fuehrung-2/
LOCATION:Deutzer Brücke\, Kreuzung Markmannsgasse & Buttermarkt\, Köln
CATEGORIES:Führung,Lesung
ATTACH;FMTTYPE=image/jpeg:https://literaturszene-koeln.de/wp-content/uploads/2025/10/Toschka.jpeg
ORGANIZER;CN="Krimi & K%C3%B6lsch":MAILTO:egbertkapischke@web.de
END:VEVENT
BEGIN:VEVENT
DTSTART;TZID=Europe/Berlin:20240904T190000
DTEND;TZID=Europe/Berlin:20240904T203000
DTSTAMP:20260422T132936
CREATED:20240902T181745Z
LAST-MODIFIED:20240902T181745Z
UID:25674-1725476400-1725481800@literaturszene-koeln.de
SUMMARY:Dagmar Maria Toschka & Reiner Lützenkirchen: Hafenwasser mit Schuss (Lesung und Konzert)
DESCRIPTION:Lesung aus „Hafenwasser mit Schuss“ und Konzert von Reiner Lützenkirchen \nMit Witz und Schlagfertigkeit wirft sich Linda Weißenberg in die Widrigkeiten ihres ungewollten Single-Daseins\, als sie bei einem Putzjob in der Deutzer Brücke eine Leiche findet. Prompt gerät sie ins Visier des Kölner Kommissars Raimund Golt\, der sie aus mehreren Gründen nicht mehr aus den Augen lässt und sie schon bald des Mordes verdächtigt. Als sich die Schlinge der Indizienkette um ihren Hals schnürt\, muss sie sich etwas einfallen lassen\, um sich daraus zu befreien.\nDiese Lesung wird untermalt mit einem Konzert des Gitarristen Reiner Lützenkirchen. \nDagmar Maria Toschka\nAm Niederrhein geboren\, machte Dagmar Maria Toschka\, nach kurzen Ausflügen in ein Kloster und ans Fließband einer Plätzchenfabrik\, das Abitur in Geldern. Sie studierte Literatur\, Pädagogik und Psychologie\, arbeitete in England\, den USA und Kanada. Später war sie als Hörfunkreporterin und im Tourismus tätig\, gab ein Reisemagazin heraus und wurde schließlich Autorin und Dozentin für kreatives Schreiben. Ihre Bücher entstehen meist am Tatort oder auf einem Boot im Kölner Hafen. Dagmar Maria Toschka beschreibt in ihren Kriminalromanen neben den Mordfällen auch außergewöhnliche Lebensentwürfe – immer mit Humor und Spannung. \nReiner Lützenkirchen\nDer Leverkusener Vollblutmusiker unterhält sein Publikum mit Folkmusik\, der Fingerstylegitarre und großen Songs der 60-70iger Jahre\, etwa von den Stones und den Beatles.  Er reißt regelmäßig die Zuhörer durch seine ganz persönlichen Interpretationen dieser Musik mit und verführt sie nicht selten zum Tanzen. \nAnsprechpartner: Egbert Kapischke 0173 – 520 24 84
URL:https://literaturszene-koeln.de/termin/dagmar-maria-toschka-reiner-luetzenkirchen-hafenwasser-mit-schuss-lesung-und-konzert/
LOCATION:Bunker K101\, Körnerstraße 101\, Köln\, 50823
CATEGORIES:Lesung mit Musik
ORGANIZER;CN="Krimi & K%C3%B6lsch":MAILTO:egbertkapischke@web.de
END:VEVENT
BEGIN:VEVENT
DTSTART;TZID=Europe/Berlin:20240614T190000
DTEND;TZID=Europe/Berlin:20240614T203000
DTSTAMP:20260422T132936
CREATED:20240527T201205Z
LAST-MODIFIED:20240527T201205Z
UID:24372-1718391600-1718397000@literaturszene-koeln.de
SUMMARY:Tartort Lesung in der Deutzer Brücke plus Führung – „Hafenwasser mit Schuss“
DESCRIPTION:Ein Brückenpfeiler der Deutzer Brücke. Der Öffentlichkeit unzugänglich. Ein Ort wie zum gruseln gemacht. Hier spielt der aktuelle Kriminalroman von Dagmar Maria Toschka\, die dort aus ihrem Buch liest. \nBegleitet wird sie dabei vom ehemaligen Chef der Hochwasserschutzabteilung der Stadtentwässerungsbetriebe\, Henning Werker\, der zu den echten Handlungsorten des Romans eine Führung gibt. \nEinlass: 18:30 Uhr \nLesungs- und Führungsbeginn: 19 Uhr \nEingang linksrheinisch an Markmannsgasse /Buttermarkt\, bitte warme Jacke mitbringen \nVeranstalter: Krimi & Kölsch \nMit Witz und Schlagfertigkeit wirft sich Linda Weißenberg in die Widrigkeiten ihres ungewollten Single-Daseins\, als sie bei einem Putzjob in der Deutzer Brücke eine Leiche findet. Prompt gerät sie ins Visier des Kölner Kommissars Raimund Golt\, der sie aus mehreren Gründen nicht mehr aus den Augen lässt und sie schon bald des Mordes verdächtigt. Als sich die Schlinge der Indizienkette um ihren Hals schnürt\, muss sie sich etwas einfallen lassen\, um sich daraus zu befreien. \nDagmar Maria Toschka \nAm Niederrhein geboren\, machte Dagmar Maria Toschka\, nach kurzen Ausflügen in ein Kloster und ans Fließband einer Plätzchenfabrik\, das Abitur in Geldern. Sie studierte Literatur\, Pädagogik und Psychologie\, arbeitete in England\, den USA und Kanada. Später war sie als Hörfunkreporterin und im Tourismus tätig\, gab ein Reisemagazin heraus und wurde schließlich Autorin und Dozentin für kreatives Schreiben. Ihre Bücher entstehen meist am Tatort oder auf einem Boot im Kölner Hafen. Dagmar Maria Toschka beschreibt in ihren Kriminalromanen neben den Mordfällen auch außergewöhnliche Lebensentwürfe – immer mit Humor und Spannung. \nAnsprechpartner: Egbert Kapischke 0173 – 520 24 84
URL:https://literaturszene-koeln.de/termin/tartort-lesung-in-der-deutzer-bruecke-plus-fuehrung-hafenwasser-mit-schuss/
LOCATION:Buttermarkt\, Buttermarkt\, Köln\, 50667
CATEGORIES:Lesung,Stadtführung
ATTACH;FMTTYPE=image/jpeg:https://literaturszene-koeln.de/wp-content/uploads/2024/05/2EFED924-C6EF-4873-86EC-BCE088067511.jpeg
ORGANIZER;CN="Krimi & K%C3%B6lsch":MAILTO:egbertkapischke@web.de
END:VEVENT
BEGIN:VEVENT
DTSTART;TZID=Europe/Berlin:20240308T193000
DTEND;TZID=Europe/Berlin:20240308T210000
DTSTAMP:20260422T132936
CREATED:20231023T174353Z
LAST-MODIFIED:20231023T174353Z
UID:20632-1709926200-1709931600@literaturszene-koeln.de
SUMMARY:LADIES CRIME NIGHT der MÖRDERISCHEN SCHWESTERN in Köln
DESCRIPTION:Große Benefizlesung am Weltfrauentag zugunsten LOBBY FÜR MÄDCHEN e. V. \n\nRasant\, spannend\, genial: Lesen bis zum Schuss! Von humorvoll bis dramatisch gehen acht Mörderische Schwestern über Leichen – in ihren Krimis und auf der Bühne! \n \nDie Ladies Crime Night verspricht einen rasanten Leseabend\, der nicht nur Krimifans und Literaturliebhaber:innen begeistert. Musikalisch umrahmt von mörderischen Songs\, schicken die Krimiautorinnen Myriane Angelowski\, Nadine Buranaseda\, Charlotte Charonne\, Edith Niedieck\, Anja Puhane\, Regina Schleheck\, Dagmar Maria Toschka\, Jutta Wilbertz das Publikum durch ein Wechselbad der Gefühle und versetzen die Besucher:innen in Situationen\, in denen das Unheil unabwendbar scheint oder eine skurrile Situation kaum noch zu überbieten ist.\n\nAcht Autorinnen lesen jeweils sechs Minuten aus einer ihrer Geschichten. Die Uhr tickt währenddessen unerbittlich. Ist die Zeit abgelaufen\, ertönt ein Schuss und die Autorin muss sofort abbrechen. Die nächste Lesende betritt die Bühne. Freuen Sie sich auf feinste Unterhaltung und Spannung bis zum Sch(l)uss. \nModeriert wird der Abend von Gabriele Hammelrath\, die den Autorinnen das ein oder andere Geheimnis entlocken wird. Ladies Crime Nights der Mörderischen Schwestern sind etwas ganz Besonderes\, selten hat man geballte mörderische Frauenpower an einem Ort. \n\nTatort: Epiphaniaskirche\, Erlenweg 39\, 50827 Köln | Beginn: 19.30 Uhr\, Einlass: 19 Uhr\nEintritt: 10\,– Euro\, die komplett an LOBBY FÜR MÄDCHEN e. V. gehen\, zzgl. 1\,50 Euro Vorverkaufsgebühren an Qultor\nMusikalische Umrahmung mit mörderischen Songs.\nModeration: Gabriele Hammelrath\, Mitglied des WDR-Rundfunkrats und ARD-Programmbeirats\nVeranstalter: Krimi & Kölsch | Egbert Kapischke | egbertkapischke@web.de | Tel.: 0173 5202484\nCopyright: Mörderische Schwestern e. V.\n\nDer Dachverband Mörderische Schwestern e. V. ist ein internationales Netzwerk\, das die von Frauen verfasste deutschsprachige Kriminalliteratur seit über 25 Jahren auf vielen Ebenen fördert. Mehr als 700 Mitglieder – hauptsächlich Autorinnen\, aber auch krimibegeisterte Leserinnen und Fachfrauen aus der Buchbranche – zählt der Verein in Deutschland\, Österreich und der Schweiz in seinen 14 sogenannten Regiogruppen.
URL:https://literaturszene-koeln.de/termin/ladies-crime-night-der-moerderischen-schwestern-in-koeln/
LOCATION:Epiphaniaskirche\, Erlenweg 39\, Köln\, 50827
CATEGORIES:Gespräche,Lesung
ATTACH;FMTTYPE=image/jpeg:https://literaturszene-koeln.de/wp-content/uploads/2023/10/0-1.jpg
ORGANIZER;CN="Krimi & K%C3%B6lsch":MAILTO:egbertkapischke@web.de
END:VEVENT
END:VCALENDAR