BEGIN:VCALENDAR
VERSION:2.0
PRODID:-//Literaturszene Köln e.V. - ECPv6.15.20//NONSGML v1.0//EN
CALSCALE:GREGORIAN
METHOD:PUBLISH
X-ORIGINAL-URL:https://literaturszene-koeln.de
X-WR-CALDESC:Veranstaltungen für Literaturszene Köln e.V.
REFRESH-INTERVAL;VALUE=DURATION:PT1H
X-Robots-Tag:noindex
X-PUBLISHED-TTL:PT1H
BEGIN:VTIMEZONE
TZID:Europe/Berlin
BEGIN:DAYLIGHT
TZOFFSETFROM:+0100
TZOFFSETTO:+0200
TZNAME:CEST
DTSTART:20220327T010000
END:DAYLIGHT
BEGIN:STANDARD
TZOFFSETFROM:+0200
TZOFFSETTO:+0100
TZNAME:CET
DTSTART:20221030T010000
END:STANDARD
BEGIN:DAYLIGHT
TZOFFSETFROM:+0100
TZOFFSETTO:+0200
TZNAME:CEST
DTSTART:20230326T010000
END:DAYLIGHT
BEGIN:STANDARD
TZOFFSETFROM:+0200
TZOFFSETTO:+0100
TZNAME:CET
DTSTART:20231029T010000
END:STANDARD
BEGIN:DAYLIGHT
TZOFFSETFROM:+0100
TZOFFSETTO:+0200
TZNAME:CEST
DTSTART:20240331T010000
END:DAYLIGHT
BEGIN:STANDARD
TZOFFSETFROM:+0200
TZOFFSETTO:+0100
TZNAME:CET
DTSTART:20241027T010000
END:STANDARD
END:VTIMEZONE
BEGIN:VEVENT
DTSTART;TZID=Europe/Berlin:20231101T153000
DTEND;TZID=Europe/Berlin:20231101T160000
DTSTAMP:20260425T132357
CREATED:20231030T200504Z
LAST-MODIFIED:20231030T200504Z
UID:20707-1698852600-1698854400@literaturszene-koeln.de
SUMMARY:[homochrom] Kira Marie Jockers liest Poetry-Slam-Texte
DESCRIPTION:Kira Marie Jockers\nist 23 Jahre alt und studiert Deutsche Sprache und Literatur sowie Philosophie in Köln. Seit einigen Jahren tritt sie auf Theater- und Poetry-Slam-Bühnen auf. 2019 erhielt sie den Scheffelpreis für besondere sprachliche und literarische Kenntnisse\, wodurch sie Mitglied der literarischen Gesellschaft in Karlsruhe wurde. Mit einem Slam-Video war sie beim diesjährigen FiSH-Filmfestival in Rostock nominiert.\nInstagram: kiraistkeinhundename\n\n\n\n»Die gesellschaftliche Kreativität\nhat nur für zwei Konstrukte gereicht«\nEin kurzes Set aus mehreren Slam-Texten\, lyrisch und kämpferisch.\n»Von Scham und Haar« basiert auf verächtlichen Blicken\, die zu der Überlegung führen\, sich nicht mehr die Achselhöhlen zu rasieren. Kannst du auch als Lyrikvideo schauen.\nAuch der prosaische Text »Patriarschat« sowie das Gedicht »Nach dem Mann« behandeln die Idee\, das binäre System zu sprengen. Wir sind mehr als nur Mann und Frau\, mehr als Zwei auf dieser Erde.\nDas Gedicht »Zuckerbrot und Peitsche« thematisiert hingegen Nietzsches Misogynie\, welche durch die Schönheit eines queeren Erwachens kompensiert wird.
URL:https://literaturszene-koeln.de/termin/homochrom-kira-marie-jockers-liest-poetry-slam-texte/
LOCATION:lifelab\, Ebertplatz 23\, Köln\, 50668
CATEGORIES:Lesung
END:VEVENT
BEGIN:VEVENT
DTSTART;TZID=Europe/Berlin:20231031T190000
DTEND;TZID=Europe/Berlin:20231031T203000
DTSTAMP:20260425T132357
CREATED:20231030T200128Z
LAST-MODIFIED:20231030T200128Z
UID:20704-1698778800-1698784200@literaturszene-koeln.de
SUMMARY:[homochrom] Marija Bakker spricht mit Peer Jongeling über ihren Comicroman »Emil:ia«
DESCRIPTION:Journalistin Marija Bakker spricht mit der Comic-Autorin Peer Jongeling über ihr Buch\, dessen semi-autobiografische Erzählung neben dem inneren Erleben von Identitätsfragen auch das sensible\, bisher stärker tabuisierte Thema Detransition behandelt – ein Abend in Kooperation mit der Stadtbibliothek Köln. \n\n\nPeer Jongeling\nDie Comiczeichnerin wurde 1996 in Bremen geboren und studierte Kommunikationsdesign und Storytelling in Düsseldorf und Brüssel. Ihre Werke behandeln Themen wie Geschlecht\, LGBT+ und Feminismus. Nach ihrem ausgezeichneten Kurzcomic »Hattest du eigentlich schon die Operation« (2020) erschien 2022 mit »Emil:ia« ihre erste längere Graphic Novel. Aktuell arbeitet sie als selbstständige Illustratorin\, gibt Workshops und Lesungen und ist stets in neue Comicprojekte involviert.\nHomepage: peerjongeling.de\nInstagram: peerjongeling  \nMarija Bakker\ngeboren 1972\, ist freie Journalistin. Sie arbeitet für diverse Wissenschafts- und Literaturmagazine des NDR und WDR und moderiert Sendungen\, die sowohl Kinder als auch Erwachsene auf unterhaltsame Art und Weise informieren. Ihre besondere Liebe gilt dem Radio\, wo sie auf WDR 5 unter anderem »Quarks«\, »Bücher\, das Literaturmagazin« und das »Hörbuchmagazin« präsentiert.\nHomepage: bakker-moderation.de \n\n\n\n\n\n\n\n\n»Emil:ia«\nDer introvertierte Transmann Emil fühlt sich in seinem weiblichen Körper nicht zuhause und befindet sich auf dem Weg einer Transition in sein eigenes Geschlecht\, der durch Zweifel und den Austausch mit seinem besten Freund Ari geprägt ist. Hinzu kommt die neue Mitbewohnerin Lisa\, die in Emils Augen wunderschön und selbstbewusst ist\, aber seine Welt komplett auf den Kopf stellt. Was genau steckt eigentlich hinter seiner Geschlechtsidentität? Was kann eine Operation verändern? Und wie geht man damit um\, vielleicht einen riesigen Fehler gemacht zu haben?\nMit grafischem Stil und ausdrucksstarkem Charakterdesign erzählt der Comic halb fiktiv\, halb autobiografisch von einer Transition\, einer Detransition und einer Rückkehr in ein neues Leben. Was bedeutet es eigentlich\, eine Frau zu sein?  \nDie 164-seitige Graphic Novel »Emil:ia« von Peer Jongeling erschien im März 2022 beim Jaja Verlag.
URL:https://literaturszene-koeln.de/termin/homochrom-marija-bakker-spricht-mit-peer-jongeling-ueber-ihren-comicroman-emilia/
LOCATION:Stadtbibliothek Köln\, Josef-Haubrich-Hof 1\, Köln\, 50676\, Deutschland
CATEGORIES:Gespräche,Lesung
ATTACH;FMTTYPE=image/jpeg:https://literaturszene-koeln.de/wp-content/uploads/2023/10/Tongeling_Emilia.jpg
END:VEVENT
BEGIN:VEVENT
DTSTART;VALUE=DATE:20231027
DTEND;VALUE=DATE:20231106
DTSTAMP:20260425T132357
CREATED:20230919T135143Z
LAST-MODIFIED:20230919T135143Z
UID:20433-1698364800-1699228799@literaturszene-koeln.de
SUMMARY:3. Litfest homochrom
DESCRIPTION:Das Litfest homochrom in Köln ist das größte Festival für queere Literatur im deutschsprachigen Raum. Diesen Herbst geht es in die dritte Runde und wird dabei nicht nur vielfältiger\, sondern findet zum ersten Mal auch im Literaturhaus statt. Neben abwechslungsreichen Autor*innen-Lesungen bietet das Festival moderierte Gespräche\, Lesekreise\, einen Poetry-Slam sowie einige überraschende Literatur-Events. \nMehr Infos ab Ende September unter: www.homochrom.de/litfest \nGefördert durch das Ministerium für Kultur und Wissenschaft des Landes Nordrhein-Westfalen \nVeranstaltungspartner: homochrom e.V.
URL:https://literaturszene-koeln.de/termin/3-litfest-homochrom/
CATEGORIES:Festival
ATTACH;FMTTYPE=image/jpeg:https://literaturszene-koeln.de/wp-content/uploads/2023/09/Logo-Banner-Litfest-2023.jpg
END:VEVENT
END:VCALENDAR