BEGIN:VCALENDAR
VERSION:2.0
PRODID:-//Literaturszene Köln e.V. - ECPv6.15.20//NONSGML v1.0//EN
CALSCALE:GREGORIAN
METHOD:PUBLISH
X-WR-CALNAME:Literaturszene Köln e.V.
X-ORIGINAL-URL:https://literaturszene-koeln.de
X-WR-CALDESC:Veranstaltungen für Literaturszene Köln e.V.
REFRESH-INTERVAL;VALUE=DURATION:PT1H
X-Robots-Tag:noindex
X-PUBLISHED-TTL:PT1H
BEGIN:VTIMEZONE
TZID:Europe/Berlin
BEGIN:DAYLIGHT
TZOFFSETFROM:+0100
TZOFFSETTO:+0200
TZNAME:CEST
DTSTART:20200329T010000
END:DAYLIGHT
BEGIN:STANDARD
TZOFFSETFROM:+0200
TZOFFSETTO:+0100
TZNAME:CET
DTSTART:20201025T010000
END:STANDARD
BEGIN:DAYLIGHT
TZOFFSETFROM:+0100
TZOFFSETTO:+0200
TZNAME:CEST
DTSTART:20210328T010000
END:DAYLIGHT
BEGIN:STANDARD
TZOFFSETFROM:+0200
TZOFFSETTO:+0100
TZNAME:CET
DTSTART:20211031T010000
END:STANDARD
BEGIN:DAYLIGHT
TZOFFSETFROM:+0100
TZOFFSETTO:+0200
TZNAME:CEST
DTSTART:20220327T010000
END:DAYLIGHT
BEGIN:STANDARD
TZOFFSETFROM:+0200
TZOFFSETTO:+0100
TZNAME:CET
DTSTART:20221030T010000
END:STANDARD
BEGIN:DAYLIGHT
TZOFFSETFROM:+0100
TZOFFSETTO:+0200
TZNAME:CEST
DTSTART:20230326T010000
END:DAYLIGHT
BEGIN:STANDARD
TZOFFSETFROM:+0200
TZOFFSETTO:+0100
TZNAME:CET
DTSTART:20231029T010000
END:STANDARD
END:VTIMEZONE
BEGIN:VEVENT
DTSTART;TZID=Europe/Berlin:20221006T200000
DTEND;TZID=Europe/Berlin:20221006T210000
DTSTAMP:20260422T175323
CREATED:20220922T180618Z
LAST-MODIFIED:20221006T181845Z
UID:18879-1665086400-1665090000@literaturszene-koeln.de
SUMMARY:Henriette Kaiser: Goethe in Buenos Aires
DESCRIPTION:Die Heimat konnten sie uns rauben. Unsere Kultur und Sprache aber nicht. \nAllerletzte Zeitzeugen erzählen\, wie sie als deutsch-jüdische Kinder mit ihren Eltern vor Hitler nach Buenos Aires geflohen sind und sich in Argentinien ein neues Leben aufgebaut haben. Eindrucksvoll vermittelt sich\, welche Auswirkungen die Flucht auf sie und ihre Familien hatte\, und wie sie trotzdem eine lebensfrohe Zuversicht bis ins höchste Alter bewahren konnten. \nHenriette Kaiser\, 1961 in München geboren\, ist Drehbuchautorin\, Regisseurin und Autorin.
URL:https://literaturszene-koeln.de/termin/henriette-kaiser-goethe-in-buenos-aires/
LOCATION:Freiraum e.V.\, Gottesweg 116 a\, Köln\, 50969\, Deutschland
ORGANIZER;CN="Freiraum e.V.":MAILTO:freiraum@protect-data.de
END:VEVENT
BEGIN:VEVENT
DTSTART;TZID=Europe/Berlin:20220925T110000
DTEND;TZID=Europe/Berlin:20220925T123000
DTSTAMP:20260422T175323
CREATED:20220919T180252Z
LAST-MODIFIED:20220925T180224Z
UID:18863-1664103600-1664109000@literaturszene-koeln.de
SUMMARY:Märchenstunde – Der Froschkönig oder: Der treue Heinrich
DESCRIPTION:Mit dem mutigen und beherzten Tänzer René Menges aus Hamburg\, dem fesselnden Erzähler Philipp Layer aus Münchhausen und dem herzvollen Musiker am Klavier Reinhard Schmitz aus Sülz/Klettenberg werden hier Brüder Grimms Märchen in frischer Form\, originalgetreu und familienfreundlich auf die Bühne gebracht. \nRené Menges | Tanz \nPhilipp Layer | Erzähler \nReinhard Schmitz | Klavier \nWir laden herzlich ein
URL:https://literaturszene-koeln.de/termin/maerchenstunde-der-froschkoenig-oder-der-treue-heinrich/
LOCATION:Freiraum e.V.\, Gottesweg 116 a\, Köln\, 50969\, Deutschland
CATEGORIES:Lesung mit Musik,Vorführung
ATTACH;FMTTYPE=image/jpeg:https://literaturszene-koeln.de/wp-content/uploads/2022/09/maerchenstunde-DFVXYj.tmp_.jpg
ORGANIZER;CN="Freiraum e.V.":MAILTO:freiraum@protect-data.de
END:VEVENT
BEGIN:VEVENT
DTSTART;TZID=Europe/Berlin:20220910T200000
DTEND;TZID=Europe/Berlin:20220910T213000
DTSTAMP:20260422T175323
CREATED:20220718T152020Z
LAST-MODIFIED:20220910T174756Z
UID:18448-1662840000-1662845400@literaturszene-koeln.de
SUMMARY:zeitenwunde: Anke Glasmacher & Sabine Schiffner
DESCRIPTION:Ein Abend mit lyrischen Texten zum aktuellen Zeitgeschehen. Anke Glasmacher liest aus dem 2014 im Elif Verlage erschienenen Gedichtband „Zwanzig / Vierzehn: Ein Nachrichtenjahr“\, in dem sie die täglichen Ereignisse der Zeit poetisch protokolliert hat\, zu denen vor allem und über Wochen die russischen Unruhen in der Ukraine gehörten. \nSabine Schiffner wird aus ihrem im März erschienenen Gedichtband „wundern“ u. a. einen Zyklus von Gedichten lesen\, die während einer Reise durch die Ukraine entstanden sind. \n  \n \n©Kerstin Nieke \n 
URL:https://literaturszene-koeln.de/termin/zeitenwunde-anke-glasmacher-sabine-schiffner/
LOCATION:Freiraum e.V.\, Gottesweg 116 a\, Köln\, 50969\, Deutschland
CATEGORIES:Gespräche,Lesung
ORGANIZER;CN="Freiraum e.V.":MAILTO:freiraum@protect-data.de
END:VEVENT
BEGIN:VEVENT
DTSTART;TZID=Europe/Berlin:20220827T200000
DTEND;TZID=Europe/Berlin:20220827T213000
DTSTAMP:20260422T175323
CREATED:20220718T152000Z
LAST-MODIFIED:20220827T171937Z
UID:18444-1661630400-1661635800@literaturszene-koeln.de
SUMMARY:Petra Reategui und Dorothea Renckhoff: Sturzgeburt und Asche
DESCRIPTION:Zwei literarische Stimmen zu Kriegserfahrungen: Petra Reategui liest aus ihrem neuen Roman „Sturzgeburt“: Als sein Volk nach Sibirien verbannt wird\, flieht ein Kalmücke mit der Wehrmacht nach Deutschland und gerät in die Wirren der Nachkriegszeit. \nDorothea Renckhoff liest Texte und Gedichte zum Thema Bombenkrieg aus Sicht der Zivilbevölkerung. \n   \nEine Veranstaltung im Rahmen des Sonderprogramms „Aufgeschlagen!“ des Landes Nordrhein-Westfalen.
URL:https://literaturszene-koeln.de/termin/petra-reategui-und-dorothea-renckhoff-sturzgeburt-und-asche/
LOCATION:Freiraum e.V.\, Gottesweg 116 a\, Köln\, 50969\, Deutschland
CATEGORIES:Gespräche,Lesung
ORGANIZER;CN="Freiraum e.V.":MAILTO:freiraum@protect-data.de
END:VEVENT
BEGIN:VEVENT
DTSTART;TZID=Europe/Berlin:20220821T150000
DTEND;TZID=Europe/Berlin:20220821T170000
DTSTAMP:20260422T175323
CREATED:20220718T151959Z
LAST-MODIFIED:20220821T171804Z
UID:18443-1661094000-1661101200@literaturszene-koeln.de
SUMMARY:Jörg Wolfradt: Wasseralarm oder: Der Fall Max
DESCRIPTION:Große Aufregung im Großen Haus. Als sein Goldfisch Max eines Morgens tot an der Wasseroberfläche treibt\, hat der neunjährige Anton eine schlimme Ahnung: Max ist vergiftet worden. Schnell ist ihm und seinen beiden Detektivfreunden Jule und Primel klar: Der Täter lebt in unmittelbarer Nachbarschaft … \nIn seiner Kinderkrimi-Lesung geht Jörg Wolfradt gemeinsam mit den jungen Zuhörer*innen der Frage nach\, was man für eine gute Geschichte braucht\, wie Spannung in einer Geschichte entsteht. Illustriert wird dies in einer Beamer-Präsentation anhand kleiner Filmausschnitte. \n \nEine Veranstaltung im Rahmen des Sonderprogramms „Aufgeschlagen!“ des Landes Nordrhein-Westfalen.
URL:https://literaturszene-koeln.de/termin/joerg-wolfradt-wasseralarm-oder-der-fall-max/
LOCATION:Freiraum e.V.\, Gottesweg 116 a\, Köln\, 50969\, Deutschland
CATEGORIES:Gespräche,Lesung
ORGANIZER;CN="Freiraum e.V.":MAILTO:freiraum@protect-data.de
END:VEVENT
BEGIN:VEVENT
DTSTART;TZID=Europe/Berlin:20220729T200000
DTEND;TZID=Europe/Berlin:20220729T213000
DTSTAMP:20260422T175323
CREATED:20220719T151751Z
LAST-MODIFIED:20220729T160301Z
UID:18451-1659124800-1659130200@literaturszene-koeln.de
SUMMARY:Lyrik & Jazz: Gerd Dudek & die Lyrik von Ingeborg Drews
DESCRIPTION:Die 2019 verstorbene Kölner Lyrikerin und Künstlerin Ingeborg Drews las vor wenigen Jahren noch live im Freiraum zur Jazzmusik von Gerd Dudek und Ali Haurand.  Mit einem Konzert- und Lesungsabend extraordinaire setzen wir diese gute Freiraum-Tradition von „Lyrik & Jazz” fort.Begleitet von Gerd Dudek am Saxofon und Hagen Horn an der Gitarre trägt Ina Hoerner-Theodor Texte von Ingeborg Drews aus dem kürzlich erschienenen Gedichtband „Kaleidoskop“ vor.  Dazu berichtet die Literaturwissenschaftlerin Prof. Gertrude Cepl-Kaufmann über das historische Umfeld der Kölner Künstlerin. \nGerd Dudek | SaxofonIna Hoerner-Theodor | RezitationHagen Horn | Gitarre\, Moderation
URL:https://literaturszene-koeln.de/termin/lyrik-jazz-gerd-dudek-die-lyrik-von-ingeborg-drews/
LOCATION:Freiraum e.V.\, Gottesweg 116 a\, Köln\, 50969\, Deutschland
CATEGORIES:Lesung mit Musik
ORGANIZER;CN="Freiraum e.V.":MAILTO:freiraum@protect-data.de
END:VEVENT
BEGIN:VEVENT
DTSTART;TZID=Europe/Berlin:20220514T200000
DTEND;TZID=Europe/Berlin:20220514T220000
DTSTAMP:20260422T175323
CREATED:20220412T153943Z
LAST-MODIFIED:20220511T180452Z
UID:17969-1652558400-1652565600@literaturszene-koeln.de
SUMMARY:Bettina Dorn: Blütenlese
DESCRIPTION:Eine lebendige\, humorvolle Retrospektive über eine Zeit der Ideen und der Überlebenskunst aus Mutter-Tochter-Perspektive. Eingebunden in eine Hommage an die Lebensfreude im Colorit der Künstlerszene der 70er Jahre. \nMit Texten von Bettina Dorn (u. a. aus „Pipa’s Boheme de Cologne“) und der verstorbenen Autorin Anne Dorn aus dieser buntbewegten Zeit sowie einem musikalischen Überraschungsgast.
URL:https://literaturszene-koeln.de/termin/bettina-dorn-bluetenlese/
LOCATION:Freiraum e.V.\, Gottesweg 116 a\, Köln\, 50969\, Deutschland
CATEGORIES:Lesung mit Musik
ORGANIZER;CN="Freiraum e.V.":MAILTO:freiraum@protect-data.de
END:VEVENT
BEGIN:VEVENT
DTSTART;TZID=Europe/Berlin:20220513T200000
DTEND;TZID=Europe/Berlin:20220513T220000
DTSTAMP:20260422T175323
CREATED:20220412T153943Z
LAST-MODIFIED:20220511T180452Z
UID:17968-1652472000-1652479200@literaturszene-koeln.de
SUMMARY:Fluchtzustand – Lyrik und Lieder
DESCRIPTION:Drei Fluchtgeschichten verflechten sich in Agnieszka Lessmanns Lyrikband „Fluchtzustand“ ineinander:\ndie Flucht ihrer jüdischen Großeltern aus dem von der deutschen Wehrmacht besetzten Lodz im Jahr 1940\, ihre eigene\, durch eine antisemitische Kampagne veranlasste Ausreise aus Polen im Jahr 1968 sowie ihre Begegnung mit Menschen\, die im Herbst 2015 nach Deutschland flohen. \nDas Vocalensemble 5 grad schafft mit a capella vorgetragenen Liedern von Felix Mendelssohn bis zu den Comedian Harmonists einen vielschichtigen Klangraum\, in dem die Gedichte und Lieder berührende Überschneidungen zwischen alten und neuen Versen von Flucht und Ankommen\, Sehnsucht und Zuwendung entfalten.
URL:https://literaturszene-koeln.de/termin/fluchtzustand-lyrik-und-lieder/
LOCATION:Freiraum e.V.\, Gottesweg 116 a\, Köln\, 50969\, Deutschland
CATEGORIES:Lesung mit Musik
ORGANIZER;CN="Freiraum e.V.":MAILTO:freiraum@protect-data.de
END:VEVENT
BEGIN:VEVENT
DTSTART;TZID=Europe/Berlin:20220510T200000
DTEND;TZID=Europe/Berlin:20220510T213000
DTSTAMP:20260422T175323
CREATED:20220412T153921Z
LAST-MODIFIED:20220510T180206Z
UID:17964-1652212800-1652218200@literaturszene-koeln.de
SUMMARY:Wolfgang Schiffer: Dass die Erde einen Buckel werfe
DESCRIPTION:Nach Jahren des literarischen Schweigens hat der Autor\, Herausgeber und Übersetzer Wolfgang Schiffer\nein kleines\, neues lyrisches Werk veröffentlicht: eine Erinnerung an Kindheit\, Eltern und die Landschaft\, die ihn prägte. Eine Erinnerung\, aus der zugleich eine Klage erwächst über den Zustand der Welt. \nDie Lesung aus seinem Buch ergänzt der Autor mit der Präsentation isländischer Poesie\, die in der Übertragung des Übersetzer-Duos Gíslason Schiffer im letzten und aktuell in diesem Jahr erschienen ist.
URL:https://literaturszene-koeln.de/termin/wolfgang-schiffer-dass-die-erde-einen-buckel-werfe/
LOCATION:Freiraum e.V.\, Gottesweg 116 a\, Köln\, 50969\, Deutschland
CATEGORIES:Lesung
ORGANIZER;CN="Freiraum e.V.":MAILTO:freiraum@protect-data.de
END:VEVENT
BEGIN:VEVENT
DTSTART;TZID=Europe/Berlin:20220423T200000
DTEND;TZID=Europe/Berlin:20220423T213000
DTSTAMP:20260422T175323
CREATED:20220310T141926Z
LAST-MODIFIED:20220423T163425Z
UID:17828-1650744000-1650749400@literaturszene-koeln.de
SUMMARY:Schellack – Der Stift hungert nach Formen
DESCRIPTION:Karin Posth\, Adrienne Brehmer und Dorothee Hövel-Kleibrink bringen eine Auswahl ihrer Wort-Malereien zu Gehör und freuen sich auf einen regen Gedankenaustausch.
URL:https://literaturszene-koeln.de/termin/schellack-der-stift-hungert-nach-formen/
LOCATION:Freiraum e.V.\, Gottesweg 116 a\, Köln\, 50969\, Deutschland
CATEGORIES:Lesung
ORGANIZER;CN="Freiraum e.V.":MAILTO:freiraum@protect-data.de
END:VEVENT
BEGIN:VEVENT
DTSTART;TZID=Europe/Berlin:20220403T200000
DTEND;TZID=Europe/Berlin:20220403T210000
DTSTAMP:20260422T175323
CREATED:20220310T141925Z
LAST-MODIFIED:20220403T144725Z
UID:17827-1649016000-1649019600@literaturszene-koeln.de
SUMMARY:Verse im Freiraum
DESCRIPTION:Kontinentaldrift: Das Schwarze Europa – Texte aus der Schwarzen Diaspora zwischen Afrika und Europa. \nAusgewählt und gelesen von Norbert Klein
URL:https://literaturszene-koeln.de/termin/verse-im-freiraum-2/
LOCATION:Freiraum e.V.\, Gottesweg 116 a\, Köln\, 50969\, Deutschland
CATEGORIES:Lesung
ORGANIZER;CN="Freiraum e.V.":MAILTO:freiraum@protect-data.de
END:VEVENT
BEGIN:VEVENT
DTSTART;TZID=Europe/Berlin:20220320T200000
DTEND;TZID=Europe/Berlin:20220320T213000
DTSTAMP:20260422T175323
CREATED:20220310T141840Z
LAST-MODIFIED:20220320T143328Z
UID:17823-1647806400-1647811800@literaturszene-koeln.de
SUMMARY:Verse im Freiraum
DESCRIPTION:Neue Gedichte von Inger Christensen aus dem Nachlass.Ausgewählt und gelesen von Norbert Klein
URL:https://literaturszene-koeln.de/termin/verse-im-freiraum/
LOCATION:Freiraum e.V.\, Gottesweg 116 a\, Köln\, 50969\, Deutschland
CATEGORIES:Lesung
ORGANIZER;CN="Freiraum e.V.":MAILTO:freiraum@protect-data.de
END:VEVENT
BEGIN:VEVENT
DTSTART;TZID=Europe/Berlin:20211125T200000
DTEND;TZID=Europe/Berlin:20211125T213000
DTSTAMP:20260422T175323
CREATED:20211103T193316Z
LAST-MODIFIED:20211125T200238Z
UID:17366-1637870400-1637875800@literaturszene-koeln.de
SUMMARY:[Abgesagt] Linda Vilhjálmsdóttir & Fríða Ísberg
DESCRIPTION:– Die Veranstaltung muss leider abgesagt werden und wird im nächsten Jahr nachgeholt – \nZwei Lyrikerinnen aus Island\, eine der angesehensten Dichterinnen des Landes und ein vielversprechendes Talent\, legen mit „das kleingedruckte“ und\n„Lederjackenwetter“neue Gedichtbände in deutschsprachiger Übertragung vor und belegen die Vielfalt der lyrischen Facetten auf der Insel im Nordatlantik. \nDer Kölner Autor und Übersetzer Wolfgang Schiffer porträtiert die beiden Schriftstellerinnen und stellt ihre Gedichtbände vor (erschienen im Elif Verlag).
URL:https://literaturszene-koeln.de/termin/linda-vilhjalmsdottir-frida-isberg/
LOCATION:Freiraum e.V.\, Gottesweg 116 a\, Köln\, 50969\, Deutschland
ATTACH;FMTTYPE=image/jpeg:https://literaturszene-koeln.de/wp-content/uploads/2021/11/pic_elif_1-gJmXrp.tmp_.jpg
ORGANIZER;CN="Freiraum e.V.":MAILTO:freiraum@protect-data.de
END:VEVENT
BEGIN:VEVENT
DTSTART;TZID=Europe/Berlin:20211003T200000
DTEND;TZID=Europe/Berlin:20211003T213000
DTSTAMP:20260422T175323
CREATED:20210916T202343Z
LAST-MODIFIED:20211003T204903Z
UID:17175-1633291200-1633296600@literaturszene-koeln.de
SUMMARY:Verse im Freiraum: Gedichte von César Vallejo
DESCRIPTION:Gedichte von César Vallejo.\nAusgewählt und gelesen von Norbert Klein
URL:https://literaturszene-koeln.de/termin/verse-im-freiraum-gedichte-von-cesar-vallejo/
LOCATION:Freiraum e.V.\, Gottesweg 116 a\, Köln\, 50969\, Deutschland
CATEGORIES:Lesung
ORGANIZER;CN="Freiraum e.V.":MAILTO:freiraum@protect-data.de
END:VEVENT
BEGIN:VEVENT
DTSTART;TZID=Europe/Berlin:20210919T110000
DTEND;TZID=Europe/Berlin:20210919T123000
DTSTAMP:20260422T175323
CREATED:20210916T201830Z
LAST-MODIFIED:20210919T201807Z
UID:17167-1632049200-1632054600@literaturszene-koeln.de
SUMMARY:[ABGESAGT] Christian Pradel & Tom Wilke: Katerfrühstück
DESCRIPTION:– Die Veranstaltung musste leider abgesagt werden – \n  \nZum 101. Geburtstag von Charles Bukowski (1920-1994) soll eine andere Seite dieses Kultdichters\, der bekannt wurde durch seine Geschichten über Sex und Alkohol\, beleuchtet werden. Seine pointierten\, lakonischen Texte bergen manchmal in einem einzigen Nebensatz wahre Erkenntnis. Der saloppe\, lockere Bukowski-Ton dringt schnell in Herz und Hirn und verleiht dem Abend ganz eigene humorvolle Note. Dazu Musik von einem anderen amerikanischen Genie\, Lou Reed\, der zunächst mit Velvet Underground Musikgeschichte schrieb\, danach in seinen Songs immer wieder mit unverwechselbarem Sprechgesang die amerikanische Gesellschaft kritisiert hat.\nRezitation & Musik: Christian Pradel\nKontrabass: Tom Wilke \nBitte melden Sie sich auch weiterhin ausschließlich per Email im Freiraum an und beachten Sie bitte die gebotenen Coronaregeln. \nEintritt 15 €\nzu reservieren unter:\nFreiraum 0221 / 823 12 40\, per mail über: freiraum@protect-data.de
URL:https://literaturszene-koeln.de/termin/christian-pradel-tom-wilke-katerfruehstueck/
LOCATION:Freiraum e.V.\, Gottesweg 116 a\, Köln\, 50969\, Deutschland
CATEGORIES:Lesung mit Musik
ATTACH;FMTTYPE=image/png:https://literaturszene-koeln.de/wp-content/uploads/2021/09/bukowski-Tquo2M.tmp_.png
ORGANIZER;CN="Freiraum e.V.":MAILTO:freiraum@protect-data.de
END:VEVENT
BEGIN:VEVENT
DTSTART;TZID=Europe/Berlin:20210909T200000
DTEND;TZID=Europe/Berlin:20210909T213000
DTSTAMP:20260422T175323
CREATED:20210830T201735Z
LAST-MODIFIED:20210909T201901Z
UID:17111-1631217600-1631223000@literaturszene-koeln.de
SUMMARY:Angelika Overath: Krautwelten
DESCRIPTION:„Kraut und Kohl\, früher als Notgemüse der Armen verschrien\, haben die Keller und Kohlmieten hinter sich gelassen und sind bis in die Hipster-Lofts von London und die Feinschmeckerlokale Berlins aufgestiegen: Federkraut und Pak Choi\, Weißkraut\, Wirsing und Brokkoli werden heute als »Superfood« gefeiert.\nVom Millionen Jahre alten Kerguelenkohl\, dem eleganten Filderkraut bis zu den Flower Sprouts der jüngsten Züchtungen führt Angelika Overath durch eine kleine Kulturgeschichte dieser Gemüse-Wohltäter. Sie vergegenwärtigt die legendäre Heilwirkung der Pflanze\, die seit der Antike überliefert wird\, und erinnert an James Cooks Südsee-Expeditionen\, deren Erfolg sich dem Sauerkraut verdankte. Sie verrät erprobte Rezepte gegen Arthrose und zur Gewichtsreduktion\, erzählt von persönlichen Krauterlebnissen und widmet sich in liebevollen Porträts der Schönheit und dem besonderen Wesen von Kohlpflanzen\,“ \nEintritt 12 € \nWir laden herzlich ein.\nBitte beachten Sie die aktuellen Coronaregeln.\nAnmeldung per mail über: freiraum@protect-data.de
URL:https://literaturszene-koeln.de/termin/angelika-overath-krautwelten/
LOCATION:Freiraum e.V.\, Gottesweg 116 a\, Köln\, 50969\, Deutschland
CATEGORIES:Lesung
ATTACH;FMTTYPE=image/jpeg:https://literaturszene-koeln.de/wp-content/uploads/2021/08/krautwelten_9783458195047_cover-cXQRS5.tmp_.jpg
ORGANIZER;CN="Freiraum e.V.":MAILTO:freiraum@protect-data.de
END:VEVENT
BEGIN:VEVENT
DTSTART;TZID=Europe/Berlin:20210905T200000
DTEND;TZID=Europe/Berlin:20210905T210000
DTSTAMP:20260422T175323
CREATED:20210830T201726Z
LAST-MODIFIED:20210905T201759Z
UID:17107-1630872000-1630875600@literaturszene-koeln.de
SUMMARY:Verse im Freiraum – Gedichte von Elizabeth Bishop
DESCRIPTION:Verse im Freiraum:\nGedichte von Elizabeth Bishop. \nAusgewählt und gelesen von Norbert Klein. \nBitte beachten Sie die aktuellen Coroanregelungen\nAnmeldung per mail über: freiraum@protect-data.de
URL:https://literaturszene-koeln.de/termin/verse-im-freiraum-gedichte-von-elizabeth-bishop/
LOCATION:Freiraum e.V.\, Gottesweg 116 a\, Köln\, 50969\, Deutschland
CATEGORIES:Lesung
ORGANIZER;CN="Freiraum e.V.":MAILTO:freiraum@protect-data.de
END:VEVENT
END:VCALENDAR